{"text_format":"1","workbook":"xlsx","n_sheets":17,"sheets":["Terv-segédlet","KvZsz","V","Gy","K","Mk","M","P","Zs","bank","mérleg1","bizonylatok","leltár","leltár2","tranzakciók","össz","info"],"not_rendered":{"charts":0,"images":0,"macros":1,"external_links":0,"defined_names":44,"comments":10,"pivot_tables":0},"unopened":[],"bounds":{"document_bytes":16777216,"sheet_cells":100000,"rows_first":2000,"rows_last":500,"rows_between":2000,"halvings":0,"cell_chars":16384,"cell_head_chars":4096},"cells_cut":0,"cells_raw":0,"read":"whole","date_system":"1900"}

{"sheet":"Terv-segédlet","index":0,"n_rows":129,"n_cols":14,"rows_kept":129,"cut":false,"hidden":false,"merged":[[117,0,117,10],[3,0,3,2],[104,0,104,10],[0,1,0,10],[113,0,113,10],[98,0,98,10]]}
[2016,{"$f":"\"A Vadosfai Evangélikus Egyházközség \"&A1&\". évi költségvetése\"","v":"A Vadosfai Evangélikus Egyházközség 2016. évi költségvetése"},null,null,null,null,null,null,null,null,null,{"$f":"L4+L30","v":441175.05882352963}]
[{"$f":"DATEVALUE(A1&\".12.31\")","v":42735},null,null,null,"Vadosfa","Gyóró","Kisfalud","Magyarkeresztúr","Mihályi","Potyond","Zsebeháza"]
[null,null,null,null,{"$f":"KvZsz!U223","v":-5085434.9411764704},{"$f":"KvZsz!V223","v":328740},{"$f":"KvZsz!W223","v":729810},{"$f":"KvZsz!X223","v":2306430},{"$f":"KvZsz!Y223","v":1564630},{"$f":"KvZsz!Z223","v":246500},{"$f":"KvZsz!AA223","v":350500}]
["Bevételek",null,null,null,{"$f":"KvZsz!U10","v":594000},{"$f":"KvZsz!V10","v":374000},{"$f":"KvZsz!W10","v":861500},{"$f":"KvZsz!X10","v":7559000},{"$f":"KvZsz!Y10","v":2366000},{"$f":"KvZsz!Z10","v":276500},{"$f":"KvZsz!AA10","v":496500},{"$f":"SUM(L5:L29)","v":12527500}]
[]
[null,"k004","ingatlan bérbeadás Ft/év",null,null,{"$f":"F7*12","v":180000},null,{"$f":"H7*12","v":180000},{"$f":"I7*12","v":480000},null,null,{"$f":"SUM(E6:K6)","v":840000}]
[null,null,"lakbér Ft/hó",null,null,15000,null,15000,40000]
[null,"k004","földbérlet",null,37000,null,null,10000,6000,null,null,{"$f":"SUM(E8:K8)","v":53000}]
[null,null,"bevétel pályázatból"]
[null,"k020","EMMI pályázat",null,null,null,null,5000000,null,null,null,5000000]
[null,null,"egyházi beruházási támogatás"]
[null,"k029","ehm.-i építési támogatás",null,null,null,null,1000000,null,null,null,1000000]
[null,"k029","GAS póttámogatás",null,null,null,null,null,null,null,null,0]
[null,"k041","Önkormányzati támogatás",null,null,null,null,null,null,null,null,0]
[null,"k049","egyházfenntartás",null,297000,168000,670000,469000,1300000,220000,436000,3560000]
[null,"k050","adomány",null,20000,null,10000,30000,50000,null,null,110000]
[null,"k051","perselypénz",null,150000,20000,120000,300000,400000,50000,50000,1090000]
[null,"k052","céladomány",null,null,null,null,500000,null,null,null,500000]
[null,"k054","továbbítandó (offertórium, GAS, szuppl.)",null,{"$f":"SUM(E21:E23)","v":80000},{"$f":"SUM(F21:F23)","v":5000},60000,{"$f":"SUM(H21:H23)","v":60000},120000,5000,8000,338000]
[null,null,"köt. off. alkalom",null,4,2,4,4,8,2,3]
[null,null,"köt. off. - Ft",null,20000,5000,60000,60000,120000,5000,8000]
[null,null,"szupplikáció - Ft",null,40000,0,0,0,0,0,0]
[null,null,"GAS - Ft",null,20000]
[null,"k057","Kamatok",null,{"$f":"ROUND(E25*E26,0)","v":10000},{"$f":"ROUND(F25*F26,0)","v":1000},1500,10000,10000,1500,2500,36500]
[null,null,"betét - Ft",null,2000000,200000,300000,2000000,2000000,300000,500000]
[null,null,"kamat %",null,5.0000000000000001E-3,5.0000000000000001E-3,5.0000000000000001E-3,5.0000000000000001E-3,5.0000000000000001E-3,5.0000000000000001E-3,5.0000000000000001E-3]
[]
[]
[]
["Kiadások",null,null,null,{"$f":"KvZsz!U220","v":5679434.9411764704},{"$f":"KvZsz!V220","v":45260},{"$f":"KvZsz!W220","v":131690},{"$f":"KvZsz!X220","v":5252570},{"$f":"KvZsz!Y220","v":801370},{"$f":"KvZsz!Z220","v":30000},{"$f":"KvZsz!AA220","v":146000},{"$f":"-SUM(L31:L99)","v":-12086324.94117647}]
[]
[null,null,"Gáz"]
[null,"k071","Lakás",null,150000,null,null,null,null,null,null,150000]
[null,"k073","Templom",null,"-","-","-","-",140000,20000,5000,165000]
[null,null,"Villany"]
[null,"k075","Lakás",null,22000,"-","-","-","-","-","-",22000]
[null,"k077","Templom",null,14000,4000,30000,18000,15000,4000,2000,87000]
[null,null,"Víz"]
[null,"k079","Lakás",null,10000,"-","-","-","-","-","-",10000]
[null,"k081","Templom",null,null,"-",1000,20000,2000,"-","-",23000]
[null,"k084","Irodaszer",null,50000,null,null,null,null,null,null,50000]
[null,null,"Karbantartás - anyag"]
[null,"k086","Lakás",null,50000,null,null,null,null,null,null,50000]
[null,"k092","Benzin",null,{"$f":"ROUND(F45*G45*H45,0)","v":268800},null,null,null,null,null,null,268800]
[null,null,null,null,null,320,12000,7.0000000000000007E-2]
[null,null,"Szakkönyv"]
[null,"k094",null,null,null,null,null,null,null,null,null,0]
[null,"k094",null,null,5000,null,null,null,null,null,null,5000]
[null,"k095","Tisztítószerek",null,5000,null,null,null,null,null,null,5000]
[null,null,"Karbantartás"]
[null,"k106","lakás",null,20000,null,null,null,null,null,null,20000]
[null,"k108","templom, gyül. épület",null,null,null,null,null,null,null,null,0]
[null,"k108","káplánszoba belső felújítás",null,1000000,null,null,null,null,null,null,1000000]
[null,"k108","templomfelújítás",null,null,null,null,5000000,null,null,null,5000000]
[null,"k108","esőcsatorna készítés",null,null,null,null,null,null,null,130000,130000]
[null,"k108","térburkolat készítése",null,null,null,null,null,450000,null,null,450000]
[null,"k109","gk.",null,150000,null,null,null,null,null,null,150000]
[null,"k115","Postaköltség",null,10000,null,null,null,null,null,null,10000]
[null,null,"Szaklapok"]
[null,"k116","Lelkipásztor előfizetés",null,10800,null,null,null,null,null,null,10800]
[null,"k116","Ev.Élet 10 pld. Előfizetés",null,{"$f":"14300*10","v":143000},null,null,null,null,null,null,143000]
[null,"k121","Bankköltség",null,15000,1000,1000,10000,1000,1000,1000,30000]
[null,null,"Biztosítás"]
[null,"k123","épület",null,109240,21260,15690,18570,26370,null,null,191130]
[null,"k123","épület (Potyondtól és Zsebeházától átvállalva)",null,{"$f":"J66+K66","v":12180},null,null,null,null,null,null,12180]
[null,null,null,null,null,null,null,null,null,6100,6080]
[null,"k124","gk. GFB",null,27000,null,null,null,null,null,null,27000]
[null,"k124","gk. CASCO",null,40000,null,null,null,null,null,null,40000]
[null,"k133","Lelkészi illetmény Ft/év bttó",null,{"$f":"E71*12","v":2596932},null,null,null,null,null,null,2596932]
[null,"k133","rezsitérítés Ft/év bttó",null,{"$f":"E72*12","v":282352.9411764706},null,null,null,null,null,null,282352.9411764706]
[null,null,"illetmény Ft/hó bttó/nettó",null,216411,{"$f":"E71*0.85","v":183949.35}]
[null,null,"rezsitérítés Ft/hó bttó/nettó",null,{"$f":"20000*100/85","v":23529.411764705881},{"$f":"E72*0.85","v":20000},null,null,null,null,null,null,null,{"$f":"111000/2*100/85","v":65294.117647058825}]
[null,null,"összes illetmény Ft/hó bttó/nettó",null,{"$f":"SUM(E71:E72)","v":239940.41176470587},{"$f":"SUM(F71:F72)","v":203949.35}]
[null,"k115","mobil telefon előfizetés",null,{"$f":"E75*12","v":30000},null,null,null,null,null,null,{"$f":"SUM(E74:K74)","v":30000}]
[null,null,"mobil telefon előfizetés Ft/hó",null,2500]
[null,"k115","internet előfizetés",null,{"$f":"E77*12","v":42240},null,null,null,null,null,null,{"$f":"SUM(E76:K76)","v":42240}]
[null,null,"internet előfizetés Ft/hó",null,3520]
[null,null,"Nemlelkészi illetmény (Ft)"]
[null,null,"kántorizálások száma",null,37,14,24,26,47,16,15]
[null,null,"Ft/alkalom",null,1000]
[null,"k135","Ft összesen",null,{"$f":"E79*E80","v":37000},{"$f":"F79*E80","v":14000},{"$f":"G79*E80","v":24000},{"$f":"H79*E80","v":26000},{"$f":"I79*E80","v":47000},null,null,{"$f":"SUM(E81:K81)","v":148000}]
[null,"k135","Potyondtól és Zsebeházától átvállalva",null,{"$f":"SUM(J83:K83)","v":31000},null,null,null,null,null,null,31000]
[null,null,null,null,null,null,null,null,null,{"$f":"J79*E80","v":16000},{"$f":"K79*E80","v":15000}]
[null,null,"takarítások száma",null,18]
[null,null,"Ft/alkalom",null,4000]
[null,null,"Ft/hó"]
[null,"k135","takarítások Ft összesen",null,{"$f":"E84*E85","v":72000},null,null,null,{"$f":"I86*I84","v":0},null,null,72000]
[null,"k146","Vendéglátás",null,{"$f":"SUM(E89:E90)","v":0},0,0,100000,0,0,0,100000]
[null,null,"könyvbemutató - ebédeltetés",null,null,null,null,50000]
[null,null,"hálaadó istentisztelet - szeretetvendégség",null,null,null,null,50000]
[null,"k159","ZP Szolidaritási Alap",null,{"$f":"ROUND(209000*110%*110%,0)","v":252890},null,null,null,null,null,null,252890]
[null,"k170","Egyházmegyei járulék",null,131000,null,null,null,null,null,null,131000]
[null,"k172","Táborfenntartás",null,12000,null,null,null,null,null,null,12000]
[null,"k183","Továbbítandók",null,{"$f":"E19","v":80000},5000,60000,60000,120000,5000,8000,338000]
[null,null,"Beszerzés 100eFt alatti"]
[null,null,null,null,null,null,null,null,null,null,null,0]
[]
[]
["Pénzmozgást nem jelentő tételek"]
[null,"xk066",null,null,{"$f":"E106-E91","v":179003}]
[null,"xk067","ZP Szolidaritási Alap támogatás",null,254710]
[null,"xk197",null,null,{"$f":"E100","v":179003}]
[null,"xk198","ZP Szolidaritási Alap támogatás",null,{"$f":"E101","v":254710}]
[]
["Átfutó tételek"]
[null,"p004","Lelkészi nyugdíjjárulék",null,{"$f":"ROUND(SUM(E69:E70)*15%,0)","v":431893}]
[null,"p007","Leányegyháztól anyaegyháznak",null,{"$f":"SUM(F110:K110)","v":3263000}]
[null,"p007","Másik egyházközségi résztől"]
[null,"p016","Lelkészi nyugdíjjárulék",null,{"$f":"E106","v":431893}]
[null,"p019","Anyaegyháznak leányegyháztól",null,null,{"$f":"F15","v":168000},670000,469000,1300000,220000,436000]
[null,"p019","Másik egyházközségi résznek"]
[null,"p025","Beruházás (=k215)"]
[]
["Értékcsökkenés"]
[null,"k204","100eFt alatti tárgyak értékcsökkenése",null,null,null,null,null,null,null,null,{"$f":"SUM(E115:K115)","v":0}]
[null,"k206","Ingatlanok értékcsökkenése",null,null,null,null,null,null,null,null,0]
[]
["Pénzeszköz"]
[]
[null,"Tanévzáró + Mk-i évforduló"]
[null,"Kirándulás"]
[null,"Föld sója találkozó"]
[null,"Havi illetményt tárgyhó 25-én fizetni + járulékokat is utalni (ne legyen következő évre átnyúlás)"]
[null,"Gk. igénylés?"]
[null,"Missziói pályázat - kirándulás tám."]
[null,null,null,null,"gáz","1700-2000m3/év",null,220000]
[null,null,null,null,"víz","5m3/hó",{"$f":"5*12","v":60},{"$f":"520*1.27*G127","v":39624}]
[null,null,null,null,"villany ","130kWh/hó",{"$f":"12*130","v":1560},63000]
[null,null,null,null,"kéményseprés","?"]

{"sheet":"KvZsz","index":1,"n_rows":302,"n_cols":39,"rows_kept":302,"cut":false,"hidden":false,"merged":[[299,1,299,2],[299,3,299,18],[300,1,300,2],[300,3,300,18],[301,1,301,2],[301,3,301,18],[294,1,294,2],[294,3,294,18],[295,1,295,2],[295,3,295,18],[296,1,296,2],[296,3,296,18],[297,1,297,2],[297,3,297,18],[298,1,298,2],[298,3,298,18],[289,1,289,2],[289,3,289,18],[290,1,290,2],[290,3,290,18],[291,1,291,2],[291,3,291,18],[292,1,292,2],[292,3,292,18],[293,1,293,2],[293,3,293,18],[284,1,284,2],[284,3,284,18],[285,1,285,2],[285,3,285,18],[286,1,286,2],[286,3,286,18],[287,1,287,2],[287,3,287,18],[288,1,288,2],[288,3,288,18],[279,1,279,2],[279,3,279,18],[280,1,280,2],[280,3,280,18],[281,1,281,2],[281,3,281,18],[282,1,282,2],[282,3,282,18],[283,1,283,2],[283,3,283,18],[274,1,274,2],[274,3,274,18],[275,1,275,2],[275,3,275,18],[276,1,276,2],[276,3,276,18],[277,1,277,2],[277,3,277,18],[278,1,278,2],[278,3,278,18],[269,1,269,2],[269,3,269,18],[270,1,270,2],[270,3,270,18],[271,1,271,2],[271,3,271,18],[272,1,272,2],[272,3,272,18],[273,1,273,2],[273,3,273,18],[264,1,264,2],[264,3,264,18],[265,1,265,2],[265,3,265,18],[266,1,266,2],[266,3,266,18],[267,1,267,2],[267,3,267,18],[268,1,268,2],[268,3,268,18],[259,1,259,2],[259,3,259,18],[260,1,260,2],[260,3,260,18],[261,1,261,2],[261,3,261,18],[262,1,262,2],[262,3,262,18],[263,1,263,2],[263,3,263,18],[254,1,254,2],[254,3,254,18],[255,1,255,2],[255,3,255,18],[256,1,256,2],[256,3,256,18],[257,1,257,2],[257,3,257,18],[258,1,258,2],[258,3,258,18],[249,1,249,2],[249,3,249,18],[250,1,250,2],[250,3,250,18],[251,1,251,2],[251,3,251,18],[252,1,252,2],[252,3,252,18],[253,1,253,2],[253,3,253,18],[6,34,7,34],[8,1,8,2],[8,3,8,18],[6,26,7,26],[6,19,7,19],[1,1,1,12],[2,1,2,27],[3,1,3,27],[4,4,4,9],[6,1,7,2],[6,3,7,18],[6,27,7,27],[6,21,7,21],[6,22,7,22],[6,23,7,23],[9,1,9,2],[9,3,9,18],[10,1,10,2],[10,3,10,18],[11,1,11,2],[11,3,11,18],[6,31,7,31],[6,32,7,32],[6,33,7,33],[15,1,15,2],[15,3,15,18],[16,1,16,2],[16,3,16,18],[17,1,17,2],[17,3,17,18],[12,1,12,2],[12,3,12,18],[13,1,13,2],[13,3,13,18],[14,1,14,2],[14,3,14,18],[21,1,21,2],[21,3,21,18],[22,1,22,2],[22,3,22,18],[23,1,23,2],[23,3,23,18],[18,1,18,2],[18,3,18,18],[19,1,19,2],[19,3,19,18],[20,1,20,2],[20,3,20,18],[27,1,27,2],[27,3,27,18],[28,1,28,2],[28,3,28,18],[29,1,29,2],[29,3,29,18],[24,1,24,2],[24,3,24,18],[25,1,25,2],[25,3,25,18],[26,1,26,2],[26,3,26,18],[33,1,33,2],[33,3,33,18],[34,1,34,2],[34,3,34,18],[35,1,35,2],[35,3,35,18],[30,1,30,2],[30,3,30,18],[31,1,31,2],[31,3,31,18],[32,1,32,2],[32,3,32,18],[39,1,39,2],[39,3,39,18],[40,1,40,2],[40,3,40,18],[41,1,41,2],[41,3,41,18],[36,1,36,2],[36,3,36,18],[37,1,37,2],[37,3,37,18],[38,1,38,2],[38,3,38,18],[45,1,45,2],[45,3,45,18],[46,1,46,2],[46,3,46,18],[47,1,47,2],[47,3,47,18],[42,1,42,2],[42,3,42,18],[43,1,43,2],[43,3,43,18],[44,1,44,2],[44,3,44,18],[51,1,51,2],[51,3,51,18],[52,1,52,2],[52,3,52,18],[53,1,53,2],[53,3,53,18],[48,1,48,2],[48,3,48,18],[49,1,49,2],[49,3,49,18],[50,1,50,2],[50,3,50,18],[57,1,57,2],[57,3,57,18],[58,1,58,2],[58,3,58,18],[59,1,59,2],[59,3,59,18],[54,1,54,2],[54,3,54,18],[55,1,55,2],[55,3,55,18],[56,1,56,2],[56,3,56,18],[63,1,63,2],[63,3,63,18],[64,1,64,2],[65,1,65,2],[66,1,66,2],[67,1,67,2],[67,3,67,18],[60,1,60,2],[60,3,60,18],[61,1,61,2],[61,3,61,18],[62,1,62,2],[62,3,62,18],[71,1,71,2],[71,3,71,18],[72,1,72,2],[72,3,72,18],[73,1,73,2],[73,3,73,18],[68,1,68,2],[68,3,68,18],[69,1,69,2],[69,3,69,18],[70,1,70,2],[70,3,70,18],[77,1,77,2],[77,3,77,18],[78,1,78,2],[78,3,78,18],[79,1,79,2],[79,3,79,18],[74,1,74,2],[74,3,74,18],[75,1,75,2],[75,3,75,18],[76,1,76,2],[76,3,76,18],[83,1,83,2],[83,3,83,18],[84,1,84,2],[84,3,84,18],[85,1,85,2],[85,3,85,18],[80,1,80,2],[80,3,80,18],[81,1,81,2],[81,3,81,18],[82,1,82,2],[82,3,82,18],[89,1,89,2],[89,3,89,18],[90,1,90,2],[90,3,90,18],[91,1,91,2],[91,3,91,18],[86,1,86,2],[86,3,86,18],[87,1,87,2],[87,3,87,18],[88,1,88,2],[88,3,88,18],[95,1,95,2],[95,3,95,18],[96,1,96,2],[96,3,96,18],[97,1,97,2],[97,3,97,18],[92,1,92,2],[92,3,92,18],[93,1,93,2],[93,3,93,18],[94,1,94,2],[94,3,94,18],[101,1,101,2],[101,3,101,18],[102,1,102,2],[102,3,102,18],[103,1,103,2],[103,3,103,18],[98,1,98,2],[98,3,98,18],[99,1,99,2],[99,3,99,18],[100,1,100,2],[100,3,100,18],[107,1,107,2],[107,3,107,18],[108,1,108,2],[108,3,108,18],[109,1,109,2],[109,3,109,18],[104,1,104,2],[104,3,104,18],[105,1,105,2],[105,3,105,18],[106,1,106,2],[106,3,106,18],[113,1,113,2],[113,3,113,18],[114,1,114,2],[114,3,114,18],[115,1,115,2],[115,3,115,18],[110,1,110,2],[110,3,110,18],[111,1,111,2],[111,3,111,18],[112,1,112,2],[112,3,112,18],[119,1,119,2],[119,3,119,18],[120,1,120,2],[120,3,120,18],[121,1,121,2],[121,3,121,18],[116,1,116,2],[116,3,116,18],[117,1,117,2],[117,3,117,18],[118,1,118,2],[118,3,118,18],[125,1,125,2],[125,3,125,18],[126,1,126,2],[126,3,126,18],[127,1,127,2],[127,3,127,18],[122,1,122,2],[122,3,122,18],[123,1,123,2],[123,3,123,18],[124,1,124,2],[124,3,124,18],[131,1,131,2],[131,3,131,18],[132,1,132,2],[132,3,132,18],[133,1,133,2],[133,3,133,18],[128,1,128,2],[128,3,128,18],[129,1,129,2],[129,3,129,18],[130,1,130,2],[130,3,130,18],[137,1,137,2],[137,3,137,18],[138,1,138,2],[138,3,138,18],[139,1,139,2],[139,3,139,18],[134,1,134,2],[134,3,134,18],[135,1,135,2],[135,3,135,18],[136,1,136,2],[136,3,136,18],[143,1,143,2],[143,3,143,18],[144,1,144,2],[144,3,144,18],[145,1,145,2],[145,3,145,18],[140,1,140,2],[140,3,140,18],[141,1,141,2],[141,3,141,18],[142,1,142,2],[142,3,142,18],[149,1,149,2],[149,3,149,18],[150,1,150,2],[150,3,150,18],[151,1,151,2],[151,3,151,18],[146,1,146,2],[146,3,146,18],[147,1,147,2],[147,3,147,18],[148,1,148,2],[148,3,148,18],[155,1,155,2],[155,3,155,18],[156,1,156,2],[156,3,156,18],[157,1,157,2],[157,3,157,18],[152,1,152,2],[152,3,152,18],[153,1,153,2],[153,3,153,18],[154,1,154,2],[154,3,154,18],[161,1,161,2],[161,3,161,18],[162,1,162,2],[162,3,162,18],[163,1,163,2],[163,3,163,18],[158,1,158,2],[158,3,158,18],[159,1,159,2],[159,3,159,18],[160,1,160,2],[160,3,160,18],[167,1,167,2],[167,3,167,18],[168,1,168,2],[168,3,168,18],[169,1,169,2],[169,3,169,18],[164,1,164,2],[164,3,164,18],[165,1,165,2],[165,3,165,18],[166,1,166,2],[166,3,166,18],[173,1,173,2],[173,3,173,18],[174,1,174,2],[174,3,174,18],[175,1,175,2],[175,3,175,18],[170,1,170,2],[170,3,170,18],[171,1,171,2],[171,3,171,18],[172,1,172,2],[172,3,172,18],[179,1,179,2],[179,3,179,18],[180,1,180,2],[180,3,180,18],[181,1,181,2],[181,3,181,18],[176,1,176,2],[176,3,176,18],[177,1,177,2],[177,3,177,18],[178,1,178,2],[178,3,178,18],[185,1,185,2],[185,3,185,18],[186,1,186,2],[186,3,186,18],[187,1,187,2],[187,3,187,18],[182,1,182,2],[182,3,182,18],[183,1,183,2],[183,3,183,18],[184,1,184,2],[184,3,184,18],[191,1,191,2],[191,3,191,18],[192,1,192,2],[192,3,192,18],[193,1,193,2],[194,1,194,2],[188,1,188,2],[188,3,188,18],[189,1,189,2],[189,3,189,18],[190,1,190,2],[190,3,190,18],[200,1,200,2],[200,3,200,18],[201,1,201,2],[201,3,201,18],[202,1,202,2],[202,3,202,18],[195,1,195,2],[196,1,196,2],[196,3,196,18],[197,1,197,2],[198,1,198,2],[199,1,199,2],[207,1,207,2],[207,4,207,18],[208,1,208,2],[209,1,209,2],[209,5,209,18],[210,1,210,2],[203,1,203,2],[203,3,203,18],[204,1,204,2],[204,4,204,18],[205,1,205,2],[206,1,206,2],[206,5,206,18],[214,1,214,2],[214,3,214,18],[215,1,215,2],[215,3,215,18],[216,1,216,2],[216,3,216,18],[211,1,211,2],[211,3,211,18],[212,1,212,2],[212,3,212,18],[213,1,213,2],[213,3,213,18],[220,1,220,2],[220,3,220,18],[221,1,221,2],[221,3,221,18],[222,1,222,2],[222,3,222,18],[217,1,217,2],[217,3,217,18],[218,1,218,2],[218,3,218,18],[219,1,219,2],[219,3,219,18],[226,1,226,2],[226,3,226,18],[227,1,227,2],[227,3,227,18],[228,1,228,2],[228,3,228,18],[223,1,223,2],[223,3,223,18],[224,1,224,2],[224,3,224,18],[225,1,225,2],[225,3,225,18],[232,1,232,2],[232,3,232,18],[233,1,233,2],[233,3,233,18],[234,1,234,2],[234,3,234,18],[229,1,229,2],[229,3,229,18],[230,1,230,2],[230,3,230,18],[231,1,231,2],[231,3,231,18],[239,3,239,18],[240,1,240,2],[240,3,240,18],[235,1,235,2],[235,3,235,18],[236,1,236,2],[236,3,236,18],[237,1,237,2],[237,3,237,18],[247,1,247,2],[247,3,247,18],[6,38,7,38],[6,28,7,28],[6,29,7,29],[6,30,7,30],[6,20,7,20],[6,24,7,24],[6,25,7,25],[244,1,244,2],[244,3,244,18],[245,1,245,2],[245,3,245,18],[246,1,246,2],[246,3,246,18],[241,1,241,2],[241,3,241,18],[242,1,242,2],[242,3,242,18],[243,1,243,2],[243,3,243,18],[238,1,238,2],[238,3,238,18],[239,1,239,2]]}
[null,"Egyházközség neve:"]
[]
[null,{"$f":"\"Költségvetés és annak teljesítése - \"&'Terv-segédlet'!A1","v":"Költségvetés és annak teljesítése - 2016"}]
[]
[]
[]
[null,"Sor-szám",null,"A tétel megnevezése",null,null,null,null,null,null,null,null,null,null,null,null,null,null,null,"Kv összes","Kv","Kv","Kv","Kv","Kv","Kv","Kv","Zsz összes","Zsz","Zsz","Zsz","Zsz","Zsz","Zsz","Zsz",null,null,null,"Megjegyzés (példa jellegű, nem teljes felsorolás)"]
[]
[null,"a",null,"b",null,null,null,null,null,null,null,null,null,null,null,null,null,null,null,null,"V","Gy","K","Mk","M","P","Zs",null,"V","Gy","K","Mk","M","P","Zs",null,null,{"$f":"(TODAY()-DATEVALUE('Terv-segédlet'!A1&\".01.01\"))/IF(MOD('Terv-segédlet'!A1,4)=0,366,365)","v":0.15846994535519127},"h"]
["k001","1",null,"I. Pénzügyileg rendezett bevételek (2+14+55)",null,null,null,null,null,null,null,null,null,null,null,null,null,null,null,{"$f":"T11+T23+T64","v":12527500},{"$f":"U11+U23+U64","v":594000},{"$f":"V11+V23+V64","v":374000},{"$f":"W11+W23+W64","v":861500},{"$f":"X11+X23+X64","v":7559000},{"$f":"Y11+Y23+Y64","v":2366000},{"$f":"Z11+Z23+Z64","v":276500},{"$f":"AA11+AA23+AA64","v":496500},{"$f":"AB11+AB23+AB64","v":119302},{"$f":"AC11+AC23+AC64","v":2985},{"$f":"AD11+AD23+AD64","v":16},324,31200,84166,58,553,null,"b",{"$f":"IF(AND(OR(T10<>0,AB10<>0),T10<>0),ABS(AB10/T10),\"\")","v":9.5232089403312712E-3}]
["k002","2",null,"1.  Értékesítés nettó árbevétele (3+10+11+13)",null,null,null,null,null,null,null,null,null,null,null,null,null,null,null,{"$f":"+T12+T19+T20+T22","v":893000},{"$f":"+U12+U19+U20+U22","v":37000},{"$f":"+V12+V19+V20+V22","v":180000},{"$f":"+W12+W19+W20+W22","v":0},{"$f":"+X12+X19+X20+X22","v":190000},{"$f":"+Y12+Y19+Y20+Y22","v":486000},{"$f":"+Z12+Z19+Z20+Z22","v":0},{"$f":"+AA12+AA19+AA20+AA22","v":0},{"$f":"+AB12+AB19+AB20+AB22","v":60000},{"$f":"+AC12+AC19+AC20+AC22","v":0},{"$f":"+AD12+AD19+AD20+AD22","v":0},0,20000,40000,0,0,null,"b",{"$f":"IF(AND(OR(T11<>0,AB11<>0),T11<>0),ABS(AB11/T11),\"\")","v":6.7189249720044794E-2},"91..94"]
["k003","3",null,"i) Alaptevékenység általános jellegű árbevétele (4..9)",null,null,null,null,null,null,null,null,null,null,null,null,null,null,null,{"$f":"SUM(T13:T18)","v":893000},{"$f":"SUM(U13:U18)","v":37000},{"$f":"SUM(V13:V18)","v":180000},{"$f":"SUM(W13:W18)","v":0},{"$f":"SUM(X13:X18)","v":190000},{"$f":"SUM(Y13:Y18)","v":486000},{"$f":"SUM(Z13:Z18)","v":0},{"$f":"SUM(AA13:AA18)","v":0},{"$f":"SUM(AB13:AB18)","v":60000},{"$f":"SUM(AC13:AC18)","v":0},{"$f":"SUM(AD13:AD18)","v":0},0,20000,40000,0,0,null,"b",6.7189249720044794E-2]
["k004","4",null,"Ingatlan bérbeadás árbevétele",null,null,null,null,null,null,null,null,null,null,null,null,null,null,null,{"$f":"SUM(U13:AA13)","v":893000},{"$f":"SUMIF('Terv-segédlet'!$B:$B,$A13,'Terv-segédlet'!E:E)","v":37000},{"$f":"SUMIF('Terv-segédlet'!$B:$B,$A13,'Terv-segédlet'!F:F)","v":180000},{"$f":"SUMIF('Terv-segédlet'!$B:$B,$A13,'Terv-segédlet'!G:G)","v":0},{"$f":"SUMIF('Terv-segédlet'!$B:$B,$A13,'Terv-segédlet'!H:H)","v":190000},{"$f":"SUMIF('Terv-segédlet'!$B:$B,$A13,'Terv-segédlet'!I:I)","v":486000},{"$f":"SUMIF('Terv-segédlet'!$B:$B,$A13,'Terv-segédlet'!J:J)","v":0},{"$f":"SUMIF('Terv-segédlet'!$B:$B,$A13,'Terv-segédlet'!K:K)","v":0},{"$f":"SUM(AC13:AI13)","v":60000},{"$f":"SUMIF(V!$A:$A,$A13,V!$K:$K)+SUMIF(bank!$A:$A,AC$9&$A13,bank!$M:$M)","v":0},{"$f":"SUMIF(Gy!$A:$A,$A13,Gy!$K:$K)+SUMIF(bank!$A:$A,AD$9&$A13,bank!$M:$M)","v":0},{"$f":"SUMIF(K!$A:$A,$A13,K!$K:$K)+SUMIF(bank!$A:$A,AE$9&$A13,bank!$M:$M)","v":0},{"$f":"SUMIF(Mk!$A:$A,$A13,Mk!$K:$K)+SUMIF(bank!$A:$A,AF$9&$A13,bank!$M:$M)","v":20000},{"$f":"SUMIF(M!$A:$A,$A13,M!$K:$K)+SUMIF(bank!$A:$A,AG$9&$A13,bank!$M:$M)","v":40000},{"$f":"SUMIF(P!$A:$A,$A13,P!$K:$K)+SUMIF(bank!$A:$A,AH$9&$A13,bank!$M:$M)","v":0},{"$f":"SUMIF(Zs!$A:$A,$A13,Zs!$K:$K)+SUMIF(bank!$A:$A,AI$9&$A13,bank!$M:$M)","v":0},"*","b",6.7189249720044794E-2,"részleges ingatlan bérbeadás (lakás, egyéb ingatlan, földterület, stb.) (nem vállalkozási tevékenység)"]
["k005","5",null,"Egyéb bérleti díjak árbevétele","Egyéb bérleti díjak árbevétele","Egyéb bérleti díjak árbevétele","Egyéb bérleti díjak árbevétele","Egyéb bérleti díjak árbevétele","Egyéb bérleti díjak árbevétele","Egyéb bérleti díjak árbevétele","Egyéb bérleti díjak árbevétele","Egyéb bérleti díjak árbevétele","Egyéb bérleti díjak árbevétele","Egyéb bérleti díjak árbevétele","Egyéb bérleti díjak árbevétele","Egyéb bérleti díjak árbevétele","Egyéb bérleti díjak árbevétele","Egyéb bérleti díjak árbevétele","Egyéb bérleti díjak árbevétele",{"$f":"SUM(U14:AA14)","v":0},{"$f":"SUMIF('Terv-segédlet'!$B:$B,$A14,'Terv-segédlet'!E:E)","v":0},{"$f":"SUMIF('Terv-segédlet'!$B:$B,$A14,'Terv-segédlet'!F:F)","v":0},{"$f":"SUMIF('Terv-segédlet'!$B:$B,$A14,'Terv-segédlet'!G:G)","v":0},{"$f":"SUMIF('Terv-segédlet'!$B:$B,$A14,'Terv-segédlet'!H:H)","v":0},{"$f":"SUMIF('Terv-segédlet'!$B:$B,$A14,'Terv-segédlet'!I:I)","v":0},{"$f":"SUMIF('Terv-segédlet'!$B:$B,$A14,'Terv-segédlet'!J:J)","v":0},{"$f":"SUMIF('Terv-segédlet'!$B:$B,$A14,'Terv-segédlet'!K:K)","v":0},{"$f":"SUM(AC14:AI14)","v":0},{"$f":"SUMIF(V!$A:$A,$A14,V!$K:$K)+SUMIF(bank!$A:$A,AC$9&$A14,bank!$M:$M)","v":0},{"$f":"SUMIF(Gy!$A:$A,$A14,Gy!$K:$K)+SUMIF(bank!$A:$A,AD$9&$A14,bank!$M:$M)","v":0},{"$f":"SUMIF(K!$A:$A,$A14,K!$K:$K)+SUMIF(bank!$A:$A,AE$9&$A14,bank!$M:$M)","v":0},{"$f":"SUMIF(Mk!$A:$A,$A14,Mk!$K:$K)+SUMIF(bank!$A:$A,AF$9&$A14,bank!$M:$M)","v":0},{"$f":"SUMIF(M!$A:$A,$A14,M!$K:$K)+SUMIF(bank!$A:$A,AG$9&$A14,bank!$M:$M)","v":0},{"$f":"SUMIF(P!$A:$A,$A14,P!$K:$K)+SUMIF(bank!$A:$A,AH$9&$A14,bank!$M:$M)","v":0},{"$f":"SUMIF(Zs!$A:$A,$A14,Zs!$K:$K)+SUMIF(bank!$A:$A,AI$9&$A14,bank!$M:$M)","v":0},"*","b","","pl: eszköz bérbeadás"]
["k006","6",null,"Temető árbevétele","Temető árbevétele","Temető árbevétele","Temető árbevétele","Temető árbevétele","Temető árbevétele","Temető árbevétele","Temető árbevétele","Temető árbevétele","Temető árbevétele","Temető árbevétele","Temető árbevétele","Temető árbevétele","Temető árbevétele","Temető árbevétele","Temető árbevétele",0,{"$f":"SUMIF('Terv-segédlet'!$B:$B,$A15,'Terv-segédlet'!E:E)","v":0},{"$f":"SUMIF('Terv-segédlet'!$B:$B,$A15,'Terv-segédlet'!F:F)","v":0},{"$f":"SUMIF('Terv-segédlet'!$B:$B,$A15,'Terv-segédlet'!G:G)","v":0},{"$f":"SUMIF('Terv-segédlet'!$B:$B,$A15,'Terv-segédlet'!H:H)","v":0},{"$f":"SUMIF('Terv-segédlet'!$B:$B,$A15,'Terv-segédlet'!I:I)","v":0},{"$f":"SUMIF('Terv-segédlet'!$B:$B,$A15,'Terv-segédlet'!J:J)","v":0},{"$f":"SUMIF('Terv-segédlet'!$B:$B,$A15,'Terv-segédlet'!K:K)","v":0},0,{"$f":"SUMIF(V!$A:$A,$A15,V!$K:$K)+SUMIF(bank!$A:$A,AC$9&$A15,bank!$M:$M)","v":0},{"$f":"SUMIF(Gy!$A:$A,$A15,Gy!$K:$K)+SUMIF(bank!$A:$A,AD$9&$A15,bank!$M:$M)","v":0},{"$f":"SUMIF(K!$A:$A,$A15,K!$K:$K)+SUMIF(bank!$A:$A,AE$9&$A15,bank!$M:$M)","v":0},{"$f":"SUMIF(Mk!$A:$A,$A15,Mk!$K:$K)+SUMIF(bank!$A:$A,AF$9&$A15,bank!$M:$M)","v":0},{"$f":"SUMIF(M!$A:$A,$A15,M!$K:$K)+SUMIF(bank!$A:$A,AG$9&$A15,bank!$M:$M)","v":0},{"$f":"SUMIF(P!$A:$A,$A15,P!$K:$K)+SUMIF(bank!$A:$A,AH$9&$A15,bank!$M:$M)","v":0},{"$f":"SUMIF(Zs!$A:$A,$A15,Zs!$K:$K)+SUMIF(bank!$A:$A,AI$9&$A15,bank!$M:$M)","v":0},"*","b","","sírhely, urnahely megváltás, temetési szolgáltatás"]
["k007","7",null,"Iratterjesztés árbevétele","Iratterjesztés árbevétele","Iratterjesztés árbevétele","Iratterjesztés árbevétele","Iratterjesztés árbevétele","Iratterjesztés árbevétele","Iratterjesztés árbevétele","Iratterjesztés árbevétele","Iratterjesztés árbevétele","Iratterjesztés árbevétele","Iratterjesztés árbevétele","Iratterjesztés árbevétele","Iratterjesztés árbevétele","Iratterjesztés árbevétele","Iratterjesztés árbevétele","Iratterjesztés árbevétele",0,{"$f":"SUMIF('Terv-segédlet'!$B:$B,$A16,'Terv-segédlet'!E:E)","v":0},{"$f":"SUMIF('Terv-segédlet'!$B:$B,$A16,'Terv-segédlet'!F:F)","v":0},{"$f":"SUMIF('Terv-segédlet'!$B:$B,$A16,'Terv-segédlet'!G:G)","v":0},{"$f":"SUMIF('Terv-segédlet'!$B:$B,$A16,'Terv-segédlet'!H:H)","v":0},{"$f":"SUMIF('Terv-segédlet'!$B:$B,$A16,'Terv-segédlet'!I:I)","v":0},{"$f":"SUMIF('Terv-segédlet'!$B:$B,$A16,'Terv-segédlet'!J:J)","v":0},{"$f":"SUMIF('Terv-segédlet'!$B:$B,$A16,'Terv-segédlet'!K:K)","v":0},0,{"$f":"SUMIF(V!$A:$A,$A16,V!$K:$K)+SUMIF(bank!$A:$A,AC$9&$A16,bank!$M:$M)","v":0},{"$f":"SUMIF(Gy!$A:$A,$A16,Gy!$K:$K)+SUMIF(bank!$A:$A,AD$9&$A16,bank!$M:$M)","v":0},{"$f":"SUMIF(K!$A:$A,$A16,K!$K:$K)+SUMIF(bank!$A:$A,AE$9&$A16,bank!$M:$M)","v":0},{"$f":"SUMIF(Mk!$A:$A,$A16,Mk!$K:$K)+SUMIF(bank!$A:$A,AF$9&$A16,bank!$M:$M)","v":0},{"$f":"SUMIF(M!$A:$A,$A16,M!$K:$K)+SUMIF(bank!$A:$A,AG$9&$A16,bank!$M:$M)","v":0},{"$f":"SUMIF(P!$A:$A,$A16,P!$K:$K)+SUMIF(bank!$A:$A,AH$9&$A16,bank!$M:$M)","v":0},{"$f":"SUMIF(Zs!$A:$A,$A16,Zs!$K:$K)+SUMIF(bank!$A:$A,AI$9&$A16,bank!$M:$M)","v":0},"*","b","","Vásárolt könyvek, folyóiratok, stb. értékesítésének bevétele"]
["k008","8",null,"Harangozás árbevétele","Harangozás árbevétele","Harangozás árbevétele","Harangozás árbevétele","Harangozás árbevétele","Harangozás árbevétele","Harangozás árbevétele","Harangozás árbevétele","Harangozás árbevétele","Harangozás árbevétele","Harangozás árbevétele","Harangozás árbevétele","Harangozás árbevétele","Harangozás árbevétele","Harangozás árbevétele","Harangozás árbevétele",0,{"$f":"SUMIF('Terv-segédlet'!$B:$B,$A17,'Terv-segédlet'!E:E)","v":0},{"$f":"SUMIF('Terv-segédlet'!$B:$B,$A17,'Terv-segédlet'!F:F)","v":0},{"$f":"SUMIF('Terv-segédlet'!$B:$B,$A17,'Terv-segédlet'!G:G)","v":0},{"$f":"SUMIF('Terv-segédlet'!$B:$B,$A17,'Terv-segédlet'!H:H)","v":0},{"$f":"SUMIF('Terv-segédlet'!$B:$B,$A17,'Terv-segédlet'!I:I)","v":0},{"$f":"SUMIF('Terv-segédlet'!$B:$B,$A17,'Terv-segédlet'!J:J)","v":0},{"$f":"SUMIF('Terv-segédlet'!$B:$B,$A17,'Terv-segédlet'!K:K)","v":0},0,{"$f":"SUMIF(V!$A:$A,$A17,V!$K:$K)+SUMIF(bank!$A:$A,AC$9&$A17,bank!$M:$M)","v":0},{"$f":"SUMIF(Gy!$A:$A,$A17,Gy!$K:$K)+SUMIF(bank!$A:$A,AD$9&$A17,bank!$M:$M)","v":0},{"$f":"SUMIF(K!$A:$A,$A17,K!$K:$K)+SUMIF(bank!$A:$A,AE$9&$A17,bank!$M:$M)","v":0},{"$f":"SUMIF(Mk!$A:$A,$A17,Mk!$K:$K)+SUMIF(bank!$A:$A,AF$9&$A17,bank!$M:$M)","v":0},{"$f":"SUMIF(M!$A:$A,$A17,M!$K:$K)+SUMIF(bank!$A:$A,AG$9&$A17,bank!$M:$M)","v":0},{"$f":"SUMIF(P!$A:$A,$A17,P!$K:$K)+SUMIF(bank!$A:$A,AH$9&$A17,bank!$M:$M)","v":0},{"$f":"SUMIF(Zs!$A:$A,$A17,Zs!$K:$K)+SUMIF(bank!$A:$A,AI$9&$A17,bank!$M:$M)","v":0},"*","b","","harangozás díjszabás alapján kivetett, számlázott vagy nyugta alapján átvett bevétele"]
["k009","9",null,"Alaptevékenység egyéb általános árbevétele","Alaptevékenység egyéb általános árbevétele","Alaptevékenység egyéb általános árbevétele","Alaptevékenység egyéb általános árbevétele","Alaptevékenység egyéb általános árbevétele","Alaptevékenység egyéb általános árbevétele","Alaptevékenység egyéb általános árbevétele","Alaptevékenység egyéb általános árbevétele","Alaptevékenység egyéb általános árbevétele","Alaptevékenység egyéb általános árbevétele","Alaptevékenység egyéb általános árbevétele","Alaptevékenység egyéb általános árbevétele","Alaptevékenység egyéb általános árbevétele","Alaptevékenység egyéb általános árbevétele","Alaptevékenység egyéb általános árbevétele","Alaptevékenység egyéb általános árbevétele",0,{"$f":"SUMIF('Terv-segédlet'!$B:$B,$A18,'Terv-segédlet'!E:E)","v":0},{"$f":"SUMIF('Terv-segédlet'!$B:$B,$A18,'Terv-segédlet'!F:F)","v":0},{"$f":"SUMIF('Terv-segédlet'!$B:$B,$A18,'Terv-segédlet'!G:G)","v":0},{"$f":"SUMIF('Terv-segédlet'!$B:$B,$A18,'Terv-segédlet'!H:H)","v":0},{"$f":"SUMIF('Terv-segédlet'!$B:$B,$A18,'Terv-segédlet'!I:I)","v":0},{"$f":"SUMIF('Terv-segédlet'!$B:$B,$A18,'Terv-segédlet'!J:J)","v":0},{"$f":"SUMIF('Terv-segédlet'!$B:$B,$A18,'Terv-segédlet'!K:K)","v":0},0,{"$f":"SUMIF(V!$A:$A,$A18,V!$K:$K)+SUMIF(bank!$A:$A,AC$9&$A18,bank!$M:$M)","v":0},{"$f":"SUMIF(Gy!$A:$A,$A18,Gy!$K:$K)+SUMIF(bank!$A:$A,AD$9&$A18,bank!$M:$M)","v":0},{"$f":"SUMIF(K!$A:$A,$A18,K!$K:$K)+SUMIF(bank!$A:$A,AE$9&$A18,bank!$M:$M)","v":0},{"$f":"SUMIF(Mk!$A:$A,$A18,Mk!$K:$K)+SUMIF(bank!$A:$A,AF$9&$A18,bank!$M:$M)","v":0},{"$f":"SUMIF(M!$A:$A,$A18,M!$K:$K)+SUMIF(bank!$A:$A,AG$9&$A18,bank!$M:$M)","v":0},{"$f":"SUMIF(P!$A:$A,$A18,P!$K:$K)+SUMIF(bank!$A:$A,AH$9&$A18,bank!$M:$M)","v":0},{"$f":"SUMIF(Zs!$A:$A,$A18,Zs!$K:$K)+SUMIF(bank!$A:$A,AI$9&$A18,bank!$M:$M)","v":0},"*","b","","tábor részvételi díj bevétele, szervezett konferencia részvételi díj, étkeztetés bevélele, saját könyvek, kiadványok bevétele, stb"]
["k010","10",null,"ii) Vállalkozási tevékenység árbevétele","ii) Vállalkozási tevékenység árbevélete","ii) Vállalkozási tevékenység árbevélete","ii) Vállalkozási tevékenység árbevélete","ii) Vállalkozási tevékenység árbevélete","ii) Vállalkozási tevékenység árbevélete","ii) Vállalkozási tevékenység árbevélete","ii) Vállalkozási tevékenység árbevélete","ii) Vállalkozási tevékenység árbevélete","ii) Vállalkozási tevékenység árbevélete","ii) Vállalkozási tevékenység árbevélete","ii) Vállalkozási tevékenység árbevélete","ii) Vállalkozási tevékenység árbevélete","ii) Vállalkozási tevékenység árbevélete","ii) Vállalkozási tevékenység árbevélete","ii) Vállalkozási tevékenység árbevélete",{"$f":"SUM(U19:AA19)","v":0},null,null,null,null,null,null,null,null,null,null,null,null,null,null,null,null,"b","","teljes ingatlan bérbeadás, kereskedelmi tevékenység, szálláshely szolgáltatás, stb."]
["k011","11",null,"iii) Közvetített szolgáltatások árbevétele (pl. visszatérítések)","iii) Közvetített szolgáltatások árbevétele ","iii) Közvetített szolgáltatások árbevétele ","iii) Közvetített szolgáltatások árbevétele ","iii) Közvetített szolgáltatások árbevétele ","iii) Közvetített szolgáltatások árbevétele ","iii) Közvetített szolgáltatások árbevétele ","iii) Közvetített szolgáltatások árbevétele ","iii) Közvetített szolgáltatások árbevétele ","iii) Közvetített szolgáltatások árbevétele ","iii) Közvetített szolgáltatások árbevétele ","iii) Közvetített szolgáltatások árbevétele ","iii) Közvetített szolgáltatások árbevétele ","iii) Közvetített szolgáltatások árbevétele ","iii) Közvetített szolgáltatások árbevétele ","iii) Közvetített szolgáltatások árbevétele ",{"$f":"SUM(U20:AA20)","v":0},null,null,null,null,null,null,null,null,null,null,null,null,null,null,null,null,"b","","rezsi visszatérítés, amennyiben a számla az egyházközség nevére szól, és abból más térítést fizet (számlázandó)"]
["k012","12",null,"ebből lelkészlakáshoz kapcsolódó visszatérítés","ebből lelkészlakáshoz kapcsolódó visszatérítés","ebből lelkészlakáshoz kapcsolódó visszatérítés","ebből lelkészlakáshoz kapcsolódó visszatérítés","ebből lelkészlakáshoz kapcsolódó visszatérítés","ebből lelkészlakáshoz kapcsolódó visszatérítés","ebből lelkészlakáshoz kapcsolódó visszatérítés","ebből lelkészlakáshoz kapcsolódó visszatérítés","ebből lelkészlakáshoz kapcsolódó visszatérítés","ebből lelkészlakáshoz kapcsolódó visszatérítés","ebből lelkészlakáshoz kapcsolódó visszatérítés","ebből lelkészlakáshoz kapcsolódó visszatérítés","ebből lelkészlakáshoz kapcsolódó visszatérítés","ebből lelkészlakáshoz kapcsolódó visszatérítés","ebből lelkészlakáshoz kapcsolódó visszatérítés","ebből lelkészlakáshoz kapcsolódó visszatérítés",{"$f":"SUM(U21:AA21)","v":0},{"$f":"SUMIF('Terv-segédlet'!$B:$B,$A21,'Terv-segédlet'!E:E)","v":0},{"$f":"SUMIF('Terv-segédlet'!$B:$B,$A21,'Terv-segédlet'!F:F)","v":0},{"$f":"SUMIF('Terv-segédlet'!$B:$B,$A21,'Terv-segédlet'!G:G)","v":0},{"$f":"SUMIF('Terv-segédlet'!$B:$B,$A21,'Terv-segédlet'!H:H)","v":0},{"$f":"SUMIF('Terv-segédlet'!$B:$B,$A21,'Terv-segédlet'!I:I)","v":0},{"$f":"SUMIF('Terv-segédlet'!$B:$B,$A21,'Terv-segédlet'!J:J)","v":0},{"$f":"SUMIF('Terv-segédlet'!$B:$B,$A21,'Terv-segédlet'!K:K)","v":0},{"$f":"SUM(AC21:AI21)","v":0},{"$f":"SUMIF(V!$A:$A,$A21,V!$K:$K)+SUMIF(bank!$A:$A,AC$9&$A21,bank!$M:$M)","v":0},{"$f":"SUMIF(Gy!$A:$A,$A21,Gy!$K:$K)+SUMIF(bank!$A:$A,AD$9&$A21,bank!$M:$M)","v":0},{"$f":"SUMIF(K!$A:$A,$A21,K!$K:$K)+SUMIF(bank!$A:$A,AE$9&$A21,bank!$M:$M)","v":0},{"$f":"SUMIF(Mk!$A:$A,$A21,Mk!$K:$K)+SUMIF(bank!$A:$A,AF$9&$A21,bank!$M:$M)","v":0},{"$f":"SUMIF(M!$A:$A,$A21,M!$K:$K)+SUMIF(bank!$A:$A,AG$9&$A21,bank!$M:$M)","v":0},{"$f":"SUMIF(P!$A:$A,$A21,P!$K:$K)+SUMIF(bank!$A:$A,AH$9&$A21,bank!$M:$M)","v":0},{"$f":"SUMIF(Zs!$A:$A,$A21,Zs!$K:$K)+SUMIF(bank!$A:$A,AI$9&$A21,bank!$M:$M)","v":0},"*","b","","a lelkészlakásra tekintettel a lelkész által fizetett rezsi visszatérítés, amennyiben a számla az egyházközség nevére szól, és abból más térítést fizet (számlázandó)"]
["k013","13",null,"iv) Egyéb tevékenység árbevétele","iv) Egyéb továbbszámlázott tételekből eredő bevételek (visszatérítés)","iv) Egyéb továbbszámlázott tételekből eredő bevételek (visszatérítés)","iv) Egyéb továbbszámlázott tételekből eredő bevételek (visszatérítés)","iv) Egyéb továbbszámlázott tételekből eredő bevételek (visszatérítés)","iv) Egyéb továbbszámlázott tételekből eredő bevételek (visszatérítés)","iv) Egyéb továbbszámlázott tételekből eredő bevételek (visszatérítés)","iv) Egyéb továbbszámlázott tételekből eredő bevételek (visszatérítés)","iv) Egyéb továbbszámlázott tételekből eredő bevételek (visszatérítés)","iv) Egyéb továbbszámlázott tételekből eredő bevételek (visszatérítés)","iv) Egyéb továbbszámlázott tételekből eredő bevételek (visszatérítés)","iv) Egyéb továbbszámlázott tételekből eredő bevételek (visszatérítés)","iv) Egyéb továbbszámlázott tételekből eredő bevételek (visszatérítés)","iv) Egyéb továbbszámlázott tételekből eredő bevételek (visszatérítés)","iv) Egyéb továbbszámlázott tételekből eredő bevételek (visszatérítés)","iv) Egyéb továbbszámlázott tételekből eredő bevételek (visszatérítés)",0,{"$f":"SUMIF('Terv-segédlet'!$B:$B,$A22,'Terv-segédlet'!E:E)","v":0},{"$f":"SUMIF('Terv-segédlet'!$B:$B,$A22,'Terv-segédlet'!F:F)","v":0},{"$f":"SUMIF('Terv-segédlet'!$B:$B,$A22,'Terv-segédlet'!G:G)","v":0},{"$f":"SUMIF('Terv-segédlet'!$B:$B,$A22,'Terv-segédlet'!H:H)","v":0},{"$f":"SUMIF('Terv-segédlet'!$B:$B,$A22,'Terv-segédlet'!I:I)","v":0},{"$f":"SUMIF('Terv-segédlet'!$B:$B,$A22,'Terv-segédlet'!J:J)","v":0},{"$f":"SUMIF('Terv-segédlet'!$B:$B,$A22,'Terv-segédlet'!K:K)","v":0},0,{"$f":"SUMIF(V!$A:$A,$A22,V!$K:$K)+SUMIF(bank!$A:$A,AC$9&$A22,bank!$M:$M)","v":0},{"$f":"SUMIF(Gy!$A:$A,$A22,Gy!$K:$K)+SUMIF(bank!$A:$A,AD$9&$A22,bank!$M:$M)","v":0},{"$f":"SUMIF(K!$A:$A,$A22,K!$K:$K)+SUMIF(bank!$A:$A,AE$9&$A22,bank!$M:$M)","v":0},{"$f":"SUMIF(Mk!$A:$A,$A22,Mk!$K:$K)+SUMIF(bank!$A:$A,AF$9&$A22,bank!$M:$M)","v":0},{"$f":"SUMIF(M!$A:$A,$A22,M!$K:$K)+SUMIF(bank!$A:$A,AG$9&$A22,bank!$M:$M)","v":0},{"$f":"SUMIF(P!$A:$A,$A22,P!$K:$K)+SUMIF(bank!$A:$A,AH$9&$A22,bank!$M:$M)","v":0},{"$f":"SUMIF(Zs!$A:$A,$A22,Zs!$K:$K)+SUMIF(bank!$A:$A,AI$9&$A22,bank!$M:$M)","v":0},"*","b","","egyéb gazdálkodási bevétel"]
["k014","14",null,"2.  Egyéb bevételek (15+18+19+23)",null,null,null,null,null,null,null,null,null,null,null,null,null,null,null,{"$f":"SUM(T24,T27:T28,T32)","v":11598000},{"$f":"SUM(U24,U27:U28,U32)","v":547000},{"$f":"SUM(V24,V27:V28,V32)","v":193000},{"$f":"SUM(W24,W27:W28,W32)","v":860000},{"$f":"SUM(X24,X27:X28,X32)","v":7359000},{"$f":"SUM(Y24,Y27:Y28,Y32)","v":1870000},{"$f":"SUM(Z24,Z27:Z28,Z32)","v":275000},{"$f":"SUM(AA24,AA27:AA28,AA32)","v":494000},{"$f":"SUM(AB24,AB27:AB28,AB32)","v":53810},{"$f":"SUM(AC24,AC27:AC28,AC32)","v":0},{"$f":"SUM(AD24,AD27:AD28,AD32)","v":0},0,11200,42610,0,0,null,"b",4.6395930332816006E-3,0.96]
["k015","15",null,"i) Értékesített immateriális javak, tárgyi eszközök bevétele (16+17)",null,null,null,null,null,null,null,null,null,null,null,null,null,null,null,{"$f":"SUM(T25:T26)","v":0},{"$f":"SUM(U25:U26)","v":0},{"$f":"SUM(V25:V26)","v":0},{"$f":"SUM(W25:W26)","v":0},{"$f":"SUM(X25:X26)","v":0},{"$f":"SUM(Y25:Y26)","v":0},{"$f":"SUM(Z25:Z26)","v":0},{"$f":"SUM(AA25:AA26)","v":0},{"$f":"SUM(AB25:AB26)","v":0},{"$f":"SUM(AC25:AC26)","v":0},{"$f":"SUM(AD25:AD26)","v":0},0,0,0,0,0,null,"b",""]
["k016","16",null,"Ingatlan értékesítés","Pályázati bevételek (nem egyházi)","Pályázati bevételek (nem egyházi)","Pályázati bevételek (nem egyházi)","Pályázati bevételek (nem egyházi)","Pályázati bevételek (nem egyházi)","Pályázati bevételek (nem egyházi)","Pályázati bevételek (nem egyházi)","Pályázati bevételek (nem egyházi)","Pályázati bevételek (nem egyházi)","Pályázati bevételek (nem egyházi)","Pályázati bevételek (nem egyházi)","Pályázati bevételek (nem egyházi)","Pályázati bevételek (nem egyházi)","Pályázati bevételek (nem egyházi)","Pályázati bevételek (nem egyházi)",{"$f":"SUM(U25:AA25)","v":0},{"$f":"SUMIF('Terv-segédlet'!$B:$B,$A25,'Terv-segédlet'!E:E)","v":0},{"$f":"SUMIF('Terv-segédlet'!$B:$B,$A25,'Terv-segédlet'!F:F)","v":0},{"$f":"SUMIF('Terv-segédlet'!$B:$B,$A25,'Terv-segédlet'!G:G)","v":0},{"$f":"SUMIF('Terv-segédlet'!$B:$B,$A25,'Terv-segédlet'!H:H)","v":0},{"$f":"SUMIF('Terv-segédlet'!$B:$B,$A25,'Terv-segédlet'!I:I)","v":0},{"$f":"SUMIF('Terv-segédlet'!$B:$B,$A25,'Terv-segédlet'!J:J)","v":0},{"$f":"SUMIF('Terv-segédlet'!$B:$B,$A25,'Terv-segédlet'!K:K)","v":0},{"$f":"SUM(AC25:AI25)","v":0},{"$f":"SUMIF(V!$A:$A,$A25,V!$K:$K)+SUMIF(bank!$A:$A,AC$9&$A25,bank!$M:$M)","v":0},{"$f":"SUMIF(Gy!$A:$A,$A25,Gy!$K:$K)+SUMIF(bank!$A:$A,AD$9&$A25,bank!$M:$M)","v":0},{"$f":"SUMIF(K!$A:$A,$A25,K!$K:$K)+SUMIF(bank!$A:$A,AE$9&$A25,bank!$M:$M)","v":0},{"$f":"SUMIF(Mk!$A:$A,$A25,Mk!$K:$K)+SUMIF(bank!$A:$A,AF$9&$A25,bank!$M:$M)","v":0},{"$f":"SUMIF(M!$A:$A,$A25,M!$K:$K)+SUMIF(bank!$A:$A,AG$9&$A25,bank!$M:$M)","v":0},{"$f":"SUMIF(P!$A:$A,$A25,P!$K:$K)+SUMIF(bank!$A:$A,AH$9&$A25,bank!$M:$M)","v":0},{"$f":"SUMIF(Zs!$A:$A,$A25,Zs!$K:$K)+SUMIF(bank!$A:$A,AI$9&$A25,bank!$M:$M)","v":0},"*","b","","értékesített ingatlan árbevétele"]
["k017","17",null,"Egyéb értékesítés","Pályázati bevételek (nem egyházi)","Pályázati bevételek (nem egyházi)","Pályázati bevételek (nem egyházi)","Pályázati bevételek (nem egyházi)","Pályázati bevételek (nem egyházi)","Pályázati bevételek (nem egyházi)","Pályázati bevételek (nem egyházi)","Pályázati bevételek (nem egyházi)","Pályázati bevételek (nem egyházi)","Pályázati bevételek (nem egyházi)","Pályázati bevételek (nem egyházi)","Pályázati bevételek (nem egyházi)","Pályázati bevételek (nem egyházi)","Pályázati bevételek (nem egyházi)","Pályázati bevételek (nem egyházi)",0,{"$f":"SUMIF('Terv-segédlet'!$B:$B,$A26,'Terv-segédlet'!E:E)","v":0},{"$f":"SUMIF('Terv-segédlet'!$B:$B,$A26,'Terv-segédlet'!F:F)","v":0},{"$f":"SUMIF('Terv-segédlet'!$B:$B,$A26,'Terv-segédlet'!G:G)","v":0},{"$f":"SUMIF('Terv-segédlet'!$B:$B,$A26,'Terv-segédlet'!H:H)","v":0},{"$f":"SUMIF('Terv-segédlet'!$B:$B,$A26,'Terv-segédlet'!I:I)","v":0},{"$f":"SUMIF('Terv-segédlet'!$B:$B,$A26,'Terv-segédlet'!J:J)","v":0},{"$f":"SUMIF('Terv-segédlet'!$B:$B,$A26,'Terv-segédlet'!K:K)","v":0},0,{"$f":"SUMIF(V!$A:$A,$A26,V!$K:$K)+SUMIF(bank!$A:$A,AC$9&$A26,bank!$M:$M)","v":0},{"$f":"SUMIF(Gy!$A:$A,$A26,Gy!$K:$K)+SUMIF(bank!$A:$A,AD$9&$A26,bank!$M:$M)","v":0},{"$f":"SUMIF(K!$A:$A,$A26,K!$K:$K)+SUMIF(bank!$A:$A,AE$9&$A26,bank!$M:$M)","v":0},{"$f":"SUMIF(Mk!$A:$A,$A26,Mk!$K:$K)+SUMIF(bank!$A:$A,AF$9&$A26,bank!$M:$M)","v":0},{"$f":"SUMIF(M!$A:$A,$A26,M!$K:$K)+SUMIF(bank!$A:$A,AG$9&$A26,bank!$M:$M)","v":0},{"$f":"SUMIF(P!$A:$A,$A26,P!$K:$K)+SUMIF(bank!$A:$A,AH$9&$A26,bank!$M:$M)","v":0},{"$f":"SUMIF(Zs!$A:$A,$A26,Zs!$K:$K)+SUMIF(bank!$A:$A,AI$9&$A26,bank!$M:$M)","v":0},"*","b","","ingatlanon kívüli leltári eszköz (ingó) értékesítésének bevétele"]
["k018","18",null,"ii) Értékesített, átruházott (engedményezett követelések) elismert értéke","ii) Értékesített, átruházott (engedményezett követelések) elismert értéke","ii) Értékesített, átruházott (engedményezett követelések) elismert értéke","ii) Értékesített, átruházott (engedményezett követelések) elismert értéke","ii) Értékesített, átruházott (engedményezett követelések) elismert értéke","ii) Értékesített, átruházott (engedményezett követelések) elismert értéke","ii) Értékesített, átruházott (engedményezett követelések) elismert értéke","ii) Értékesített, átruházott (engedményezett követelések) elismert értéke","ii) Értékesített, átruházott (engedményezett követelések) elismert értéke","ii) Értékesített, átruházott (engedményezett követelések) elismert értéke","ii) Értékesített, átruházott (engedményezett követelések) elismert értéke","ii) Értékesített, átruházott (engedményezett követelések) elismert értéke","ii) Értékesített, átruházott (engedményezett követelések) elismert értéke","ii) Értékesített, átruházott (engedményezett követelések) elismert értéke","ii) Értékesített, átruházott (engedményezett követelések) elismert értéke","ii) Értékesített, átruházott (engedményezett követelések) elismert értéke",0,{"$f":"SUMIF('Terv-segédlet'!$B:$B,$A27,'Terv-segédlet'!E:E)","v":0},{"$f":"SUMIF('Terv-segédlet'!$B:$B,$A27,'Terv-segédlet'!F:F)","v":0},{"$f":"SUMIF('Terv-segédlet'!$B:$B,$A27,'Terv-segédlet'!G:G)","v":0},{"$f":"SUMIF('Terv-segédlet'!$B:$B,$A27,'Terv-segédlet'!H:H)","v":0},{"$f":"SUMIF('Terv-segédlet'!$B:$B,$A27,'Terv-segédlet'!I:I)","v":0},{"$f":"SUMIF('Terv-segédlet'!$B:$B,$A27,'Terv-segédlet'!J:J)","v":0},{"$f":"SUMIF('Terv-segédlet'!$B:$B,$A27,'Terv-segédlet'!K:K)","v":0},0,{"$f":"SUMIF(V!$A:$A,$A27,V!$K:$K)+SUMIF(bank!$A:$A,AC$9&$A27,bank!$M:$M)","v":0},{"$f":"SUMIF(Gy!$A:$A,$A27,Gy!$K:$K)+SUMIF(bank!$A:$A,AD$9&$A27,bank!$M:$M)","v":0},{"$f":"SUMIF(K!$A:$A,$A27,K!$K:$K)+SUMIF(bank!$A:$A,AE$9&$A27,bank!$M:$M)","v":0},{"$f":"SUMIF(Mk!$A:$A,$A27,Mk!$K:$K)+SUMIF(bank!$A:$A,AF$9&$A27,bank!$M:$M)","v":0},{"$f":"SUMIF(M!$A:$A,$A27,M!$K:$K)+SUMIF(bank!$A:$A,AG$9&$A27,bank!$M:$M)","v":0},{"$f":"SUMIF(P!$A:$A,$A27,P!$K:$K)+SUMIF(bank!$A:$A,AH$9&$A27,bank!$M:$M)","v":0},{"$f":"SUMIF(Zs!$A:$A,$A27,Zs!$K:$K)+SUMIF(bank!$A:$A,AI$9&$A27,bank!$M:$M)","v":0},"*","b","","nem jellemző bevétel"]
["k019","19",null,"iii) Különféle egyéb bevételek (20..22)","v) Különféle egyéb bevételek (20..22)","v) Különféle egyéb bevételek (20..22)","v) Különféle egyéb bevételek (20..22)","v) Különféle egyéb bevételek (20..22)","v) Különféle egyéb bevételek (20..22)","v) Különféle egyéb bevételek (20..22)","v) Különféle egyéb bevételek (20..22)","v) Különféle egyéb bevételek (20..22)","v) Különféle egyéb bevételek (20..22)","v) Különféle egyéb bevételek (20..22)","v) Különféle egyéb bevételek (20..22)","v) Különféle egyéb bevételek (20..22)","v) Különféle egyéb bevételek (20..22)","v) Különféle egyéb bevételek (20..22)","v) Különféle egyéb bevételek (20..22)",{"$f":"SUM(T29:T31)","v":5000000},{"$f":"SUM(U29:U31)","v":0},{"$f":"SUM(V29:V31)","v":0},{"$f":"SUM(W29:W31)","v":0},{"$f":"SUM(X29:X31)","v":5000000},{"$f":"SUM(Y29:Y31)","v":0},{"$f":"SUM(Z29:Z31)","v":0},{"$f":"SUM(AA29:AA31)","v":0},{"$f":"SUM(AB29:AB31)","v":0},{"$f":"SUM(AC29:AC31)","v":0},{"$f":"SUM(AD29:AD31)","v":0},0,0,0,0,0,null,"b",0]
["k020","20",null,"Pályázati bevételek (nem egyházi)","Pályázati bevételek (nem egyházi)","Pályázati bevételek (nem egyházi)","Pályázati bevételek (nem egyházi)","Pályázati bevételek (nem egyházi)","Pályázati bevételek (nem egyházi)","Pályázati bevételek (nem egyházi)","Pályázati bevételek (nem egyházi)","Pályázati bevételek (nem egyházi)","Pályázati bevételek (nem egyházi)","Pályázati bevételek (nem egyházi)","Pályázati bevételek (nem egyházi)","Pályázati bevételek (nem egyházi)","Pályázati bevételek (nem egyházi)","Pályázati bevételek (nem egyházi)","Pályázati bevételek (nem egyházi)",{"$f":"SUM(U29:AA29)","v":5000000},{"$f":"SUMIF('Terv-segédlet'!$B:$B,$A29,'Terv-segédlet'!E:E)","v":0},{"$f":"SUMIF('Terv-segédlet'!$B:$B,$A29,'Terv-segédlet'!F:F)","v":0},{"$f":"SUMIF('Terv-segédlet'!$B:$B,$A29,'Terv-segédlet'!G:G)","v":0},{"$f":"SUMIF('Terv-segédlet'!$B:$B,$A29,'Terv-segédlet'!H:H)","v":5000000},{"$f":"SUMIF('Terv-segédlet'!$B:$B,$A29,'Terv-segédlet'!I:I)","v":0},{"$f":"SUMIF('Terv-segédlet'!$B:$B,$A29,'Terv-segédlet'!J:J)","v":0},{"$f":"SUMIF('Terv-segédlet'!$B:$B,$A29,'Terv-segédlet'!K:K)","v":0},{"$f":"SUM(AC29:AI29)","v":0},{"$f":"SUMIF(V!$A:$A,$A29,V!$K:$K)+SUMIF(bank!$A:$A,AC$9&$A29,bank!$M:$M)","v":0},{"$f":"SUMIF(Gy!$A:$A,$A29,Gy!$K:$K)+SUMIF(bank!$A:$A,AD$9&$A29,bank!$M:$M)","v":0},{"$f":"SUMIF(K!$A:$A,$A29,K!$K:$K)+SUMIF(bank!$A:$A,AE$9&$A29,bank!$M:$M)","v":0},{"$f":"SUMIF(Mk!$A:$A,$A29,Mk!$K:$K)+SUMIF(bank!$A:$A,AF$9&$A29,bank!$M:$M)","v":0},{"$f":"SUMIF(M!$A:$A,$A29,M!$K:$K)+SUMIF(bank!$A:$A,AG$9&$A29,bank!$M:$M)","v":0},{"$f":"SUMIF(P!$A:$A,$A29,P!$K:$K)+SUMIF(bank!$A:$A,AH$9&$A29,bank!$M:$M)","v":0},{"$f":"SUMIF(Zs!$A:$A,$A29,Zs!$K:$K)+SUMIF(bank!$A:$A,AI$9&$A29,bank!$M:$M)","v":0},"*","b",0,"nem egyháztól nyert pályázatok bevétele (pl. uniós)"]
["k021","21",null,"Káreseménnyel kapcsolatban kapott bevételek, biztosító által megítélt bevételek","Káreseménnyel kapcsolatban kapott bevételek, biztosító által megítélt bevételek","Káreseménnyel kapcsolatban kapott bevételek, biztosító által megítélt bevételek","Káreseménnyel kapcsolatban kapott bevételek, biztosító által megítélt bevételek","Káreseménnyel kapcsolatban kapott bevételek, biztosító által megítélt bevételek","Káreseménnyel kapcsolatban kapott bevételek, biztosító által megítélt bevételek","Káreseménnyel kapcsolatban kapott bevételek, biztosító által megítélt bevételek","Káreseménnyel kapcsolatban kapott bevételek, biztosító által megítélt bevételek","Káreseménnyel kapcsolatban kapott bevételek, biztosító által megítélt bevételek","Káreseménnyel kapcsolatban kapott bevételek, biztosító által megítélt bevételek","Káreseménnyel kapcsolatban kapott bevételek, biztosító által megítélt bevételek","Káreseménnyel kapcsolatban kapott bevételek, biztosító által megítélt bevételek","Káreseménnyel kapcsolatban kapott bevételek, biztosító által megítélt bevételek","Káreseménnyel kapcsolatban kapott bevételek, biztosító által megítélt bevételek","Káreseménnyel kapcsolatban kapott bevételek, biztosító által megítélt bevételek","Káreseménnyel kapcsolatban kapott bevételek, biztosító által megítélt bevételek",0,{"$f":"SUMIF('Terv-segédlet'!$B:$B,$A30,'Terv-segédlet'!E:E)","v":0},{"$f":"SUMIF('Terv-segédlet'!$B:$B,$A30,'Terv-segédlet'!F:F)","v":0},{"$f":"SUMIF('Terv-segédlet'!$B:$B,$A30,'Terv-segédlet'!G:G)","v":0},{"$f":"SUMIF('Terv-segédlet'!$B:$B,$A30,'Terv-segédlet'!H:H)","v":0},{"$f":"SUMIF('Terv-segédlet'!$B:$B,$A30,'Terv-segédlet'!I:I)","v":0},{"$f":"SUMIF('Terv-segédlet'!$B:$B,$A30,'Terv-segédlet'!J:J)","v":0},{"$f":"SUMIF('Terv-segédlet'!$B:$B,$A30,'Terv-segédlet'!K:K)","v":0},0,{"$f":"SUMIF(V!$A:$A,$A30,V!$K:$K)+SUMIF(bank!$A:$A,AC$9&$A30,bank!$M:$M)","v":0},{"$f":"SUMIF(Gy!$A:$A,$A30,Gy!$K:$K)+SUMIF(bank!$A:$A,AD$9&$A30,bank!$M:$M)","v":0},{"$f":"SUMIF(K!$A:$A,$A30,K!$K:$K)+SUMIF(bank!$A:$A,AE$9&$A30,bank!$M:$M)","v":0},{"$f":"SUMIF(Mk!$A:$A,$A30,Mk!$K:$K)+SUMIF(bank!$A:$A,AF$9&$A30,bank!$M:$M)","v":0},{"$f":"SUMIF(M!$A:$A,$A30,M!$K:$K)+SUMIF(bank!$A:$A,AG$9&$A30,bank!$M:$M)","v":0},{"$f":"SUMIF(P!$A:$A,$A30,P!$K:$K)+SUMIF(bank!$A:$A,AH$9&$A30,bank!$M:$M)","v":0},{"$f":"SUMIF(Zs!$A:$A,$A30,Zs!$K:$K)+SUMIF(bank!$A:$A,AI$9&$A30,bank!$M:$M)","v":0},"*","b","","káreseményhez kapcsolódó kártérítés, biztosító visszatérítése"]
["k022","22",null,"Különféle egyéb bevételek","Különféle egyéb bevételek","Különféle egyéb bevételek","Különféle egyéb bevételek","Különféle egyéb bevételek","Különféle egyéb bevételek","Különféle egyéb bevételek","Különféle egyéb bevételek","Különféle egyéb bevételek","Különféle egyéb bevételek","Különféle egyéb bevételek","Különféle egyéb bevételek","Különféle egyéb bevételek","Különféle egyéb bevételek","Különféle egyéb bevételek","Különféle egyéb bevételek",0,{"$f":"SUMIF('Terv-segédlet'!$B:$B,$A31,'Terv-segédlet'!E:E)","v":0},{"$f":"SUMIF('Terv-segédlet'!$B:$B,$A31,'Terv-segédlet'!F:F)","v":0},{"$f":"SUMIF('Terv-segédlet'!$B:$B,$A31,'Terv-segédlet'!G:G)","v":0},{"$f":"SUMIF('Terv-segédlet'!$B:$B,$A31,'Terv-segédlet'!H:H)","v":0},{"$f":"SUMIF('Terv-segédlet'!$B:$B,$A31,'Terv-segédlet'!I:I)","v":0},{"$f":"SUMIF('Terv-segédlet'!$B:$B,$A31,'Terv-segédlet'!J:J)","v":0},{"$f":"SUMIF('Terv-segédlet'!$B:$B,$A31,'Terv-segédlet'!K:K)","v":0},0,{"$f":"SUMIF(V!$A:$A,$A31,V!$K:$K)+SUMIF(bank!$A:$A,AC$9&$A31,bank!$M:$M)","v":0},{"$f":"SUMIF(Gy!$A:$A,$A31,Gy!$K:$K)+SUMIF(bank!$A:$A,AD$9&$A31,bank!$M:$M)","v":0},{"$f":"SUMIF(K!$A:$A,$A31,K!$K:$K)+SUMIF(bank!$A:$A,AE$9&$A31,bank!$M:$M)","v":0},{"$f":"SUMIF(Mk!$A:$A,$A31,Mk!$K:$K)+SUMIF(bank!$A:$A,AF$9&$A31,bank!$M:$M)","v":0},{"$f":"SUMIF(M!$A:$A,$A31,M!$K:$K)+SUMIF(bank!$A:$A,AG$9&$A31,bank!$M:$M)","v":0},{"$f":"SUMIF(P!$A:$A,$A31,P!$K:$K)+SUMIF(bank!$A:$A,AH$9&$A31,bank!$M:$M)","v":0},{"$f":"SUMIF(Zs!$A:$A,$A31,Zs!$K:$K)+SUMIF(bank!$A:$A,AI$9&$A31,bank!$M:$M)","v":0},"*","b","","kerekítések, előzőekben fel nem sorolt és támogatásként nem szereplő egyéb bevételek"]
["k023","23",null,"iv) Támogatások (24+35+41..42)","vi) Támogatások (a+b+c+d)","vi) Támogatások (a+b+c+d)","vi) Támogatások (a+b+c+d)","vi) Támogatások (a+b+c+d)","vi) Támogatások (a+b+c+d)","vi) Támogatások (a+b+c+d)","vi) Támogatások (a+b+c+d)","vi) Támogatások (a+b+c+d)","vi) Támogatások (a+b+c+d)","vi) Támogatások (a+b+c+d)","vi) Támogatások (a+b+c+d)","vi) Támogatások (a+b+c+d)","vi) Támogatások (a+b+c+d)","vi) Támogatások (a+b+c+d)","vi) Támogatások (a+b+c+d)",{"$f":"SUM(T33,T44,T50,T51)","v":6598000},{"$f":"SUM(U33,U44,U50,U51)","v":547000},{"$f":"SUM(V33,V44,V50,V51)","v":193000},{"$f":"SUM(W33,W44,W50,W51)","v":860000},{"$f":"SUM(X33,X44,X50,X51)","v":2359000},{"$f":"SUM(Y33,Y44,Y50,Y51)","v":1870000},{"$f":"SUM(Z33,Z44,Z50,Z51)","v":275000},{"$f":"SUM(AA33,AA44,AA50,AA51)","v":494000},{"$f":"SUM(AB33,AB44,AB50,AB51)","v":53810},{"$f":"SUM(AC33,AC44,AC50,AC51)","v":0},{"$f":"SUM(AD33,AD44,AD50,AD51)","v":0},0,11200,42610,0,0,null,"b",8.1555016671718706E-3]
["k024","24",null,"a ) Egyházi támogatás (25+34)","a ) Egyházi támogatás (aa+ab)","a ) Egyházi támogatás (aa+ab)","a ) Egyházi támogatás (aa+ab)","a ) Egyházi támogatás (aa+ab)","a ) Egyházi támogatás (aa+ab)","a ) Egyházi támogatás (aa+ab)","a ) Egyházi támogatás (aa+ab)","a ) Egyházi támogatás (aa+ab)","a ) Egyházi támogatás (aa+ab)","a ) Egyházi támogatás (aa+ab)","a ) Egyházi támogatás (aa+ab)","a ) Egyházi támogatás (aa+ab)","a ) Egyházi támogatás (aa+ab)","a ) Egyházi támogatás (aa+ab)","a ) Egyházi támogatás (aa+ab)",{"$f":"SUM(T34,T43)","v":1000000},{"$f":"SUM(U34,U43)","v":0},{"$f":"SUM(V34,V43)","v":0},{"$f":"SUM(W34,W43)","v":0},{"$f":"SUM(X34,X43)","v":1000000},{"$f":"SUM(Y34,Y43)","v":0},{"$f":"SUM(Z34,Z43)","v":0},{"$f":"SUM(AA34,AA43)","v":0},{"$f":"SUM(AB34,AB43)","v":0},{"$f":"SUM(AC34,AC43)","v":0},{"$f":"SUM(AD34,AD43)","v":0},0,0,0,0,0,null,"b",0]
["k025","25",null,"aa) Belföldi belső egyházi (26..33)","aa) Belföldi belső egyházi (26..33)","aa) Belföldi belső egyházi (26..33)","aa) Belföldi belső egyházi (26..33)","aa) Belföldi belső egyházi (26..33)","aa) Belföldi belső egyházi (26..33)","aa) Belföldi belső egyházi (26..33)","aa) Belföldi belső egyházi (26..33)","aa) Belföldi belső egyházi (26..33)","aa) Belföldi belső egyházi (26..33)","aa) Belföldi belső egyházi (26..33)","aa) Belföldi belső egyházi (26..33)","aa) Belföldi belső egyházi (26..33)","aa) Belföldi belső egyházi (26..33)","aa) Belföldi belső egyházi (26..33)","aa) Belföldi belső egyházi (26..33)",{"$f":"SUM(T35:T42)","v":1000000},{"$f":"SUM(U35:U42)","v":0},{"$f":"SUM(V35:V42)","v":0},{"$f":"SUM(W35:W42)","v":0},{"$f":"SUM(X35:X42)","v":1000000},{"$f":"SUM(Y35:Y42)","v":0},{"$f":"SUM(Z35:Z42)","v":0},{"$f":"SUM(AA35:AA42)","v":0},{"$f":"SUM(AB35:AB42)","v":0},{"$f":"SUM(AC35:AC42)","v":0},{"$f":"SUM(AD35:AD42)","v":0},0,0,0,0,0,null,"b",0]
["k026","26",null,"-Működési támogatás","-Működési támogatás","-Működési támogatás","-Működési támogatás","-Működési támogatás","-Működési támogatás","-Működési támogatás","-Működési támogatás","-Működési támogatás","-Működési támogatás","-Működési támogatás","-Működési támogatás","-Működési támogatás","-Működési támogatás","-Működési támogatás","-Működési támogatás",{"$f":"SUM(U35:AA35)","v":0},{"$f":"SUMIF('Terv-segédlet'!$B:$B,$A35,'Terv-segédlet'!E:E)","v":0},{"$f":"SUMIF('Terv-segédlet'!$B:$B,$A35,'Terv-segédlet'!F:F)","v":0},{"$f":"SUMIF('Terv-segédlet'!$B:$B,$A35,'Terv-segédlet'!G:G)","v":0},{"$f":"SUMIF('Terv-segédlet'!$B:$B,$A35,'Terv-segédlet'!H:H)","v":0},{"$f":"SUMIF('Terv-segédlet'!$B:$B,$A35,'Terv-segédlet'!I:I)","v":0},{"$f":"SUMIF('Terv-segédlet'!$B:$B,$A35,'Terv-segédlet'!J:J)","v":0},{"$f":"SUMIF('Terv-segédlet'!$B:$B,$A35,'Terv-segédlet'!K:K)","v":0},{"$f":"SUM(AC35:AI35)","v":0},{"$f":"SUMIF(V!$A:$A,$A35,V!$K:$K)+SUMIF(bank!$A:$A,AC$9&$A35,bank!$M:$M)","v":0},{"$f":"SUMIF(Gy!$A:$A,$A35,Gy!$K:$K)+SUMIF(bank!$A:$A,AD$9&$A35,bank!$M:$M)","v":0},{"$f":"SUMIF(K!$A:$A,$A35,K!$K:$K)+SUMIF(bank!$A:$A,AE$9&$A35,bank!$M:$M)","v":0},{"$f":"SUMIF(Mk!$A:$A,$A35,Mk!$K:$K)+SUMIF(bank!$A:$A,AF$9&$A35,bank!$M:$M)","v":0},{"$f":"SUMIF(M!$A:$A,$A35,M!$K:$K)+SUMIF(bank!$A:$A,AG$9&$A35,bank!$M:$M)","v":0},{"$f":"SUMIF(P!$A:$A,$A35,P!$K:$K)+SUMIF(bank!$A:$A,AH$9&$A35,bank!$M:$M)","v":0},{"$f":"SUMIF(Zs!$A:$A,$A35,Zs!$K:$K)+SUMIF(bank!$A:$A,AI$9&$A35,bank!$M:$M)","v":0},"*","b","","MEE-től működés céljára kapott támogatás"]
["k027","27",null,"-Gusztáv Adolf segély","-Gusztáv Adolf segély","-Gusztáv Adolf segély","-Gusztáv Adolf segély","-Gusztáv Adolf segély","-Gusztáv Adolf segély","-Gusztáv Adolf segély","-Gusztáv Adolf segély","-Gusztáv Adolf segély","-Gusztáv Adolf segély","-Gusztáv Adolf segély","-Gusztáv Adolf segély","-Gusztáv Adolf segély","-Gusztáv Adolf segély","-Gusztáv Adolf segély","-Gusztáv Adolf segély",0,{"$f":"SUMIF('Terv-segédlet'!$B:$B,$A36,'Terv-segédlet'!E:E)","v":0},{"$f":"SUMIF('Terv-segédlet'!$B:$B,$A36,'Terv-segédlet'!F:F)","v":0},{"$f":"SUMIF('Terv-segédlet'!$B:$B,$A36,'Terv-segédlet'!G:G)","v":0},{"$f":"SUMIF('Terv-segédlet'!$B:$B,$A36,'Terv-segédlet'!H:H)","v":0},{"$f":"SUMIF('Terv-segédlet'!$B:$B,$A36,'Terv-segédlet'!I:I)","v":0},{"$f":"SUMIF('Terv-segédlet'!$B:$B,$A36,'Terv-segédlet'!J:J)","v":0},{"$f":"SUMIF('Terv-segédlet'!$B:$B,$A36,'Terv-segédlet'!K:K)","v":0},0,{"$f":"SUMIF(V!$A:$A,$A36,V!$K:$K)+SUMIF(bank!$A:$A,AC$9&$A36,bank!$M:$M)","v":0},{"$f":"SUMIF(Gy!$A:$A,$A36,Gy!$K:$K)+SUMIF(bank!$A:$A,AD$9&$A36,bank!$M:$M)","v":0},{"$f":"SUMIF(K!$A:$A,$A36,K!$K:$K)+SUMIF(bank!$A:$A,AE$9&$A36,bank!$M:$M)","v":0},{"$f":"SUMIF(Mk!$A:$A,$A36,Mk!$K:$K)+SUMIF(bank!$A:$A,AF$9&$A36,bank!$M:$M)","v":0},{"$f":"SUMIF(M!$A:$A,$A36,M!$K:$K)+SUMIF(bank!$A:$A,AG$9&$A36,bank!$M:$M)","v":0},{"$f":"SUMIF(P!$A:$A,$A36,P!$K:$K)+SUMIF(bank!$A:$A,AH$9&$A36,bank!$M:$M)","v":0},{"$f":"SUMIF(Zs!$A:$A,$A36,Zs!$K:$K)+SUMIF(bank!$A:$A,AI$9&$A36,bank!$M:$M)","v":0},"*","b","","GAS támogatás - gyülekezeti felhasználásra kapott"]
["k028","28",null,"-Más egyházi jogi személytől","-Más egyházi jogi személytől","-Más egyházi jogi személytől","-Más egyházi jogi személytől","-Más egyházi jogi személytől","-Más egyházi jogi személytől","-Más egyházi jogi személytől","-Más egyházi jogi személytől","-Más egyházi jogi személytől","-Más egyházi jogi személytől","-Más egyházi jogi személytől","-Más egyházi jogi személytől","-Más egyházi jogi személytől","-Más egyházi jogi személytől","-Más egyházi jogi személytől","-Más egyházi jogi személytől",0,{"$f":"SUMIF('Terv-segédlet'!$B:$B,$A37,'Terv-segédlet'!E:E)","v":0},{"$f":"SUMIF('Terv-segédlet'!$B:$B,$A37,'Terv-segédlet'!F:F)","v":0},{"$f":"SUMIF('Terv-segédlet'!$B:$B,$A37,'Terv-segédlet'!G:G)","v":0},{"$f":"SUMIF('Terv-segédlet'!$B:$B,$A37,'Terv-segédlet'!H:H)","v":0},{"$f":"SUMIF('Terv-segédlet'!$B:$B,$A37,'Terv-segédlet'!I:I)","v":0},{"$f":"SUMIF('Terv-segédlet'!$B:$B,$A37,'Terv-segédlet'!J:J)","v":0},{"$f":"SUMIF('Terv-segédlet'!$B:$B,$A37,'Terv-segédlet'!K:K)","v":0},0,{"$f":"SUMIF(V!$A:$A,$A37,V!$K:$K)+SUMIF(bank!$A:$A,AC$9&$A37,bank!$M:$M)","v":0},{"$f":"SUMIF(Gy!$A:$A,$A37,Gy!$K:$K)+SUMIF(bank!$A:$A,AD$9&$A37,bank!$M:$M)","v":0},{"$f":"SUMIF(K!$A:$A,$A37,K!$K:$K)+SUMIF(bank!$A:$A,AE$9&$A37,bank!$M:$M)","v":0},{"$f":"SUMIF(Mk!$A:$A,$A37,Mk!$K:$K)+SUMIF(bank!$A:$A,AF$9&$A37,bank!$M:$M)","v":0},{"$f":"SUMIF(M!$A:$A,$A37,M!$K:$K)+SUMIF(bank!$A:$A,AG$9&$A37,bank!$M:$M)","v":0},{"$f":"SUMIF(P!$A:$A,$A37,P!$K:$K)+SUMIF(bank!$A:$A,AH$9&$A37,bank!$M:$M)","v":0},{"$f":"SUMIF(Zs!$A:$A,$A37,Zs!$K:$K)+SUMIF(bank!$A:$A,AI$9&$A37,bank!$M:$M)","v":0},"*","b","","más egyházközségtől, egyházmegyétől, egyházi intézménytől kapott támogatás (más adószám!)"]
["k029","29",null,"-Beruházási támogatás",null,null,null,null,null,null,null,null,null,null,null,null,null,null,null,1000000,{"$f":"SUMIF('Terv-segédlet'!$B:$B,$A38,'Terv-segédlet'!E:E)","v":0},{"$f":"SUMIF('Terv-segédlet'!$B:$B,$A38,'Terv-segédlet'!F:F)","v":0},{"$f":"SUMIF('Terv-segédlet'!$B:$B,$A38,'Terv-segédlet'!G:G)","v":0},{"$f":"SUMIF('Terv-segédlet'!$B:$B,$A38,'Terv-segédlet'!H:H)","v":1000000},{"$f":"SUMIF('Terv-segédlet'!$B:$B,$A38,'Terv-segédlet'!I:I)","v":0},{"$f":"SUMIF('Terv-segédlet'!$B:$B,$A38,'Terv-segédlet'!J:J)","v":0},{"$f":"SUMIF('Terv-segédlet'!$B:$B,$A38,'Terv-segédlet'!K:K)","v":0},0,{"$f":"SUMIF(V!$A:$A,$A38,V!$K:$K)+SUMIF(bank!$A:$A,AC$9&$A38,bank!$M:$M)","v":0},{"$f":"SUMIF(Gy!$A:$A,$A38,Gy!$K:$K)+SUMIF(bank!$A:$A,AD$9&$A38,bank!$M:$M)","v":0},{"$f":"SUMIF(K!$A:$A,$A38,K!$K:$K)+SUMIF(bank!$A:$A,AE$9&$A38,bank!$M:$M)","v":0},{"$f":"SUMIF(Mk!$A:$A,$A38,Mk!$K:$K)+SUMIF(bank!$A:$A,AF$9&$A38,bank!$M:$M)","v":0},{"$f":"SUMIF(M!$A:$A,$A38,M!$K:$K)+SUMIF(bank!$A:$A,AG$9&$A38,bank!$M:$M)","v":0},{"$f":"SUMIF(P!$A:$A,$A38,P!$K:$K)+SUMIF(bank!$A:$A,AH$9&$A38,bank!$M:$M)","v":0},{"$f":"SUMIF(Zs!$A:$A,$A38,Zs!$K:$K)+SUMIF(bank!$A:$A,AI$9&$A38,bank!$M:$M)","v":0},"*","b",0,"MEE-től beruházás céljára kapott támogatás (országos, kerületi, megyei keret terhére)"]
["k030","30",null,"-Egyházi pályázati támogatás","-Egyházi pályázati támogatás","-Egyházi pályázati támogatás","-Egyházi pályázati támogatás","-Egyházi pályázati támogatás","-Egyházi pályázati támogatás","-Egyházi pályázati támogatás","-Egyházi pályázati támogatás","-Egyházi pályázati támogatás","-Egyházi pályázati támogatás","-Egyházi pályázati támogatás","-Egyházi pályázati támogatás","-Egyházi pályázati támogatás","-Egyházi pályázati támogatás","-Egyházi pályázati támogatás","-Egyházi pályázati támogatás",0,{"$f":"SUMIF('Terv-segédlet'!$B:$B,$A39,'Terv-segédlet'!E:E)","v":0},{"$f":"SUMIF('Terv-segédlet'!$B:$B,$A39,'Terv-segédlet'!F:F)","v":0},{"$f":"SUMIF('Terv-segédlet'!$B:$B,$A39,'Terv-segédlet'!G:G)","v":0},{"$f":"SUMIF('Terv-segédlet'!$B:$B,$A39,'Terv-segédlet'!H:H)","v":0},{"$f":"SUMIF('Terv-segédlet'!$B:$B,$A39,'Terv-segédlet'!I:I)","v":0},{"$f":"SUMIF('Terv-segédlet'!$B:$B,$A39,'Terv-segédlet'!J:J)","v":0},{"$f":"SUMIF('Terv-segédlet'!$B:$B,$A39,'Terv-segédlet'!K:K)","v":0},0,{"$f":"SUMIF(V!$A:$A,$A39,V!$K:$K)+SUMIF(bank!$A:$A,AC$9&$A39,bank!$M:$M)","v":0},{"$f":"SUMIF(Gy!$A:$A,$A39,Gy!$K:$K)+SUMIF(bank!$A:$A,AD$9&$A39,bank!$M:$M)","v":0},{"$f":"SUMIF(K!$A:$A,$A39,K!$K:$K)+SUMIF(bank!$A:$A,AE$9&$A39,bank!$M:$M)","v":0},{"$f":"SUMIF(Mk!$A:$A,$A39,Mk!$K:$K)+SUMIF(bank!$A:$A,AF$9&$A39,bank!$M:$M)","v":0},{"$f":"SUMIF(M!$A:$A,$A39,M!$K:$K)+SUMIF(bank!$A:$A,AG$9&$A39,bank!$M:$M)","v":0},{"$f":"SUMIF(P!$A:$A,$A39,P!$K:$K)+SUMIF(bank!$A:$A,AH$9&$A39,bank!$M:$M)","v":0},{"$f":"SUMIF(Zs!$A:$A,$A39,Zs!$K:$K)+SUMIF(bank!$A:$A,AI$9&$A39,bank!$M:$M)","v":0},"*","b","","ifjúsági, zenei, missziós, stb. egyházi pályázaton nyert támogatás"]
["k031","31",null,"-Pályázati előkészítési és önrész támogatás","-Pályázati előkészítési és önrész támogatás","-Pályázati előkészítési és önrész támogatás","-Pályázati előkészítési és önrész támogatás","-Pályázati előkészítési és önrész támogatás","-Pályázati előkészítési és önrész támogatás","-Pályázati előkészítési és önrész támogatás","-Pályázati előkészítési és önrész támogatás","-Pályázati előkészítési és önrész támogatás","-Pályázati előkészítési és önrész támogatás","-Pályázati előkészítési és önrész támogatás","-Pályázati előkészítési és önrész támogatás","-Pályázati előkészítési és önrész támogatás","-Pályázati előkészítési és önrész támogatás","-Pályázati előkészítési és önrész támogatás","-Pályázati előkészítési és önrész támogatás",0,{"$f":"SUMIF('Terv-segédlet'!$B:$B,$A40,'Terv-segédlet'!E:E)","v":0},{"$f":"SUMIF('Terv-segédlet'!$B:$B,$A40,'Terv-segédlet'!F:F)","v":0},{"$f":"SUMIF('Terv-segédlet'!$B:$B,$A40,'Terv-segédlet'!G:G)","v":0},{"$f":"SUMIF('Terv-segédlet'!$B:$B,$A40,'Terv-segédlet'!H:H)","v":0},{"$f":"SUMIF('Terv-segédlet'!$B:$B,$A40,'Terv-segédlet'!I:I)","v":0},{"$f":"SUMIF('Terv-segédlet'!$B:$B,$A40,'Terv-segédlet'!J:J)","v":0},{"$f":"SUMIF('Terv-segédlet'!$B:$B,$A40,'Terv-segédlet'!K:K)","v":0},0,{"$f":"SUMIF(V!$A:$A,$A40,V!$K:$K)+SUMIF(bank!$A:$A,AC$9&$A40,bank!$M:$M)","v":0},{"$f":"SUMIF(Gy!$A:$A,$A40,Gy!$K:$K)+SUMIF(bank!$A:$A,AD$9&$A40,bank!$M:$M)","v":0},{"$f":"SUMIF(K!$A:$A,$A40,K!$K:$K)+SUMIF(bank!$A:$A,AE$9&$A40,bank!$M:$M)","v":0},{"$f":"SUMIF(Mk!$A:$A,$A40,Mk!$K:$K)+SUMIF(bank!$A:$A,AF$9&$A40,bank!$M:$M)","v":0},{"$f":"SUMIF(M!$A:$A,$A40,M!$K:$K)+SUMIF(bank!$A:$A,AG$9&$A40,bank!$M:$M)","v":0},{"$f":"SUMIF(P!$A:$A,$A40,P!$K:$K)+SUMIF(bank!$A:$A,AH$9&$A40,bank!$M:$M)","v":0},{"$f":"SUMIF(Zs!$A:$A,$A40,Zs!$K:$K)+SUMIF(bank!$A:$A,AI$9&$A40,bank!$M:$M)","v":0},"*","b","","MEE által folyósított pályázati előkészítési- és önrésztámogatás"]
["k032",{"$f":"+B40+1","v":32},null,"-Utiköltség támogatás","-Pályázati előkészítési és önrész támogatás","-Pályázati előkészítési és önrész támogatás","-Pályázati előkészítési és önrész támogatás","-Pályázati előkészítési és önrész támogatás","-Pályázati előkészítési és önrész támogatás","-Pályázati előkészítési és önrész támogatás","-Pályázati előkészítési és önrész támogatás","-Pályázati előkészítési és önrész támogatás","-Pályázati előkészítési és önrész támogatás","-Pályázati előkészítési és önrész támogatás","-Pályázati előkészítési és önrész támogatás","-Pályázati előkészítési és önrész támogatás","-Pályázati előkészítési és önrész támogatás","-Pályázati előkészítési és önrész támogatás","-Pályázati előkészítési és önrész támogatás",0,{"$f":"SUMIF('Terv-segédlet'!$B:$B,$A41,'Terv-segédlet'!E:E)","v":0},{"$f":"SUMIF('Terv-segédlet'!$B:$B,$A41,'Terv-segédlet'!F:F)","v":0},{"$f":"SUMIF('Terv-segédlet'!$B:$B,$A41,'Terv-segédlet'!G:G)","v":0},{"$f":"SUMIF('Terv-segédlet'!$B:$B,$A41,'Terv-segédlet'!H:H)","v":0},{"$f":"SUMIF('Terv-segédlet'!$B:$B,$A41,'Terv-segédlet'!I:I)","v":0},{"$f":"SUMIF('Terv-segédlet'!$B:$B,$A41,'Terv-segédlet'!J:J)","v":0},{"$f":"SUMIF('Terv-segédlet'!$B:$B,$A41,'Terv-segédlet'!K:K)","v":0},0,{"$f":"SUMIF(V!$A:$A,$A41,V!$K:$K)+SUMIF(bank!$A:$A,AC$9&$A41,bank!$M:$M)","v":0},{"$f":"SUMIF(Gy!$A:$A,$A41,Gy!$K:$K)+SUMIF(bank!$A:$A,AD$9&$A41,bank!$M:$M)","v":0},{"$f":"SUMIF(K!$A:$A,$A41,K!$K:$K)+SUMIF(bank!$A:$A,AE$9&$A41,bank!$M:$M)","v":0},{"$f":"SUMIF(Mk!$A:$A,$A41,Mk!$K:$K)+SUMIF(bank!$A:$A,AF$9&$A41,bank!$M:$M)","v":0},{"$f":"SUMIF(M!$A:$A,$A41,M!$K:$K)+SUMIF(bank!$A:$A,AG$9&$A41,bank!$M:$M)","v":0},{"$f":"SUMIF(P!$A:$A,$A41,P!$K:$K)+SUMIF(bank!$A:$A,AH$9&$A41,bank!$M:$M)","v":0},{"$f":"SUMIF(Zs!$A:$A,$A41,Zs!$K:$K)+SUMIF(bank!$A:$A,AI$9&$A41,bank!$M:$M)","v":0},"*","b","","belső egyházi forrásból fizetett utiköltség (pl. tisztségviselők utiköltségtérítése)"]
["k033",{"$f":"+B41+1","v":33},null,"-Belső egyházi forrásból kapott egyéb juttatás","-Belső egyházi forrásból kapott egyéb juttatás","-Belső egyházi forrásból kapott egyéb juttatás","-Belső egyházi forrásból kapott egyéb juttatás","-Belső egyházi forrásból kapott egyéb juttatás","-Belső egyházi forrásból kapott egyéb juttatás","-Belső egyházi forrásból kapott egyéb juttatás","-Belső egyházi forrásból kapott egyéb juttatás","-Belső egyházi forrásból kapott egyéb juttatás","-Belső egyházi forrásból kapott egyéb juttatás","-Belső egyházi forrásból kapott egyéb juttatás","-Belső egyházi forrásból kapott egyéb juttatás","-Belső egyházi forrásból kapott egyéb juttatás","-Belső egyházi forrásból kapott egyéb juttatás","-Belső egyházi forrásból kapott egyéb juttatás","-Belső egyházi forrásból kapott egyéb juttatás",0,{"$f":"SUMIF('Terv-segédlet'!$B:$B,$A42,'Terv-segédlet'!E:E)","v":0},{"$f":"SUMIF('Terv-segédlet'!$B:$B,$A42,'Terv-segédlet'!F:F)","v":0},{"$f":"SUMIF('Terv-segédlet'!$B:$B,$A42,'Terv-segédlet'!G:G)","v":0},{"$f":"SUMIF('Terv-segédlet'!$B:$B,$A42,'Terv-segédlet'!H:H)","v":0},{"$f":"SUMIF('Terv-segédlet'!$B:$B,$A42,'Terv-segédlet'!I:I)","v":0},{"$f":"SUMIF('Terv-segédlet'!$B:$B,$A42,'Terv-segédlet'!J:J)","v":0},{"$f":"SUMIF('Terv-segédlet'!$B:$B,$A42,'Terv-segédlet'!K:K)","v":0},0,{"$f":"SUMIF(V!$A:$A,$A42,V!$K:$K)+SUMIF(bank!$A:$A,AC$9&$A42,bank!$M:$M)","v":0},{"$f":"SUMIF(Gy!$A:$A,$A42,Gy!$K:$K)+SUMIF(bank!$A:$A,AD$9&$A42,bank!$M:$M)","v":0},{"$f":"SUMIF(K!$A:$A,$A42,K!$K:$K)+SUMIF(bank!$A:$A,AE$9&$A42,bank!$M:$M)","v":0},{"$f":"SUMIF(Mk!$A:$A,$A42,Mk!$K:$K)+SUMIF(bank!$A:$A,AF$9&$A42,bank!$M:$M)","v":0},{"$f":"SUMIF(M!$A:$A,$A42,M!$K:$K)+SUMIF(bank!$A:$A,AG$9&$A42,bank!$M:$M)","v":0},{"$f":"SUMIF(P!$A:$A,$A42,P!$K:$K)+SUMIF(bank!$A:$A,AH$9&$A42,bank!$M:$M)","v":0},{"$f":"SUMIF(Zs!$A:$A,$A42,Zs!$K:$K)+SUMIF(bank!$A:$A,AI$9&$A42,bank!$M:$M)","v":0},"*","b","","MEE által folyósított egyéb támogatások (pl. rendezvényszervezésre - kerületi nap; belső kártalanítás)"]
["k034",34,null,"ab) Külföldi egyházi","ab) Külföldi egyházi","ab) Külföldi egyházi","ab) Külföldi egyházi","ab) Külföldi egyházi","ab) Külföldi egyházi","ab) Külföldi egyházi","ab) Külföldi egyházi","ab) Külföldi egyházi","ab) Külföldi egyházi","ab) Külföldi egyházi","ab) Külföldi egyházi","ab) Külföldi egyházi","ab) Külföldi egyházi","ab) Külföldi egyházi","ab) Külföldi egyházi",0,{"$f":"SUMIF('Terv-segédlet'!$B:$B,$A43,'Terv-segédlet'!E:E)","v":0},{"$f":"SUMIF('Terv-segédlet'!$B:$B,$A43,'Terv-segédlet'!F:F)","v":0},{"$f":"SUMIF('Terv-segédlet'!$B:$B,$A43,'Terv-segédlet'!G:G)","v":0},{"$f":"SUMIF('Terv-segédlet'!$B:$B,$A43,'Terv-segédlet'!H:H)","v":0},{"$f":"SUMIF('Terv-segédlet'!$B:$B,$A43,'Terv-segédlet'!I:I)","v":0},{"$f":"SUMIF('Terv-segédlet'!$B:$B,$A43,'Terv-segédlet'!J:J)","v":0},{"$f":"SUMIF('Terv-segédlet'!$B:$B,$A43,'Terv-segédlet'!K:K)","v":0},0,{"$f":"SUMIF(V!$A:$A,$A43,V!$K:$K)+SUMIF(bank!$A:$A,AC$9&$A43,bank!$M:$M)","v":0},{"$f":"SUMIF(Gy!$A:$A,$A43,Gy!$K:$K)+SUMIF(bank!$A:$A,AD$9&$A43,bank!$M:$M)","v":0},{"$f":"SUMIF(K!$A:$A,$A43,K!$K:$K)+SUMIF(bank!$A:$A,AE$9&$A43,bank!$M:$M)","v":0},{"$f":"SUMIF(Mk!$A:$A,$A43,Mk!$K:$K)+SUMIF(bank!$A:$A,AF$9&$A43,bank!$M:$M)","v":0},{"$f":"SUMIF(M!$A:$A,$A43,M!$K:$K)+SUMIF(bank!$A:$A,AG$9&$A43,bank!$M:$M)","v":0},{"$f":"SUMIF(P!$A:$A,$A43,P!$K:$K)+SUMIF(bank!$A:$A,AH$9&$A43,bank!$M:$M)","v":0},{"$f":"SUMIF(Zs!$A:$A,$A43,Zs!$K:$K)+SUMIF(bank!$A:$A,AI$9&$A43,bank!$M:$M)","v":0},"*","b","","Bajor segély, GAW segély, LVSZ segély, Testvérgyülekezetektől kapott támogatások"]
["k035",35,null,"b) Központi költségvetés (36..40)","b) Központi költségvetés (36..40)","b) Központi költségvetés (36..40)","b) Központi költségvetés (36..40)","b) Központi költségvetés (36..40)","b) Központi költségvetés (36..40)","b) Központi költségvetés (36..40)","b) Központi költségvetés (36..40)","b) Központi költségvetés (36..40)","b) Központi költségvetés (36..40)","b) Központi költségvetés (36..40)","b) Központi költségvetés (36..40)","b) Központi költségvetés (36..40)","b) Központi költségvetés (36..40)","b) Központi költségvetés (36..40)","b) Központi költségvetés (36..40)",{"$f":"SUM(T45:T49)","v":0},{"$f":"SUM(U45:U49)","v":0},{"$f":"SUM(V45:V49)","v":0},{"$f":"SUM(W45:W49)","v":0},{"$f":"SUM(X45:X49)","v":0},{"$f":"SUM(Y45:Y49)","v":0},{"$f":"SUM(Z45:Z49)","v":0},{"$f":"SUM(AA45:AA49)","v":0},{"$f":"SUM(AB45:AB49)","v":0},{"$f":"SUM(AC45:AC49)","v":0},{"$f":"SUM(AD45:AD49)","v":0},0,0,0,0,0,null,"b",""]
["k036",36,null,"-Köznevelési támogatás","-Köznevelési normatív támogatás","-Köznevelési normatív támogatás","-Köznevelési normatív támogatás","-Köznevelési normatív támogatás","-Köznevelési normatív támogatás","-Köznevelési normatív támogatás","-Köznevelési normatív támogatás","-Köznevelési normatív támogatás","-Köznevelési normatív támogatás","-Köznevelési normatív támogatás","-Köznevelési normatív támogatás","-Köznevelési normatív támogatás","-Köznevelési normatív támogatás","-Köznevelési normatív támogatás","-Köznevelési normatív támogatás",{"$f":"SUM(U45:AA45)","v":0},{"$f":"SUMIF('Terv-segédlet'!$B:$B,$A45,'Terv-segédlet'!E:E)","v":0},{"$f":"SUMIF('Terv-segédlet'!$B:$B,$A45,'Terv-segédlet'!F:F)","v":0},{"$f":"SUMIF('Terv-segédlet'!$B:$B,$A45,'Terv-segédlet'!G:G)","v":0},{"$f":"SUMIF('Terv-segédlet'!$B:$B,$A45,'Terv-segédlet'!H:H)","v":0},{"$f":"SUMIF('Terv-segédlet'!$B:$B,$A45,'Terv-segédlet'!I:I)","v":0},{"$f":"SUMIF('Terv-segédlet'!$B:$B,$A45,'Terv-segédlet'!J:J)","v":0},{"$f":"SUMIF('Terv-segédlet'!$B:$B,$A45,'Terv-segédlet'!K:K)","v":0},{"$f":"SUM(AC45:AI45)","v":0},{"$f":"SUMIF(V!$A:$A,$A45,V!$K:$K)+SUMIF(bank!$A:$A,AC$9&$A45,bank!$M:$M)","v":0},{"$f":"SUMIF(Gy!$A:$A,$A45,Gy!$K:$K)+SUMIF(bank!$A:$A,AD$9&$A45,bank!$M:$M)","v":0},{"$f":"SUMIF(K!$A:$A,$A45,K!$K:$K)+SUMIF(bank!$A:$A,AE$9&$A45,bank!$M:$M)","v":0},{"$f":"SUMIF(Mk!$A:$A,$A45,Mk!$K:$K)+SUMIF(bank!$A:$A,AF$9&$A45,bank!$M:$M)","v":0},{"$f":"SUMIF(M!$A:$A,$A45,M!$K:$K)+SUMIF(bank!$A:$A,AG$9&$A45,bank!$M:$M)","v":0},{"$f":"SUMIF(P!$A:$A,$A45,P!$K:$K)+SUMIF(bank!$A:$A,AH$9&$A45,bank!$M:$M)","v":0},{"$f":"SUMIF(Zs!$A:$A,$A45,Zs!$K:$K)+SUMIF(bank!$A:$A,AI$9&$A45,bank!$M:$M)","v":0},"*","b","","köznevelési intézmény állami támogatása "]
["k037",37,null,"-Szociális támogatás","-Szociális normatív támogatás","-Szociális normatív támogatás","-Szociális normatív támogatás","-Szociális normatív támogatás","-Szociális normatív támogatás","-Szociális normatív támogatás","-Szociális normatív támogatás","-Szociális normatív támogatás","-Szociális normatív támogatás","-Szociális normatív támogatás","-Szociális normatív támogatás","-Szociális normatív támogatás","-Szociális normatív támogatás","-Szociális normatív támogatás","-Szociális normatív támogatás",0,{"$f":"SUMIF('Terv-segédlet'!$B:$B,$A46,'Terv-segédlet'!E:E)","v":0},{"$f":"SUMIF('Terv-segédlet'!$B:$B,$A46,'Terv-segédlet'!F:F)","v":0},{"$f":"SUMIF('Terv-segédlet'!$B:$B,$A46,'Terv-segédlet'!G:G)","v":0},{"$f":"SUMIF('Terv-segédlet'!$B:$B,$A46,'Terv-segédlet'!H:H)","v":0},{"$f":"SUMIF('Terv-segédlet'!$B:$B,$A46,'Terv-segédlet'!I:I)","v":0},{"$f":"SUMIF('Terv-segédlet'!$B:$B,$A46,'Terv-segédlet'!J:J)","v":0},{"$f":"SUMIF('Terv-segédlet'!$B:$B,$A46,'Terv-segédlet'!K:K)","v":0},0,{"$f":"SUMIF(V!$A:$A,$A46,V!$K:$K)+SUMIF(bank!$A:$A,AC$9&$A46,bank!$M:$M)","v":0},{"$f":"SUMIF(Gy!$A:$A,$A46,Gy!$K:$K)+SUMIF(bank!$A:$A,AD$9&$A46,bank!$M:$M)","v":0},{"$f":"SUMIF(K!$A:$A,$A46,K!$K:$K)+SUMIF(bank!$A:$A,AE$9&$A46,bank!$M:$M)","v":0},{"$f":"SUMIF(Mk!$A:$A,$A46,Mk!$K:$K)+SUMIF(bank!$A:$A,AF$9&$A46,bank!$M:$M)","v":0},{"$f":"SUMIF(M!$A:$A,$A46,M!$K:$K)+SUMIF(bank!$A:$A,AG$9&$A46,bank!$M:$M)","v":0},{"$f":"SUMIF(P!$A:$A,$A46,P!$K:$K)+SUMIF(bank!$A:$A,AH$9&$A46,bank!$M:$M)","v":0},{"$f":"SUMIF(Zs!$A:$A,$A46,Zs!$K:$K)+SUMIF(bank!$A:$A,AI$9&$A46,bank!$M:$M)","v":0},"*","b","","szociális intézmény állami támogatása"]
["k038",38,null,"-Hitoktatási, munkaügyi költségvetési támogatás","-Hitoktatási, munkaügyi költségvetési támogatás","-Hitoktatási, munkaügyi költségvetési támogatás","-Hitoktatási, munkaügyi költségvetési támogatás","-Hitoktatási, munkaügyi költségvetési támogatás","-Hitoktatási, munkaügyi költségvetési támogatás","-Hitoktatási, munkaügyi költségvetési támogatás","-Hitoktatási, munkaügyi költségvetési támogatás","-Hitoktatási, munkaügyi költségvetési támogatás","-Hitoktatási, munkaügyi költségvetési támogatás","-Hitoktatási, munkaügyi költségvetési támogatás","-Hitoktatási, munkaügyi költségvetési támogatás","-Hitoktatási, munkaügyi költségvetési támogatás","-Hitoktatási, munkaügyi költségvetési támogatás","-Hitoktatási, munkaügyi költségvetési támogatás","-Hitoktatási, munkaügyi költségvetési támogatás",0,{"$f":"SUMIF('Terv-segédlet'!$B:$B,$A47,'Terv-segédlet'!E:E)","v":0},{"$f":"SUMIF('Terv-segédlet'!$B:$B,$A47,'Terv-segédlet'!F:F)","v":0},{"$f":"SUMIF('Terv-segédlet'!$B:$B,$A47,'Terv-segédlet'!G:G)","v":0},{"$f":"SUMIF('Terv-segédlet'!$B:$B,$A47,'Terv-segédlet'!H:H)","v":0},{"$f":"SUMIF('Terv-segédlet'!$B:$B,$A47,'Terv-segédlet'!I:I)","v":0},{"$f":"SUMIF('Terv-segédlet'!$B:$B,$A47,'Terv-segédlet'!J:J)","v":0},{"$f":"SUMIF('Terv-segédlet'!$B:$B,$A47,'Terv-segédlet'!K:K)","v":0},0,{"$f":"SUMIF(V!$A:$A,$A47,V!$K:$K)+SUMIF(bank!$A:$A,AC$9&$A47,bank!$M:$M)","v":0},{"$f":"SUMIF(Gy!$A:$A,$A47,Gy!$K:$K)+SUMIF(bank!$A:$A,AD$9&$A47,bank!$M:$M)","v":0},{"$f":"SUMIF(K!$A:$A,$A47,K!$K:$K)+SUMIF(bank!$A:$A,AE$9&$A47,bank!$M:$M)","v":0},{"$f":"SUMIF(Mk!$A:$A,$A47,Mk!$K:$K)+SUMIF(bank!$A:$A,AF$9&$A47,bank!$M:$M)","v":0},{"$f":"SUMIF(M!$A:$A,$A47,M!$K:$K)+SUMIF(bank!$A:$A,AG$9&$A47,bank!$M:$M)","v":0},{"$f":"SUMIF(P!$A:$A,$A47,P!$K:$K)+SUMIF(bank!$A:$A,AH$9&$A47,bank!$M:$M)","v":0},{"$f":"SUMIF(Zs!$A:$A,$A47,Zs!$K:$K)+SUMIF(bank!$A:$A,AI$9&$A47,bank!$M:$M)","v":0},"*","b","","MEE-n keresztül hitoktatási támogatás, továbbá munkaügyi (pl. közfoglalkoztatásra kapott) támogatás"]
["k039",39,null,"-Járadék támogatás","-Járadék támogatás","-Járadék támogatás","-Járadék támogatás","-Járadék támogatás","-Járadék támogatás","-Járadék támogatás","-Járadék támogatás","-Járadék támogatás","-Járadék támogatás","-Járadék támogatás","-Járadék támogatás","-Járadék támogatás","-Járadék támogatás","-Járadék támogatás","-Járadék támogatás",0,{"$f":"SUMIF('Terv-segédlet'!$B:$B,$A48,'Terv-segédlet'!E:E)","v":0},{"$f":"SUMIF('Terv-segédlet'!$B:$B,$A48,'Terv-segédlet'!F:F)","v":0},{"$f":"SUMIF('Terv-segédlet'!$B:$B,$A48,'Terv-segédlet'!G:G)","v":0},{"$f":"SUMIF('Terv-segédlet'!$B:$B,$A48,'Terv-segédlet'!H:H)","v":0},{"$f":"SUMIF('Terv-segédlet'!$B:$B,$A48,'Terv-segédlet'!I:I)","v":0},{"$f":"SUMIF('Terv-segédlet'!$B:$B,$A48,'Terv-segédlet'!J:J)","v":0},{"$f":"SUMIF('Terv-segédlet'!$B:$B,$A48,'Terv-segédlet'!K:K)","v":0},0,{"$f":"SUMIF(V!$A:$A,$A48,V!$K:$K)+SUMIF(bank!$A:$A,AC$9&$A48,bank!$M:$M)","v":0},{"$f":"SUMIF(Gy!$A:$A,$A48,Gy!$K:$K)+SUMIF(bank!$A:$A,AD$9&$A48,bank!$M:$M)","v":0},{"$f":"SUMIF(K!$A:$A,$A48,K!$K:$K)+SUMIF(bank!$A:$A,AE$9&$A48,bank!$M:$M)","v":0},{"$f":"SUMIF(Mk!$A:$A,$A48,Mk!$K:$K)+SUMIF(bank!$A:$A,AF$9&$A48,bank!$M:$M)","v":0},{"$f":"SUMIF(M!$A:$A,$A48,M!$K:$K)+SUMIF(bank!$A:$A,AG$9&$A48,bank!$M:$M)","v":0},{"$f":"SUMIF(P!$A:$A,$A48,P!$K:$K)+SUMIF(bank!$A:$A,AH$9&$A48,bank!$M:$M)","v":0},{"$f":"SUMIF(Zs!$A:$A,$A48,Zs!$K:$K)+SUMIF(bank!$A:$A,AI$9&$A48,bank!$M:$M)","v":0},"*","b","","járadék, gyűjteményi támogatás"]
["k040",40,null,"-Egyéb központi költségvetési támogatás","-Egyéb központi költségvetési támogatás","-Egyéb központi költségvetési támogatás","-Egyéb központi költségvetési támogatás","-Egyéb központi költségvetési támogatás","-Egyéb központi költségvetési támogatás","-Egyéb központi költségvetési támogatás","-Egyéb központi költségvetési támogatás","-Egyéb központi költségvetési támogatás","-Egyéb központi költségvetési támogatás","-Egyéb központi költségvetési támogatás","-Egyéb központi költségvetési támogatás","-Egyéb központi költségvetési támogatás","-Egyéb központi költségvetési támogatás","-Egyéb központi költségvetési támogatás","-Egyéb központi költségvetési támogatás",0,{"$f":"SUMIF('Terv-segédlet'!$B:$B,$A49,'Terv-segédlet'!E:E)","v":0},{"$f":"SUMIF('Terv-segédlet'!$B:$B,$A49,'Terv-segédlet'!F:F)","v":0},{"$f":"SUMIF('Terv-segédlet'!$B:$B,$A49,'Terv-segédlet'!G:G)","v":0},{"$f":"SUMIF('Terv-segédlet'!$B:$B,$A49,'Terv-segédlet'!H:H)","v":0},{"$f":"SUMIF('Terv-segédlet'!$B:$B,$A49,'Terv-segédlet'!I:I)","v":0},{"$f":"SUMIF('Terv-segédlet'!$B:$B,$A49,'Terv-segédlet'!J:J)","v":0},{"$f":"SUMIF('Terv-segédlet'!$B:$B,$A49,'Terv-segédlet'!K:K)","v":0},0,{"$f":"SUMIF(V!$A:$A,$A49,V!$K:$K)+SUMIF(bank!$A:$A,AC$9&$A49,bank!$M:$M)","v":0},{"$f":"SUMIF(Gy!$A:$A,$A49,Gy!$K:$K)+SUMIF(bank!$A:$A,AD$9&$A49,bank!$M:$M)","v":0},{"$f":"SUMIF(K!$A:$A,$A49,K!$K:$K)+SUMIF(bank!$A:$A,AE$9&$A49,bank!$M:$M)","v":0},{"$f":"SUMIF(Mk!$A:$A,$A49,Mk!$K:$K)+SUMIF(bank!$A:$A,AF$9&$A49,bank!$M:$M)","v":0},{"$f":"SUMIF(M!$A:$A,$A49,M!$K:$K)+SUMIF(bank!$A:$A,AG$9&$A49,bank!$M:$M)","v":0},{"$f":"SUMIF(P!$A:$A,$A49,P!$K:$K)+SUMIF(bank!$A:$A,AH$9&$A49,bank!$M:$M)","v":0},{"$f":"SUMIF(Zs!$A:$A,$A49,Zs!$K:$K)+SUMIF(bank!$A:$A,AI$9&$A49,bank!$M:$M)","v":0},"*","b","","bérkompenzáció, költségvetési beruházási támogatás, ágazati pótlék, stb."]
["k041",41,null,"c) Helyi, megyei önkormányzati támogatás","c) Helyi, megyei önkormányzati támogatás","c) Helyi, megyei önkormányzati támogatás","c) Helyi, megyei önkormányzati támogatás","c) Helyi, megyei önkormányzati támogatás","c) Helyi, megyei önkormányzati támogatás","c) Helyi, megyei önkormányzati támogatás","c) Helyi, megyei önkormányzati támogatás","c) Helyi, megyei önkormányzati támogatás","c) Helyi, megyei önkormányzati támogatás","c) Helyi, megyei önkormányzati támogatás","c) Helyi, megyei önkormányzati támogatás","c) Helyi, megyei önkormányzati támogatás","c) Helyi, megyei önkormányzati támogatás","c) Helyi, megyei önkormányzati támogatás","c) Helyi, megyei önkormányzati támogatás",0,{"$f":"SUMIF('Terv-segédlet'!$B:$B,$A50,'Terv-segédlet'!E:E)","v":0},{"$f":"SUMIF('Terv-segédlet'!$B:$B,$A50,'Terv-segédlet'!F:F)","v":0},{"$f":"SUMIF('Terv-segédlet'!$B:$B,$A50,'Terv-segédlet'!G:G)","v":0},{"$f":"SUMIF('Terv-segédlet'!$B:$B,$A50,'Terv-segédlet'!H:H)","v":0},{"$f":"SUMIF('Terv-segédlet'!$B:$B,$A50,'Terv-segédlet'!I:I)","v":0},{"$f":"SUMIF('Terv-segédlet'!$B:$B,$A50,'Terv-segédlet'!J:J)","v":0},{"$f":"SUMIF('Terv-segédlet'!$B:$B,$A50,'Terv-segédlet'!K:K)","v":0},0,{"$f":"SUMIF(V!$A:$A,$A50,V!$K:$K)+SUMIF(bank!$A:$A,AC$9&$A50,bank!$M:$M)","v":0},{"$f":"SUMIF(Gy!$A:$A,$A50,Gy!$K:$K)+SUMIF(bank!$A:$A,AD$9&$A50,bank!$M:$M)","v":0},{"$f":"SUMIF(K!$A:$A,$A50,K!$K:$K)+SUMIF(bank!$A:$A,AE$9&$A50,bank!$M:$M)","v":0},{"$f":"SUMIF(Mk!$A:$A,$A50,Mk!$K:$K)+SUMIF(bank!$A:$A,AF$9&$A50,bank!$M:$M)","v":0},{"$f":"SUMIF(M!$A:$A,$A50,M!$K:$K)+SUMIF(bank!$A:$A,AG$9&$A50,bank!$M:$M)","v":0},{"$f":"SUMIF(P!$A:$A,$A50,P!$K:$K)+SUMIF(bank!$A:$A,AH$9&$A50,bank!$M:$M)","v":0},{"$f":"SUMIF(Zs!$A:$A,$A50,Zs!$K:$K)+SUMIF(bank!$A:$A,AI$9&$A50,bank!$M:$M)","v":0},"*","b","","helyi, megyei, kisebbségi önkormányzatoktól kapott támogatás"]
["k042",42,null,"d) Egyéb támogatások (43+47+53)","d) Egyéb támogatások (da+db+dc)","d) Egyéb támogatások (da+db+dc)","d) Egyéb támogatások (da+db+dc)","d) Egyéb támogatások (da+db+dc)","d) Egyéb támogatások (da+db+dc)","d) Egyéb támogatások (da+db+dc)","d) Egyéb támogatások (da+db+dc)","d) Egyéb támogatások (da+db+dc)","d) Egyéb támogatások (da+db+dc)","d) Egyéb támogatások (da+db+dc)","d) Egyéb támogatások (da+db+dc)","d) Egyéb támogatások (da+db+dc)","d) Egyéb támogatások (da+db+dc)","d) Egyéb támogatások (da+db+dc)","d) Egyéb támogatások (da+db+dc)",{"$f":"SUM(T52,T57,T63)","v":5598000},{"$f":"SUM(U52,U57,U63)","v":547000},{"$f":"SUM(V52,V57,V63)","v":193000},{"$f":"SUM(W52,W57,W63)","v":860000},{"$f":"SUM(X52,X57,X63)","v":1359000},{"$f":"SUM(Y52,Y57,Y63)","v":1870000},{"$f":"SUM(Z52,Z57,Z63)","v":275000},{"$f":"SUM(AA52,AA57,AA63)","v":494000},{"$f":"SUM(AB52,AB57,AB63)","v":53810},{"$f":"SUM(AC52,AC57,AC63)","v":0},{"$f":"SUM(AD52,AD57,AD63)","v":0},0,11200,42610,0,0,null,"b",9.6123615576991783E-3]
["k043",43,null,"da) Gazdálkodó szervektől (44..47)","da) Gazdálkodó szervektől (44..46)","da) Gazdálkodó szervektől (44..46)","da) Gazdálkodó szervektől (44..46)","da) Gazdálkodó szervektől (44..46)","da) Gazdálkodó szervektől (44..46)","da) Gazdálkodó szervektől (44..46)","da) Gazdálkodó szervektől (44..46)","da) Gazdálkodó szervektől (44..46)","da) Gazdálkodó szervektől (44..46)","da) Gazdálkodó szervektől (44..46)","da) Gazdálkodó szervektől (44..46)","da) Gazdálkodó szervektől (44..46)","da) Gazdálkodó szervektől (44..46)","da) Gazdálkodó szervektől (44..46)","da) Gazdálkodó szervektől (44..46)",{"$f":"SUM(T53:T56)","v":0},{"$f":"SUM(U53:U56)","v":0},{"$f":"SUM(V53:V56)","v":0},{"$f":"SUM(W53:W56)","v":0},{"$f":"SUM(X53:X56)","v":0},{"$f":"SUM(Y53:Y56)","v":0},{"$f":"SUM(Z53:Z56)","v":0},{"$f":"SUM(AA53:AA56)","v":0},{"$f":"SUM(AB53:AB56)","v":0},{"$f":"SUM(AC53:AC56)","v":0},{"$f":"SUM(AD53:AD56)","v":0},0,0,0,0,0,null,"b",""]
["k044",44,null,"-Vállalkozástól","-Vállalkozástól","-Vállalkozástól","-Vállalkozástól","-Vállalkozástól","-Vállalkozástól","-Vállalkozástól","-Vállalkozástól","-Vállalkozástól","-Vállalkozástól","-Vállalkozástól","-Vállalkozástól","-Vállalkozástól","-Vállalkozástól","-Vállalkozástól","-Vállalkozástól",{"$f":"SUM(U53:AA53)","v":0},{"$f":"SUMIF('Terv-segédlet'!$B:$B,$A53,'Terv-segédlet'!E:E)","v":0},{"$f":"SUMIF('Terv-segédlet'!$B:$B,$A53,'Terv-segédlet'!F:F)","v":0},{"$f":"SUMIF('Terv-segédlet'!$B:$B,$A53,'Terv-segédlet'!G:G)","v":0},{"$f":"SUMIF('Terv-segédlet'!$B:$B,$A53,'Terv-segédlet'!H:H)","v":0},{"$f":"SUMIF('Terv-segédlet'!$B:$B,$A53,'Terv-segédlet'!I:I)","v":0},{"$f":"SUMIF('Terv-segédlet'!$B:$B,$A53,'Terv-segédlet'!J:J)","v":0},{"$f":"SUMIF('Terv-segédlet'!$B:$B,$A53,'Terv-segédlet'!K:K)","v":0},{"$f":"SUM(AC53:AI53)","v":0},{"$f":"SUMIF(V!$A:$A,$A53,V!$K:$K)+SUMIF(bank!$A:$A,AC$9&$A53,bank!$M:$M)","v":0},{"$f":"SUMIF(Gy!$A:$A,$A53,Gy!$K:$K)+SUMIF(bank!$A:$A,AD$9&$A53,bank!$M:$M)","v":0},{"$f":"SUMIF(K!$A:$A,$A53,K!$K:$K)+SUMIF(bank!$A:$A,AE$9&$A53,bank!$M:$M)","v":0},{"$f":"SUMIF(Mk!$A:$A,$A53,Mk!$K:$K)+SUMIF(bank!$A:$A,AF$9&$A53,bank!$M:$M)","v":0},{"$f":"SUMIF(M!$A:$A,$A53,M!$K:$K)+SUMIF(bank!$A:$A,AG$9&$A53,bank!$M:$M)","v":0},{"$f":"SUMIF(P!$A:$A,$A53,P!$K:$K)+SUMIF(bank!$A:$A,AH$9&$A53,bank!$M:$M)","v":0},{"$f":"SUMIF(Zs!$A:$A,$A53,Zs!$K:$K)+SUMIF(bank!$A:$A,AI$9&$A53,bank!$M:$M)","v":0},"*","b","","bankoktól, gazdasági társaságoktól kapott támogatás"]
["k045",45,null,"-Saját alapítványtól","-Saját alapítványtól","-Saját alapítványtól","-Saját alapítványtól","-Saját alapítványtól","-Saját alapítványtól","-Saját alapítványtól","-Saját alapítványtól","-Saját alapítványtól","-Saját alapítványtól","-Saját alapítványtól","-Saját alapítványtól","-Saját alapítványtól","-Saját alapítványtól","-Saját alapítványtól","-Saját alapítványtól",0,{"$f":"SUMIF('Terv-segédlet'!$B:$B,$A54,'Terv-segédlet'!E:E)","v":0},{"$f":"SUMIF('Terv-segédlet'!$B:$B,$A54,'Terv-segédlet'!F:F)","v":0},{"$f":"SUMIF('Terv-segédlet'!$B:$B,$A54,'Terv-segédlet'!G:G)","v":0},{"$f":"SUMIF('Terv-segédlet'!$B:$B,$A54,'Terv-segédlet'!H:H)","v":0},{"$f":"SUMIF('Terv-segédlet'!$B:$B,$A54,'Terv-segédlet'!I:I)","v":0},{"$f":"SUMIF('Terv-segédlet'!$B:$B,$A54,'Terv-segédlet'!J:J)","v":0},{"$f":"SUMIF('Terv-segédlet'!$B:$B,$A54,'Terv-segédlet'!K:K)","v":0},0,{"$f":"SUMIF(V!$A:$A,$A54,V!$K:$K)+SUMIF(bank!$A:$A,AC$9&$A54,bank!$M:$M)","v":0},{"$f":"SUMIF(Gy!$A:$A,$A54,Gy!$K:$K)+SUMIF(bank!$A:$A,AD$9&$A54,bank!$M:$M)","v":0},{"$f":"SUMIF(K!$A:$A,$A54,K!$K:$K)+SUMIF(bank!$A:$A,AE$9&$A54,bank!$M:$M)","v":0},{"$f":"SUMIF(Mk!$A:$A,$A54,Mk!$K:$K)+SUMIF(bank!$A:$A,AF$9&$A54,bank!$M:$M)","v":0},{"$f":"SUMIF(M!$A:$A,$A54,M!$K:$K)+SUMIF(bank!$A:$A,AG$9&$A54,bank!$M:$M)","v":0},{"$f":"SUMIF(P!$A:$A,$A54,P!$K:$K)+SUMIF(bank!$A:$A,AH$9&$A54,bank!$M:$M)","v":0},{"$f":"SUMIF(Zs!$A:$A,$A54,Zs!$K:$K)+SUMIF(bank!$A:$A,AI$9&$A54,bank!$M:$M)","v":0},"*","b","","saját alapítványtól pénzben kapott támogatás"]
["k046",46,null,"-Egyéb szervezettől","-Egyéb","-Egyéb","-Egyéb","-Egyéb","-Egyéb","-Egyéb","-Egyéb","-Egyéb","-Egyéb","-Egyéb","-Egyéb","-Egyéb","-Egyéb","-Egyéb","-Egyéb",0,{"$f":"SUMIF('Terv-segédlet'!$B:$B,$A55,'Terv-segédlet'!E:E)","v":0},{"$f":"SUMIF('Terv-segédlet'!$B:$B,$A55,'Terv-segédlet'!F:F)","v":0},{"$f":"SUMIF('Terv-segédlet'!$B:$B,$A55,'Terv-segédlet'!G:G)","v":0},{"$f":"SUMIF('Terv-segédlet'!$B:$B,$A55,'Terv-segédlet'!H:H)","v":0},{"$f":"SUMIF('Terv-segédlet'!$B:$B,$A55,'Terv-segédlet'!I:I)","v":0},{"$f":"SUMIF('Terv-segédlet'!$B:$B,$A55,'Terv-segédlet'!J:J)","v":0},{"$f":"SUMIF('Terv-segédlet'!$B:$B,$A55,'Terv-segédlet'!K:K)","v":0},0,{"$f":"SUMIF(V!$A:$A,$A55,V!$K:$K)+SUMIF(bank!$A:$A,AC$9&$A55,bank!$M:$M)","v":0},{"$f":"SUMIF(Gy!$A:$A,$A55,Gy!$K:$K)+SUMIF(bank!$A:$A,AD$9&$A55,bank!$M:$M)","v":0},{"$f":"SUMIF(K!$A:$A,$A55,K!$K:$K)+SUMIF(bank!$A:$A,AE$9&$A55,bank!$M:$M)","v":0},{"$f":"SUMIF(Mk!$A:$A,$A55,Mk!$K:$K)+SUMIF(bank!$A:$A,AF$9&$A55,bank!$M:$M)","v":0},{"$f":"SUMIF(M!$A:$A,$A55,M!$K:$K)+SUMIF(bank!$A:$A,AG$9&$A55,bank!$M:$M)","v":0},{"$f":"SUMIF(P!$A:$A,$A55,P!$K:$K)+SUMIF(bank!$A:$A,AH$9&$A55,bank!$M:$M)","v":0},{"$f":"SUMIF(Zs!$A:$A,$A55,Zs!$K:$K)+SUMIF(bank!$A:$A,AI$9&$A55,bank!$M:$M)","v":0},"*","b","","egyesületektől, nem saját alapítványoktól, társadalmi szervezetektől kapott támogatás"]
["k047",47,null,"-Közcélú adomány gazdálkodó szervezetektől","-Egyéb","-Egyéb","-Egyéb","-Egyéb","-Egyéb","-Egyéb","-Egyéb","-Egyéb","-Egyéb","-Egyéb","-Egyéb","-Egyéb","-Egyéb","-Egyéb","-Egyéb",0,{"$f":"SUMIF('Terv-segédlet'!$B:$B,$A56,'Terv-segédlet'!E:E)","v":0},{"$f":"SUMIF('Terv-segédlet'!$B:$B,$A56,'Terv-segédlet'!F:F)","v":0},{"$f":"SUMIF('Terv-segédlet'!$B:$B,$A56,'Terv-segédlet'!G:G)","v":0},{"$f":"SUMIF('Terv-segédlet'!$B:$B,$A56,'Terv-segédlet'!H:H)","v":0},{"$f":"SUMIF('Terv-segédlet'!$B:$B,$A56,'Terv-segédlet'!I:I)","v":0},{"$f":"SUMIF('Terv-segédlet'!$B:$B,$A56,'Terv-segédlet'!J:J)","v":0},{"$f":"SUMIF('Terv-segédlet'!$B:$B,$A56,'Terv-segédlet'!K:K)","v":0},0,{"$f":"SUMIF(V!$A:$A,$A56,V!$K:$K)+SUMIF(bank!$A:$A,AC$9&$A56,bank!$M:$M)","v":0},{"$f":"SUMIF(Gy!$A:$A,$A56,Gy!$K:$K)+SUMIF(bank!$A:$A,AD$9&$A56,bank!$M:$M)","v":0},{"$f":"SUMIF(K!$A:$A,$A56,K!$K:$K)+SUMIF(bank!$A:$A,AE$9&$A56,bank!$M:$M)","v":0},{"$f":"SUMIF(Mk!$A:$A,$A56,Mk!$K:$K)+SUMIF(bank!$A:$A,AF$9&$A56,bank!$M:$M)","v":0},{"$f":"SUMIF(M!$A:$A,$A56,M!$K:$K)+SUMIF(bank!$A:$A,AG$9&$A56,bank!$M:$M)","v":0},{"$f":"SUMIF(P!$A:$A,$A56,P!$K:$K)+SUMIF(bank!$A:$A,AH$9&$A56,bank!$M:$M)","v":0},{"$f":"SUMIF(Zs!$A:$A,$A56,Zs!$K:$K)+SUMIF(bank!$A:$A,AI$9&$A56,bank!$M:$M)","v":0},"*","b","","Közcélú adomány - társaságoknak, alapítványoknak kiállított igazolással egyezően"]
["k048",48,null,"db) Gyülekezeti tagoktól, magánszemélyektől (49..53)","db) Gyülekezeti tagoktól, magánszemélyektől (48..52)","db) Gyülekezeti tagoktól, magánszemélyektől (48..52)","db) Gyülekezeti tagoktól, magánszemélyektől (48..52)","db) Gyülekezeti tagoktól, magánszemélyektől (48..52)","db) Gyülekezeti tagoktól, magánszemélyektől (48..52)","db) Gyülekezeti tagoktól, magánszemélyektől (48..52)","db) Gyülekezeti tagoktól, magánszemélyektől (48..52)","db) Gyülekezeti tagoktól, magánszemélyektől (48..52)","db) Gyülekezeti tagoktól, magánszemélyektől (48..52)","db) Gyülekezeti tagoktól, magánszemélyektől (48..52)","db) Gyülekezeti tagoktól, magánszemélyektől (48..52)","db) Gyülekezeti tagoktól, magánszemélyektől (48..52)","db) Gyülekezeti tagoktól, magánszemélyektől (48..52)","db) Gyülekezeti tagoktól, magánszemélyektől (48..52)","db) Gyülekezeti tagoktól, magánszemélyektől (48..52)",{"$f":"SUM(T58:T62)","v":5260000},{"$f":"SUM(U58:U62)","v":467000},{"$f":"SUM(V58:V62)","v":188000},{"$f":"SUM(W58:W62)","v":800000},{"$f":"SUM(X58:X62)","v":1299000},{"$f":"SUM(Y58:Y62)","v":1750000},{"$f":"SUM(Z58:Z62)","v":270000},{"$f":"SUM(AA58:AA62)","v":486000},{"$f":"SUM(AB58:AB62)","v":32000},{"$f":"SUM(AC58:AC62)","v":0},{"$f":"SUM(AD58:AD62)","v":0},0,0,32000,0,0,null,"b",6.0836501901140681E-3]
["k049",49,null,"-Egyházfenntartói járulék","-Egyházfenntartói járulék","-Egyházfenntartói járulék","-Egyházfenntartói járulék","-Egyházfenntartói járulék","-Egyházfenntartói járulék","-Egyházfenntartói járulék","-Egyházfenntartói járulék","-Egyházfenntartói járulék","-Egyházfenntartói járulék","-Egyházfenntartói járulék","-Egyházfenntartói járulék","-Egyházfenntartói járulék","-Egyházfenntartói járulék","-Egyházfenntartói járulék","-Egyházfenntartói járulék",{"$f":"SUM(U58:AA58)","v":3560000},{"$f":"SUMIF('Terv-segédlet'!$B:$B,$A58,'Terv-segédlet'!E:E)","v":297000},{"$f":"SUMIF('Terv-segédlet'!$B:$B,$A58,'Terv-segédlet'!F:F)","v":168000},{"$f":"SUMIF('Terv-segédlet'!$B:$B,$A58,'Terv-segédlet'!G:G)","v":670000},{"$f":"SUMIF('Terv-segédlet'!$B:$B,$A58,'Terv-segédlet'!H:H)","v":469000},{"$f":"SUMIF('Terv-segédlet'!$B:$B,$A58,'Terv-segédlet'!I:I)","v":1300000},{"$f":"SUMIF('Terv-segédlet'!$B:$B,$A58,'Terv-segédlet'!J:J)","v":220000},{"$f":"SUMIF('Terv-segédlet'!$B:$B,$A58,'Terv-segédlet'!K:K)","v":436000},{"$f":"SUM(AC58:AI58)","v":32000},{"$f":"SUMIF(V!$A:$A,$A58,V!$K:$K)+SUMIF(bank!$A:$A,AC$9&$A58,bank!$M:$M)","v":0},{"$f":"SUMIF(Gy!$A:$A,$A58,Gy!$K:$K)+SUMIF(bank!$A:$A,AD$9&$A58,bank!$M:$M)","v":0},{"$f":"SUMIF(K!$A:$A,$A58,K!$K:$K)+SUMIF(bank!$A:$A,AE$9&$A58,bank!$M:$M)","v":0},{"$f":"SUMIF(Mk!$A:$A,$A58,Mk!$K:$K)+SUMIF(bank!$A:$A,AF$9&$A58,bank!$M:$M)","v":0},{"$f":"SUMIF(M!$A:$A,$A58,M!$K:$K)+SUMIF(bank!$A:$A,AG$9&$A58,bank!$M:$M)","v":32000},{"$f":"SUMIF(P!$A:$A,$A58,P!$K:$K)+SUMIF(bank!$A:$A,AH$9&$A58,bank!$M:$M)","v":0},{"$f":"SUMIF(Zs!$A:$A,$A58,Zs!$K:$K)+SUMIF(bank!$A:$A,AI$9&$A58,bank!$M:$M)","v":0},"*","b",8.988764044943821E-3,"magánszemélyek által ezen a címen teljesítet befizetés"]
["k050",50,null,"-Adomány","-Adomány","-Adomány","-Adomány","-Adomány","-Adomány","-Adomány","-Adomány","-Adomány","-Adomány","-Adomány","-Adomány","-Adomány","-Adomány","-Adomány","-Adomány",110000,{"$f":"SUMIF('Terv-segédlet'!$B:$B,$A59,'Terv-segédlet'!E:E)","v":20000},{"$f":"SUMIF('Terv-segédlet'!$B:$B,$A59,'Terv-segédlet'!F:F)","v":0},{"$f":"SUMIF('Terv-segédlet'!$B:$B,$A59,'Terv-segédlet'!G:G)","v":10000},{"$f":"SUMIF('Terv-segédlet'!$B:$B,$A59,'Terv-segédlet'!H:H)","v":30000},{"$f":"SUMIF('Terv-segédlet'!$B:$B,$A59,'Terv-segédlet'!I:I)","v":50000},{"$f":"SUMIF('Terv-segédlet'!$B:$B,$A59,'Terv-segédlet'!J:J)","v":0},{"$f":"SUMIF('Terv-segédlet'!$B:$B,$A59,'Terv-segédlet'!K:K)","v":0},0,{"$f":"SUMIF(V!$A:$A,$A59,V!$K:$K)+SUMIF(bank!$A:$A,AC$9&$A59,bank!$M:$M)","v":0},{"$f":"SUMIF(Gy!$A:$A,$A59,Gy!$K:$K)+SUMIF(bank!$A:$A,AD$9&$A59,bank!$M:$M)","v":0},{"$f":"SUMIF(K!$A:$A,$A59,K!$K:$K)+SUMIF(bank!$A:$A,AE$9&$A59,bank!$M:$M)","v":0},{"$f":"SUMIF(Mk!$A:$A,$A59,Mk!$K:$K)+SUMIF(bank!$A:$A,AF$9&$A59,bank!$M:$M)","v":0},{"$f":"SUMIF(M!$A:$A,$A59,M!$K:$K)+SUMIF(bank!$A:$A,AG$9&$A59,bank!$M:$M)","v":0},{"$f":"SUMIF(P!$A:$A,$A59,P!$K:$K)+SUMIF(bank!$A:$A,AH$9&$A59,bank!$M:$M)","v":0},{"$f":"SUMIF(Zs!$A:$A,$A59,Zs!$K:$K)+SUMIF(bank!$A:$A,AI$9&$A59,bank!$M:$M)","v":0},"*","b",0,"magánszemélyektől általános felhasználásra kapott adomány"]
["k051",51,null,"-Perselypénz","-Perselypénz","-Perselypénz","-Perselypénz","-Perselypénz","-Perselypénz","-Perselypénz","-Perselypénz","-Perselypénz","-Perselypénz","-Perselypénz","-Perselypénz","-Perselypénz","-Perselypénz","-Perselypénz","-Perselypénz",1090000,{"$f":"SUMIF('Terv-segédlet'!$B:$B,$A60,'Terv-segédlet'!E:E)","v":150000},{"$f":"SUMIF('Terv-segédlet'!$B:$B,$A60,'Terv-segédlet'!F:F)","v":20000},{"$f":"SUMIF('Terv-segédlet'!$B:$B,$A60,'Terv-segédlet'!G:G)","v":120000},{"$f":"SUMIF('Terv-segédlet'!$B:$B,$A60,'Terv-segédlet'!H:H)","v":300000},{"$f":"SUMIF('Terv-segédlet'!$B:$B,$A60,'Terv-segédlet'!I:I)","v":400000},{"$f":"SUMIF('Terv-segédlet'!$B:$B,$A60,'Terv-segédlet'!J:J)","v":50000},{"$f":"SUMIF('Terv-segédlet'!$B:$B,$A60,'Terv-segédlet'!K:K)","v":50000},0,{"$f":"SUMIF(V!$A:$A,$A60,V!$K:$K)+SUMIF(bank!$A:$A,AC$9&$A60,bank!$M:$M)","v":0},{"$f":"SUMIF(Gy!$A:$A,$A60,Gy!$K:$K)+SUMIF(bank!$A:$A,AD$9&$A60,bank!$M:$M)","v":0},{"$f":"SUMIF(K!$A:$A,$A60,K!$K:$K)+SUMIF(bank!$A:$A,AE$9&$A60,bank!$M:$M)","v":0},{"$f":"SUMIF(Mk!$A:$A,$A60,Mk!$K:$K)+SUMIF(bank!$A:$A,AF$9&$A60,bank!$M:$M)","v":0},{"$f":"SUMIF(M!$A:$A,$A60,M!$K:$K)+SUMIF(bank!$A:$A,AG$9&$A60,bank!$M:$M)","v":0},{"$f":"SUMIF(P!$A:$A,$A60,P!$K:$K)+SUMIF(bank!$A:$A,AH$9&$A60,bank!$M:$M)","v":0},{"$f":"SUMIF(Zs!$A:$A,$A60,Zs!$K:$K)+SUMIF(bank!$A:$A,AI$9&$A60,bank!$M:$M)","v":0},"*","b",0,"egyházközségi rendezvényeken szervezett persely bevétele"]
["k052",52,null,"-Céladomány","-Céladomány","-Céladomány","-Céladomány","-Céladomány","-Céladomány","-Céladomány","-Céladomány","-Céladomány","-Céladomány","-Céladomány","-Céladomány","-Céladomány","-Céladomány","-Céladomány","-Céladomány",500000,{"$f":"SUMIF('Terv-segédlet'!$B:$B,$A61,'Terv-segédlet'!E:E)","v":0},{"$f":"SUMIF('Terv-segédlet'!$B:$B,$A61,'Terv-segédlet'!F:F)","v":0},{"$f":"SUMIF('Terv-segédlet'!$B:$B,$A61,'Terv-segédlet'!G:G)","v":0},{"$f":"SUMIF('Terv-segédlet'!$B:$B,$A61,'Terv-segédlet'!H:H)","v":500000},{"$f":"SUMIF('Terv-segédlet'!$B:$B,$A61,'Terv-segédlet'!I:I)","v":0},{"$f":"SUMIF('Terv-segédlet'!$B:$B,$A61,'Terv-segédlet'!J:J)","v":0},{"$f":"SUMIF('Terv-segédlet'!$B:$B,$A61,'Terv-segédlet'!K:K)","v":0},0,{"$f":"SUMIF(V!$A:$A,$A61,V!$K:$K)+SUMIF(bank!$A:$A,AC$9&$A61,bank!$M:$M)","v":0},{"$f":"SUMIF(Gy!$A:$A,$A61,Gy!$K:$K)+SUMIF(bank!$A:$A,AD$9&$A61,bank!$M:$M)","v":0},{"$f":"SUMIF(K!$A:$A,$A61,K!$K:$K)+SUMIF(bank!$A:$A,AE$9&$A61,bank!$M:$M)","v":0},{"$f":"SUMIF(Mk!$A:$A,$A61,Mk!$K:$K)+SUMIF(bank!$A:$A,AF$9&$A61,bank!$M:$M)","v":0},{"$f":"SUMIF(M!$A:$A,$A61,M!$K:$K)+SUMIF(bank!$A:$A,AG$9&$A61,bank!$M:$M)","v":0},{"$f":"SUMIF(P!$A:$A,$A61,P!$K:$K)+SUMIF(bank!$A:$A,AH$9&$A61,bank!$M:$M)","v":0},{"$f":"SUMIF(Zs!$A:$A,$A61,Zs!$K:$K)+SUMIF(bank!$A:$A,AI$9&$A61,bank!$M:$M)","v":0},"*","b",0,"magánszemélyek által ezen a címzetten, konkrét felhasználási cél megjelölésével teljesítet befizetés"]
["k053",53,null,"-Egyéb adomány","-Egyéb adomány","-Egyéb adomány","-Egyéb adomány","-Egyéb adomány","-Egyéb adomány","-Egyéb adomány","-Egyéb adomány","-Egyéb adomány","-Egyéb adomány","-Egyéb adomány","-Egyéb adomány","-Egyéb adomány","-Egyéb adomány","-Egyéb adomány","-Egyéb adomány",0,{"$f":"SUMIF('Terv-segédlet'!$B:$B,$A62,'Terv-segédlet'!E:E)","v":0},{"$f":"SUMIF('Terv-segédlet'!$B:$B,$A62,'Terv-segédlet'!F:F)","v":0},{"$f":"SUMIF('Terv-segédlet'!$B:$B,$A62,'Terv-segédlet'!G:G)","v":0},{"$f":"SUMIF('Terv-segédlet'!$B:$B,$A62,'Terv-segédlet'!H:H)","v":0},{"$f":"SUMIF('Terv-segédlet'!$B:$B,$A62,'Terv-segédlet'!I:I)","v":0},{"$f":"SUMIF('Terv-segédlet'!$B:$B,$A62,'Terv-segédlet'!J:J)","v":0},{"$f":"SUMIF('Terv-segédlet'!$B:$B,$A62,'Terv-segédlet'!K:K)","v":0},0,{"$f":"SUMIF(V!$A:$A,$A62,V!$K:$K)+SUMIF(bank!$A:$A,AC$9&$A62,bank!$M:$M)","v":0},{"$f":"SUMIF(Gy!$A:$A,$A62,Gy!$K:$K)+SUMIF(bank!$A:$A,AD$9&$A62,bank!$M:$M)","v":0},{"$f":"SUMIF(K!$A:$A,$A62,K!$K:$K)+SUMIF(bank!$A:$A,AE$9&$A62,bank!$M:$M)","v":0},{"$f":"SUMIF(Mk!$A:$A,$A62,Mk!$K:$K)+SUMIF(bank!$A:$A,AF$9&$A62,bank!$M:$M)","v":0},{"$f":"SUMIF(M!$A:$A,$A62,M!$K:$K)+SUMIF(bank!$A:$A,AG$9&$A62,bank!$M:$M)","v":0},{"$f":"SUMIF(P!$A:$A,$A62,P!$K:$K)+SUMIF(bank!$A:$A,AH$9&$A62,bank!$M:$M)","v":0},{"$f":"SUMIF(Zs!$A:$A,$A62,Zs!$K:$K)+SUMIF(bank!$A:$A,AI$9&$A62,bank!$M:$M)","v":0},"*","b","","magánszemélyek által teljesítet egyéb adomány befizetés (pl. harangozás, ha nem díjszabás alapján történik) "]
["k054",54,null,"dc) Továbbítandó egyéb támogatások","dc) Továbbítandó egyéb támogatások, bevételek","dc) Továbbítandó egyéb támogatások, bevételek","dc) Továbbítandó egyéb támogatások, bevételek","dc) Továbbítandó egyéb támogatások, bevételek","dc) Továbbítandó egyéb támogatások, bevételek","dc) Továbbítandó egyéb támogatások, bevételek","dc) Továbbítandó egyéb támogatások, bevételek","dc) Továbbítandó egyéb támogatások, bevételek","dc) Továbbítandó egyéb támogatások, bevételek","dc) Továbbítandó egyéb támogatások, bevételek","dc) Továbbítandó egyéb támogatások, bevételek","dc) Továbbítandó egyéb támogatások, bevételek","dc) Továbbítandó egyéb támogatások, bevételek","dc) Továbbítandó egyéb támogatások, bevételek","dc) Továbbítandó egyéb támogatások, bevételek",338000,{"$f":"SUMIF('Terv-segédlet'!$B:$B,$A63,'Terv-segédlet'!E:E)","v":80000},{"$f":"SUMIF('Terv-segédlet'!$B:$B,$A63,'Terv-segédlet'!F:F)","v":5000},{"$f":"SUMIF('Terv-segédlet'!$B:$B,$A63,'Terv-segédlet'!G:G)","v":60000},{"$f":"SUMIF('Terv-segédlet'!$B:$B,$A63,'Terv-segédlet'!H:H)","v":60000},{"$f":"SUMIF('Terv-segédlet'!$B:$B,$A63,'Terv-segédlet'!I:I)","v":120000},{"$f":"SUMIF('Terv-segédlet'!$B:$B,$A63,'Terv-segédlet'!J:J)","v":5000},{"$f":"SUMIF('Terv-segédlet'!$B:$B,$A63,'Terv-segédlet'!K:K)","v":8000},21810,{"$f":"SUMIF(V!$A:$A,$A63,V!$K:$K)+SUMIF(bank!$A:$A,AC$9&$A63,bank!$M:$M)","v":0},{"$f":"SUMIF(Gy!$A:$A,$A63,Gy!$K:$K)+SUMIF(bank!$A:$A,AD$9&$A63,bank!$M:$M)","v":0},{"$f":"SUMIF(K!$A:$A,$A63,K!$K:$K)+SUMIF(bank!$A:$A,AE$9&$A63,bank!$M:$M)","v":0},{"$f":"SUMIF(Mk!$A:$A,$A63,Mk!$K:$K)+SUMIF(bank!$A:$A,AF$9&$A63,bank!$M:$M)","v":11200},{"$f":"SUMIF(M!$A:$A,$A63,M!$K:$K)+SUMIF(bank!$A:$A,AG$9&$A63,bank!$M:$M)","v":10610},{"$f":"SUMIF(P!$A:$A,$A63,P!$K:$K)+SUMIF(bank!$A:$A,AH$9&$A63,bank!$M:$M)","v":0},{"$f":"SUMIF(Zs!$A:$A,$A63,Zs!$K:$K)+SUMIF(bank!$A:$A,AI$9&$A63,bank!$M:$M)","v":0},"*","b",6.4526627218934915E-2,"kötelező offertórium, Gusztáv Adolf segély, szupplikáció, továbbítandó egyéb adományok"]
["k055",55,null,"3.  Pénzügyi műveletek bevételei (56..58)",null,null,null,null,null,null,null,null,null,null,null,null,null,null,null,{"$f":"SUM(T65:T67)","v":36500},{"$f":"SUM(U65:U67)","v":10000},{"$f":"SUM(V65:V67)","v":1000},{"$f":"SUM(W65:W67)","v":1500},{"$f":"SUM(X65:X67)","v":10000},{"$f":"SUM(Y65:Y67)","v":10000},{"$f":"SUM(Z65:Z67)","v":1500},{"$f":"SUM(AA65:AA67)","v":2500},{"$f":"SUM(AB65:AB67)","v":5492},{"$f":"SUM(AC65:AC67)","v":2985},{"$f":"SUM(AD65:AD67)","v":16},324,0,1556,58,553,null,"b",0.15046575342465754,0.97]
["k056",56,null,null,"Befektetett pénzügyi eszközök kamatai, árfolyamnyeresége",null,null,null,null,null,null,null,null,null,null,null,null,null,null,{"$f":"SUM(U65:AA65)","v":0},{"$f":"SUMIF('Terv-segédlet'!$B:$B,$A65,'Terv-segédlet'!E:E)","v":0},{"$f":"SUMIF('Terv-segédlet'!$B:$B,$A65,'Terv-segédlet'!F:F)","v":0},{"$f":"SUMIF('Terv-segédlet'!$B:$B,$A65,'Terv-segédlet'!G:G)","v":0},{"$f":"SUMIF('Terv-segédlet'!$B:$B,$A65,'Terv-segédlet'!H:H)","v":0},{"$f":"SUMIF('Terv-segédlet'!$B:$B,$A65,'Terv-segédlet'!I:I)","v":0},{"$f":"SUMIF('Terv-segédlet'!$B:$B,$A65,'Terv-segédlet'!J:J)","v":0},{"$f":"SUMIF('Terv-segédlet'!$B:$B,$A65,'Terv-segédlet'!K:K)","v":0},{"$f":"SUM(AC65:AI65)","v":0},{"$f":"SUMIF(V!$A:$A,$A65,V!$K:$K)+SUMIF(bank!$A:$A,AC$9&$A65,bank!$M:$M)","v":0},{"$f":"SUMIF(Gy!$A:$A,$A65,Gy!$K:$K)+SUMIF(bank!$A:$A,AD$9&$A65,bank!$M:$M)","v":0},{"$f":"SUMIF(K!$A:$A,$A65,K!$K:$K)+SUMIF(bank!$A:$A,AE$9&$A65,bank!$M:$M)","v":0},{"$f":"SUMIF(Mk!$A:$A,$A65,Mk!$K:$K)+SUMIF(bank!$A:$A,AF$9&$A65,bank!$M:$M)","v":0},{"$f":"SUMIF(M!$A:$A,$A65,M!$K:$K)+SUMIF(bank!$A:$A,AG$9&$A65,bank!$M:$M)","v":0},{"$f":"SUMIF(P!$A:$A,$A65,P!$K:$K)+SUMIF(bank!$A:$A,AH$9&$A65,bank!$M:$M)","v":0},{"$f":"SUMIF(Zs!$A:$A,$A65,Zs!$K:$K)+SUMIF(bank!$A:$A,AI$9&$A65,bank!$M:$M)","v":0},"*","b","","hosszú távú (éven túli) befektetések kamata"]
["k057",57,null,null,"Egyéb kapott (járó) kamatok és kamatjellegű bevételek",null,null,null,null,null,null,null,null,null,null,null,null,null,null,36500,{"$f":"SUMIF('Terv-segédlet'!$B:$B,$A66,'Terv-segédlet'!E:E)","v":10000},{"$f":"SUMIF('Terv-segédlet'!$B:$B,$A66,'Terv-segédlet'!F:F)","v":1000},{"$f":"SUMIF('Terv-segédlet'!$B:$B,$A66,'Terv-segédlet'!G:G)","v":1500},{"$f":"SUMIF('Terv-segédlet'!$B:$B,$A66,'Terv-segédlet'!H:H)","v":10000},{"$f":"SUMIF('Terv-segédlet'!$B:$B,$A66,'Terv-segédlet'!I:I)","v":10000},{"$f":"SUMIF('Terv-segédlet'!$B:$B,$A66,'Terv-segédlet'!J:J)","v":1500},{"$f":"SUMIF('Terv-segédlet'!$B:$B,$A66,'Terv-segédlet'!K:K)","v":2500},5492,{"$f":"SUMIF(V!$A:$A,$A66,V!$K:$K)+SUMIF(bank!$A:$A,AC$9&$A66,bank!$M:$M)","v":2985},{"$f":"SUMIF(Gy!$A:$A,$A66,Gy!$K:$K)+SUMIF(bank!$A:$A,AD$9&$A66,bank!$M:$M)","v":16},{"$f":"SUMIF(K!$A:$A,$A66,K!$K:$K)+SUMIF(bank!$A:$A,AE$9&$A66,bank!$M:$M)","v":324},{"$f":"SUMIF(Mk!$A:$A,$A66,Mk!$K:$K)+SUMIF(bank!$A:$A,AF$9&$A66,bank!$M:$M)","v":0},{"$f":"SUMIF(M!$A:$A,$A66,M!$K:$K)+SUMIF(bank!$A:$A,AG$9&$A66,bank!$M:$M)","v":1556},{"$f":"SUMIF(P!$A:$A,$A66,P!$K:$K)+SUMIF(bank!$A:$A,AH$9&$A66,bank!$M:$M)","v":58},{"$f":"SUMIF(Zs!$A:$A,$A66,Zs!$K:$K)+SUMIF(bank!$A:$A,AI$9&$A66,bank!$M:$M)","v":553},"*","b",0.15046575342465754,"bankszámla, egyéb éven belüli lekötések kamata"]
["k058",58,null,null,"Pénzügyi műveletek egyéb bevételei",null,null,null,null,null,null,null,null,null,null,null,null,null,null,0,{"$f":"SUMIF('Terv-segédlet'!$B:$B,$A67,'Terv-segédlet'!E:E)","v":0},{"$f":"SUMIF('Terv-segédlet'!$B:$B,$A67,'Terv-segédlet'!F:F)","v":0},{"$f":"SUMIF('Terv-segédlet'!$B:$B,$A67,'Terv-segédlet'!G:G)","v":0},{"$f":"SUMIF('Terv-segédlet'!$B:$B,$A67,'Terv-segédlet'!H:H)","v":0},{"$f":"SUMIF('Terv-segédlet'!$B:$B,$A67,'Terv-segédlet'!I:I)","v":0},{"$f":"SUMIF('Terv-segédlet'!$B:$B,$A67,'Terv-segédlet'!J:J)","v":0},{"$f":"SUMIF('Terv-segédlet'!$B:$B,$A67,'Terv-segédlet'!K:K)","v":0},0,{"$f":"SUMIF(V!$A:$A,$A67,V!$K:$K)+SUMIF(bank!$A:$A,AC$9&$A67,bank!$M:$M)","v":0},{"$f":"SUMIF(Gy!$A:$A,$A67,Gy!$K:$K)+SUMIF(bank!$A:$A,AD$9&$A67,bank!$M:$M)","v":0},{"$f":"SUMIF(K!$A:$A,$A67,K!$K:$K)+SUMIF(bank!$A:$A,AE$9&$A67,bank!$M:$M)","v":0},{"$f":"SUMIF(Mk!$A:$A,$A67,Mk!$K:$K)+SUMIF(bank!$A:$A,AF$9&$A67,bank!$M:$M)","v":0},{"$f":"SUMIF(M!$A:$A,$A67,M!$K:$K)+SUMIF(bank!$A:$A,AG$9&$A67,bank!$M:$M)","v":0},{"$f":"SUMIF(P!$A:$A,$A67,P!$K:$K)+SUMIF(bank!$A:$A,AH$9&$A67,bank!$M:$M)","v":0},{"$f":"SUMIF(Zs!$A:$A,$A67,Zs!$K:$K)+SUMIF(bank!$A:$A,AI$9&$A67,bank!$M:$M)","v":0},"*","b","","árfolyamkülönbözet"]
["k059",59,null,"II. Pénzbevételt nem jelentő bevételek (60+61+65)",null,null,null,null,null,null,null,null,null,null,null,null,null,null,null,{"$f":"SUM(T69:T74)","v":0},{"$f":"SUM(U69:U74)","v":0},{"$f":"SUM(V69:V74)","v":0},{"$f":"SUM(W69:W74)","v":0},{"$f":"SUM(X69:X74)","v":0},{"$f":"SUM(Y69:Y74)","v":0},{"$f":"SUM(Z69:Z74)","v":0},{"$f":"SUM(AA69:AA74)","v":0},{"$f":"SUM(AB69:AB74)","v":0},{"$f":"SUM(AC69:AC74)","v":0},{"$f":"SUM(AD69:AD74)","v":0},0,0,0,0,0,null,"b",""]
["k060",60,null,"4. Nem pénzben kiegyenlített értékesítés nettó árbevétele",null,null,null,null,null,null,null,null,null,null,null,null,null,null,null,{"$f":"SUM(U69:AA69)","v":0},{"$f":"SUMIF('Terv-segédlet'!$B:$B,$A69,'Terv-segédlet'!E:E)","v":0},{"$f":"SUMIF('Terv-segédlet'!$B:$B,$A69,'Terv-segédlet'!F:F)","v":0},{"$f":"SUMIF('Terv-segédlet'!$B:$B,$A69,'Terv-segédlet'!G:G)","v":0},{"$f":"SUMIF('Terv-segédlet'!$B:$B,$A69,'Terv-segédlet'!H:H)","v":0},{"$f":"SUMIF('Terv-segédlet'!$B:$B,$A69,'Terv-segédlet'!I:I)","v":0},{"$f":"SUMIF('Terv-segédlet'!$B:$B,$A69,'Terv-segédlet'!J:J)","v":0},{"$f":"SUMIF('Terv-segédlet'!$B:$B,$A69,'Terv-segédlet'!K:K)","v":0},{"$f":"SUM(AC69:AI69)","v":0},{"$f":"SUMIF(V!$A:$A,$A69,V!$K:$K)+SUMIF(bank!$A:$A,AC$9&$A69,bank!$M:$M)","v":0},{"$f":"SUMIF(Gy!$A:$A,$A69,Gy!$K:$K)+SUMIF(bank!$A:$A,AD$9&$A69,bank!$M:$M)","v":0},{"$f":"SUMIF(K!$A:$A,$A69,K!$K:$K)+SUMIF(bank!$A:$A,AE$9&$A69,bank!$M:$M)","v":0},{"$f":"SUMIF(Mk!$A:$A,$A69,Mk!$K:$K)+SUMIF(bank!$A:$A,AF$9&$A69,bank!$M:$M)","v":0},{"$f":"SUMIF(M!$A:$A,$A69,M!$K:$K)+SUMIF(bank!$A:$A,AG$9&$A69,bank!$M:$M)","v":0},{"$f":"SUMIF(P!$A:$A,$A69,P!$K:$K)+SUMIF(bank!$A:$A,AH$9&$A69,bank!$M:$M)","v":0},{"$f":"SUMIF(Zs!$A:$A,$A69,Zs!$K:$K)+SUMIF(bank!$A:$A,AI$9&$A69,bank!$M:$M)","v":0},"*","b","","csereügyletek bevétele (pl. ingatlancsere)"]
["k061",61,null,"5. Nem pénzben kiegyenlített egyéb bevételek","5. Nem pénzben kiegyenlített egyéb bevételek","5. Nem pénzben kiegyenlített egyéb bevételek","5. Nem pénzben kiegyenlített egyéb bevételek","5. Nem pénzben kiegyenlített egyéb bevételek","5. Nem pénzben kiegyenlített egyéb bevételek","5. Nem pénzben kiegyenlített egyéb bevételek","5. Nem pénzben kiegyenlített egyéb bevételek","5. Nem pénzben kiegyenlített egyéb bevételek","5. Nem pénzben kiegyenlített egyéb bevételek","5. Nem pénzben kiegyenlített egyéb bevételek","5. Nem pénzben kiegyenlített egyéb bevételek","5. Nem pénzben kiegyenlített egyéb bevételek","5. Nem pénzben kiegyenlített egyéb bevételek","5. Nem pénzben kiegyenlített egyéb bevételek","5. Nem pénzben kiegyenlített egyéb bevételek",0,{"$f":"SUMIF('Terv-segédlet'!$B:$B,$A70,'Terv-segédlet'!E:E)","v":0},{"$f":"SUMIF('Terv-segédlet'!$B:$B,$A70,'Terv-segédlet'!F:F)","v":0},{"$f":"SUMIF('Terv-segédlet'!$B:$B,$A70,'Terv-segédlet'!G:G)","v":0},{"$f":"SUMIF('Terv-segédlet'!$B:$B,$A70,'Terv-segédlet'!H:H)","v":0},{"$f":"SUMIF('Terv-segédlet'!$B:$B,$A70,'Terv-segédlet'!I:I)","v":0},{"$f":"SUMIF('Terv-segédlet'!$B:$B,$A70,'Terv-segédlet'!J:J)","v":0},{"$f":"SUMIF('Terv-segédlet'!$B:$B,$A70,'Terv-segédlet'!K:K)","v":0},0,{"$f":"SUMIF(V!$A:$A,$A70,V!$K:$K)+SUMIF(bank!$A:$A,AC$9&$A70,bank!$M:$M)","v":0},{"$f":"SUMIF(Gy!$A:$A,$A70,Gy!$K:$K)+SUMIF(bank!$A:$A,AD$9&$A70,bank!$M:$M)","v":0},{"$f":"SUMIF(K!$A:$A,$A70,K!$K:$K)+SUMIF(bank!$A:$A,AE$9&$A70,bank!$M:$M)","v":0},{"$f":"SUMIF(Mk!$A:$A,$A70,Mk!$K:$K)+SUMIF(bank!$A:$A,AF$9&$A70,bank!$M:$M)","v":0},{"$f":"SUMIF(M!$A:$A,$A70,M!$K:$K)+SUMIF(bank!$A:$A,AG$9&$A70,bank!$M:$M)","v":0},{"$f":"SUMIF(P!$A:$A,$A70,P!$K:$K)+SUMIF(bank!$A:$A,AH$9&$A70,bank!$M:$M)","v":0},{"$f":"SUMIF(Zs!$A:$A,$A70,Zs!$K:$K)+SUMIF(bank!$A:$A,AI$9&$A70,bank!$M:$M)","v":0},"*","b","","NEM összesített adat, be kell írni!!!\nolyan bevétel, amelyet az egyházközség pénzben nem kapott meg, hanem más kötelezettségbe kerül beszámításra"]
["k062",62,null," ebből fenntartói nyugdíjjárulékra kapott támogatás",null,null,null,null,null,null,null,null,null,null,null,null,null,null,null,0,{"$f":"SUMIF('Terv-segédlet'!$B:$B,$A71,'Terv-segédlet'!E:E)","v":0},{"$f":"SUMIF('Terv-segédlet'!$B:$B,$A71,'Terv-segédlet'!F:F)","v":0},{"$f":"SUMIF('Terv-segédlet'!$B:$B,$A71,'Terv-segédlet'!G:G)","v":0},{"$f":"SUMIF('Terv-segédlet'!$B:$B,$A71,'Terv-segédlet'!H:H)","v":0},{"$f":"SUMIF('Terv-segédlet'!$B:$B,$A71,'Terv-segédlet'!I:I)","v":0},{"$f":"SUMIF('Terv-segédlet'!$B:$B,$A71,'Terv-segédlet'!J:J)","v":0},{"$f":"SUMIF('Terv-segédlet'!$B:$B,$A71,'Terv-segédlet'!K:K)","v":0},0,{"$f":"SUMIF(V!$A:$A,$A71,V!$K:$K)+SUMIF(bank!$A:$A,AC$9&$A71,bank!$M:$M)","v":0},{"$f":"SUMIF(Gy!$A:$A,$A71,Gy!$K:$K)+SUMIF(bank!$A:$A,AD$9&$A71,bank!$M:$M)","v":0},{"$f":"SUMIF(K!$A:$A,$A71,K!$K:$K)+SUMIF(bank!$A:$A,AE$9&$A71,bank!$M:$M)","v":0},{"$f":"SUMIF(Mk!$A:$A,$A71,Mk!$K:$K)+SUMIF(bank!$A:$A,AF$9&$A71,bank!$M:$M)","v":0},{"$f":"SUMIF(M!$A:$A,$A71,M!$K:$K)+SUMIF(bank!$A:$A,AG$9&$A71,bank!$M:$M)","v":0},{"$f":"SUMIF(P!$A:$A,$A71,P!$K:$K)+SUMIF(bank!$A:$A,AH$9&$A71,bank!$M:$M)","v":0},{"$f":"SUMIF(Zs!$A:$A,$A71,Zs!$K:$K)+SUMIF(bank!$A:$A,AI$9&$A71,bank!$M:$M)","v":0},"*","b","","bevallás alapján megítélt, pénzben meg nem kapott támogatás (szolidaritási bevallás 6. pont szerinti összeg)"]
["k063",63,null,"ebből GAW támogatás előfinanszírozása",null,null,null,null,null,null,null,null,null,null,null,null,null,null,null,0,{"$f":"SUMIF('Terv-segédlet'!$B:$B,$A72,'Terv-segédlet'!E:E)","v":0},{"$f":"SUMIF('Terv-segédlet'!$B:$B,$A72,'Terv-segédlet'!F:F)","v":0},{"$f":"SUMIF('Terv-segédlet'!$B:$B,$A72,'Terv-segédlet'!G:G)","v":0},{"$f":"SUMIF('Terv-segédlet'!$B:$B,$A72,'Terv-segédlet'!H:H)","v":0},{"$f":"SUMIF('Terv-segédlet'!$B:$B,$A72,'Terv-segédlet'!I:I)","v":0},{"$f":"SUMIF('Terv-segédlet'!$B:$B,$A72,'Terv-segédlet'!J:J)","v":0},{"$f":"SUMIF('Terv-segédlet'!$B:$B,$A72,'Terv-segédlet'!K:K)","v":0},0,{"$f":"SUMIF(V!$A:$A,$A72,V!$K:$K)+SUMIF(bank!$A:$A,AC$9&$A72,bank!$M:$M)","v":0},{"$f":"SUMIF(Gy!$A:$A,$A72,Gy!$K:$K)+SUMIF(bank!$A:$A,AD$9&$A72,bank!$M:$M)","v":0},{"$f":"SUMIF(K!$A:$A,$A72,K!$K:$K)+SUMIF(bank!$A:$A,AE$9&$A72,bank!$M:$M)","v":0},{"$f":"SUMIF(Mk!$A:$A,$A72,Mk!$K:$K)+SUMIF(bank!$A:$A,AF$9&$A72,bank!$M:$M)","v":0},{"$f":"SUMIF(M!$A:$A,$A72,M!$K:$K)+SUMIF(bank!$A:$A,AG$9&$A72,bank!$M:$M)","v":0},{"$f":"SUMIF(P!$A:$A,$A72,P!$K:$K)+SUMIF(bank!$A:$A,AH$9&$A72,bank!$M:$M)","v":0},{"$f":"SUMIF(Zs!$A:$A,$A72,Zs!$K:$K)+SUMIF(bank!$A:$A,AI$9&$A72,bank!$M:$M)","v":0},"*","b","","GAW támogatás előfinanszírozása esetén a támogatás beérkezésekor pénzben meg nem kapott, előleg törlesztésre felhasznált bevételrész"]
["k064",{"$f":"+B72+1","v":64},null,"ebből ajándékba kapott eszközök",null,null,null,null,null,null,null,null,null,null,null,null,null,null,null,0,{"$f":"SUMIF('Terv-segédlet'!$B:$B,$A73,'Terv-segédlet'!E:E)","v":0},{"$f":"SUMIF('Terv-segédlet'!$B:$B,$A73,'Terv-segédlet'!F:F)","v":0},{"$f":"SUMIF('Terv-segédlet'!$B:$B,$A73,'Terv-segédlet'!G:G)","v":0},{"$f":"SUMIF('Terv-segédlet'!$B:$B,$A73,'Terv-segédlet'!H:H)","v":0},{"$f":"SUMIF('Terv-segédlet'!$B:$B,$A73,'Terv-segédlet'!I:I)","v":0},{"$f":"SUMIF('Terv-segédlet'!$B:$B,$A73,'Terv-segédlet'!J:J)","v":0},{"$f":"SUMIF('Terv-segédlet'!$B:$B,$A73,'Terv-segédlet'!K:K)","v":0},0,{"$f":"SUMIF(V!$A:$A,$A73,V!$K:$K)+SUMIF(bank!$A:$A,AC$9&$A73,bank!$M:$M)","v":0},{"$f":"SUMIF(Gy!$A:$A,$A73,Gy!$K:$K)+SUMIF(bank!$A:$A,AD$9&$A73,bank!$M:$M)","v":0},{"$f":"SUMIF(K!$A:$A,$A73,K!$K:$K)+SUMIF(bank!$A:$A,AE$9&$A73,bank!$M:$M)","v":0},{"$f":"SUMIF(Mk!$A:$A,$A73,Mk!$K:$K)+SUMIF(bank!$A:$A,AF$9&$A73,bank!$M:$M)","v":0},{"$f":"SUMIF(M!$A:$A,$A73,M!$K:$K)+SUMIF(bank!$A:$A,AG$9&$A73,bank!$M:$M)","v":0},{"$f":"SUMIF(P!$A:$A,$A73,P!$K:$K)+SUMIF(bank!$A:$A,AH$9&$A73,bank!$M:$M)","v":0},{"$f":"SUMIF(Zs!$A:$A,$A73,Zs!$K:$K)+SUMIF(bank!$A:$A,AI$9&$A73,bank!$M:$M)","v":0},"*","b","","ajándékba kapott eszköz értéke"]
["k065",{"$f":"+B73+1","v":65},null,"6. Nem pénzben kiegyenlített rendkívüli  bevételek","5. Nem pénzben kiegyenlített egyéb bevételek","5. Nem pénzben kiegyenlített egyéb bevételek","5. Nem pénzben kiegyenlített egyéb bevételek","5. Nem pénzben kiegyenlített egyéb bevételek","5. Nem pénzben kiegyenlített egyéb bevételek","5. Nem pénzben kiegyenlített egyéb bevételek","5. Nem pénzben kiegyenlített egyéb bevételek","5. Nem pénzben kiegyenlített egyéb bevételek","5. Nem pénzben kiegyenlített egyéb bevételek","5. Nem pénzben kiegyenlített egyéb bevételek","5. Nem pénzben kiegyenlített egyéb bevételek","5. Nem pénzben kiegyenlített egyéb bevételek","5. Nem pénzben kiegyenlített egyéb bevételek","5. Nem pénzben kiegyenlített egyéb bevételek","5. Nem pénzben kiegyenlített egyéb bevételek",0,{"$f":"SUMIF('Terv-segédlet'!$B:$B,$A74,'Terv-segédlet'!E:E)","v":0},{"$f":"SUMIF('Terv-segédlet'!$B:$B,$A74,'Terv-segédlet'!F:F)","v":0},{"$f":"SUMIF('Terv-segédlet'!$B:$B,$A74,'Terv-segédlet'!G:G)","v":0},{"$f":"SUMIF('Terv-segédlet'!$B:$B,$A74,'Terv-segédlet'!H:H)","v":0},{"$f":"SUMIF('Terv-segédlet'!$B:$B,$A74,'Terv-segédlet'!I:I)","v":0},{"$f":"SUMIF('Terv-segédlet'!$B:$B,$A74,'Terv-segédlet'!J:J)","v":0},{"$f":"SUMIF('Terv-segédlet'!$B:$B,$A74,'Terv-segédlet'!K:K)","v":0},0,{"$f":"SUMIF(V!$A:$A,$A74,V!$K:$K)+SUMIF(bank!$A:$A,AC$9&$A74,bank!$M:$M)","v":0},{"$f":"SUMIF(Gy!$A:$A,$A74,Gy!$K:$K)+SUMIF(bank!$A:$A,AD$9&$A74,bank!$M:$M)","v":0},{"$f":"SUMIF(K!$A:$A,$A74,K!$K:$K)+SUMIF(bank!$A:$A,AE$9&$A74,bank!$M:$M)","v":0},{"$f":"SUMIF(Mk!$A:$A,$A74,Mk!$K:$K)+SUMIF(bank!$A:$A,AF$9&$A74,bank!$M:$M)","v":0},{"$f":"SUMIF(M!$A:$A,$A74,M!$K:$K)+SUMIF(bank!$A:$A,AG$9&$A74,bank!$M:$M)","v":0},{"$f":"SUMIF(P!$A:$A,$A74,P!$K:$K)+SUMIF(bank!$A:$A,AH$9&$A74,bank!$M:$M)","v":0},{"$f":"SUMIF(Zs!$A:$A,$A74,Zs!$K:$K)+SUMIF(bank!$A:$A,AI$9&$A74,bank!$M:$M)","v":0},"*","b","","nem jellemző"]
["k066",66,null,"A. VÉGLEGES PÉNZBEVÉTELEK, ELSZÁMOLT BEVÉTELEK (1+59)",null,null,null,null,null,null,null,null,null,null,null,null,null,null,null,{"$f":"T68+T10","v":12527500},{"$f":"U68+U10","v":594000},{"$f":"V68+V10","v":374000},861500,7559000,2366000,276500,496500,{"$f":"AB68+AB10","v":119302},{"$f":"AC68+AC10","v":2985},{"$f":"AD68+AD10","v":16},324,31200,84166,58,553,null,"b",{"$f":"IF(AND(OR(T75<>0,AB75<>0),T75<>0),ABS(AB75/T75),\"\")","v":9.5232089403312712E-3}]
["k067",67,null,"III. Ráfordításként érvényesíthető kiadások (73+136+166+189+193)","III. Ráfordításként érvényesíthető kiadások (7+8+9+10)","III. Ráfordításként érvényesíthető kiadások (7+8+9+10)","III. Ráfordításként érvényesíthető kiadások (7+8+9+10)","III. Ráfordításként érvényesíthető kiadások (7+8+9+10)","III. Ráfordításként érvényesíthető kiadások (7+8+9+10)","III. Ráfordításként érvényesíthető kiadások (7+8+9+10)","III. Ráfordításként érvényesíthető kiadások (7+8+9+10)","III. Ráfordításként érvényesíthető kiadások (7+8+9+10)","III. Ráfordításként érvényesíthető kiadások (7+8+9+10)","III. Ráfordításként érvényesíthető kiadások (7+8+9+10)","III. Ráfordításként érvényesíthető kiadások (7+8+9+10)","III. Ráfordításként érvényesíthető kiadások (7+8+9+10)","III. Ráfordításként érvényesíthető kiadások (7+8+9+10)","III. Ráfordításként érvényesíthető kiadások (7+8+9+10)","III. Ráfordításként érvényesíthető kiadások (7+8+9+10)",{"$f":"+T77+T140+T170+T193","v":12086324.94117647},{"$f":"+U77+U140+U170+U193","v":5679434.9411764704},{"$f":"+V77+V140+V170+V193","v":45260},{"$f":"+W77+W140+W170+W193","v":131690},{"$f":"+X77+X140+X170+X193","v":5252570},{"$f":"+Y77+Y140+Y170+Y193","v":801370},{"$f":"+Z77+Z140+Z170+Z193","v":30000},{"$f":"+AA77+AA140+AA170+AA193","v":146000},{"$f":"+AB77+AB140+AB170+AB193","v":465433},{"$f":"+AC77+AC140+AC170+AC193","v":329568},{"$f":"+AD77+AD140+AD170+AD193","v":0},5150,11250,35015,0,84450,null,"k",3.850905897907253E-2]
["k068",68,null,"7.  Anyagjellegű ráfordítások (69+97+119+128+130)",null,null,null,null,null,null,null,null,null,null,null,null,null,null,null,{"$f":"SUM(T78,T106,T128,T137,T139)","v":8122150},{"$f":"SUM(U78,U106,U128,U137,U139)","v":2184260},{"$f":"SUM(V78,V106,V128,V137,V139)","v":26260},{"$f":"SUM(W78,W106,W128,W137,W139)","v":47690},{"$f":"SUM(X78,X106,X128,X137,X139)","v":5066570},{"$f":"SUM(Y78,Y106,Y128,Y137,Y139)","v":634370},{"$f":"SUM(Z78,Z106,Z128,Z137,Z139)","v":25000},{"$f":"SUM(AA78,AA106,AA128,AA137,AA139)","v":138000},{"$f":"SUM(AB78,AB106,AB128,AB137,AB139)","v":133444},{"$f":"SUM(AC78,AC106,AC128,AC137,AC139)","v":26889},{"$f":"SUM(AD78,AD106,AD128,AD137,AD139)","v":0},50,50,24405,0,82050,null,"k",{"$f":"IF(AND(OR(T77<>0,AB77<>0),T77<>0),ABS(AB77/T77),\"\")","v":1.6429639935238823E-2},"51..53+81%"]
["k069",69,null,"a) Anyagköltség (70+74+78+82..85+91+94..96)",null,null,null,null,null,null,null,null,null,null,null,null,null,null,null,{"$f":"SUM(T79,T83,T87,T91:T91,T92:T94,T100,T103:T105)","v":835800},{"$f":"SUM(U79,U83,U87,U91:U91,U92:U94,U100,U103:U105)","v":574800},{"$f":"SUM(V79,V83,V87,V91:V91,V92:V94,V100,V103:V105)","v":4000},{"$f":"SUM(W79,W83,W87,W91:W91,W92:W94,W100,W103:W105)","v":31000},{"$f":"SUM(X79,X83,X87,X91:X91,X92:X94,X100,X103:X105)","v":38000},{"$f":"SUM(Y79,Y83,Y87,Y91:Y91,Y92:Y94,Y100,Y103:Y105)","v":157000},{"$f":"SUM(Z79,Z83,Z87,Z91:Z91,Z92:Z94,Z100,Z103:Z105)","v":24000},{"$f":"SUM(AA79,AA83,AA87,AA91:AA91,AA92:AA94,AA100,AA103:AA105)","v":7000},{"$f":"SUM(AB79,AB83,AB87,AB91:AB91,AB92:AB94,AB100,AB103:AB105)","v":50678},{"$f":"SUM(AC79,AC83,AC87,AC91:AC91,AC92:AC94,AC100,AC103:AC105)","v":26323},{"$f":"SUM(AD79,AD83,AD87,AD91:AD91,AD92:AD94,AD100,AD103:AD105)","v":0},0,0,24355,0,0,null,"k",6.0634122995932044E-2]
["k070",70,null,"-Gázszolgáltatás díja és egyéb fűtőanyag költsége  (70..73)",null,"Alapanyagok, segédanyagok költsége",null,null,null,null,null,null,null,null,null,null,null,null,null,{"$f":"SUM(T80:T82)","v":315000},{"$f":"SUM(U80:U82)","v":150000},{"$f":"SUM(V80:V82)","v":0},{"$f":"SUM(W80:W82)","v":0},{"$f":"SUM(X80:X82)","v":0},{"$f":"SUM(Y80:Y82)","v":140000},{"$f":"SUM(Z80:Z82)","v":20000},{"$f":"SUM(AA80:AA82)","v":5000},{"$f":"SUM(AB80:AB82)","v":49189},{"$f":"SUM(AC80:AC82)","v":24834},{"$f":"SUM(AD80:AD82)","v":0},0,0,24355,0,0,null,"k",{"$f":"IF(AND(OR(T79<>0,AB79<>0),T79<>0),ABS(AB79/T79),\"\")","v":0.15615555555555555}]
["k071",71,null,"Lelkészlakás",null,"Élelmiszerek költsége",null,null,null,null,null,null,null,null,null,null,null,null,null,{"$f":"SUM(U80:AA80)","v":150000},{"$f":"SUMIF('Terv-segédlet'!$B:$B,$A80,'Terv-segédlet'!E:E)","v":150000},{"$f":"SUMIF('Terv-segédlet'!$B:$B,$A80,'Terv-segédlet'!F:F)","v":0},{"$f":"SUMIF('Terv-segédlet'!$B:$B,$A80,'Terv-segédlet'!G:G)","v":0},{"$f":"SUMIF('Terv-segédlet'!$B:$B,$A80,'Terv-segédlet'!H:H)","v":0},{"$f":"SUMIF('Terv-segédlet'!$B:$B,$A80,'Terv-segédlet'!I:I)","v":0},{"$f":"SUMIF('Terv-segédlet'!$B:$B,$A80,'Terv-segédlet'!J:J)","v":0},{"$f":"SUMIF('Terv-segédlet'!$B:$B,$A80,'Terv-segédlet'!K:K)","v":0},{"$f":"SUM(AC80:AI80)","v":24834},{"$f":"SUMIF(V!$A:$A,$A80,V!$L:$L)+SUMIF(bank!$A:$A,AC$9&$A80,bank!$N:$N)","v":24834},{"$f":"SUMIF(Gy!$A:$A,$A80,Gy!$L:$L)+SUMIF(bank!$A:$A,AD$9&$A80,bank!$N:$N)","v":0},{"$f":"SUMIF(K!$A:$A,$A80,K!$L:$L)+SUMIF(bank!$A:$A,AE$9&$A80,bank!$N:$N)","v":0},{"$f":"SUMIF(Mk!$A:$A,$A80,Mk!$L:$L)+SUMIF(bank!$A:$A,AF$9&$A80,bank!$N:$N)","v":0},{"$f":"SUMIF(M!$A:$A,$A80,M!$L:$L)+SUMIF(bank!$A:$A,AG$9&$A80,bank!$N:$N)","v":0},{"$f":"SUMIF(P!$A:$A,$A80,P!$L:$L)+SUMIF(bank!$A:$A,AH$9&$A80,bank!$N:$N)","v":0},{"$f":"SUMIF(Zs!$A:$A,$A80,Zs!$L:$L)+SUMIF(bank!$A:$A,AI$9&$A80,bank!$N:$N)","v":0},"*","k",0.16556000000000001,"lelkészlakás gáz és egyéb fűtőanyag költsége"]
["k072",72,null,"Egyéb lakás",null,null,null,null,null,null,null,null,null,null,null,null,null,null,null,0,{"$f":"SUMIF('Terv-segédlet'!$B:$B,$A81,'Terv-segédlet'!E:E)","v":0},{"$f":"SUMIF('Terv-segédlet'!$B:$B,$A81,'Terv-segédlet'!F:F)","v":0},{"$f":"SUMIF('Terv-segédlet'!$B:$B,$A81,'Terv-segédlet'!G:G)","v":0},{"$f":"SUMIF('Terv-segédlet'!$B:$B,$A81,'Terv-segédlet'!H:H)","v":0},{"$f":"SUMIF('Terv-segédlet'!$B:$B,$A81,'Terv-segédlet'!I:I)","v":0},{"$f":"SUMIF('Terv-segédlet'!$B:$B,$A81,'Terv-segédlet'!J:J)","v":0},{"$f":"SUMIF('Terv-segédlet'!$B:$B,$A81,'Terv-segédlet'!K:K)","v":0},{"$f":"SUM(AC81:AI81)","v":0},{"$f":"SUMIF(V!$A:$A,$A81,V!$L:$L)+SUMIF(bank!$A:$A,AC$9&$A81,bank!$N:$N)","v":0},{"$f":"SUMIF(Gy!$A:$A,$A81,Gy!$L:$L)+SUMIF(bank!$A:$A,AD$9&$A81,bank!$N:$N)","v":0},{"$f":"SUMIF(K!$A:$A,$A81,K!$L:$L)+SUMIF(bank!$A:$A,AE$9&$A81,bank!$N:$N)","v":0},{"$f":"SUMIF(Mk!$A:$A,$A81,Mk!$L:$L)+SUMIF(bank!$A:$A,AF$9&$A81,bank!$N:$N)","v":0},{"$f":"SUMIF(M!$A:$A,$A81,M!$L:$L)+SUMIF(bank!$A:$A,AG$9&$A81,bank!$N:$N)","v":0},{"$f":"SUMIF(P!$A:$A,$A81,P!$L:$L)+SUMIF(bank!$A:$A,AH$9&$A81,bank!$N:$N)","v":0},{"$f":"SUMIF(Zs!$A:$A,$A81,Zs!$L:$L)+SUMIF(bank!$A:$A,AI$9&$A81,bank!$N:$N)","v":0},"*","k","","egyéb lakóingatlan gáz és egyéb fűtőanyag költsége"]
["k073",73,null,"Más gyülekezeti helyiség",null,"Gyógyszerek költsége",null,null,null,null,null,null,null,null,null,null,null,null,null,165000,{"$f":"SUMIF('Terv-segédlet'!$B:$B,$A82,'Terv-segédlet'!E:E)","v":0},{"$f":"SUMIF('Terv-segédlet'!$B:$B,$A82,'Terv-segédlet'!F:F)","v":0},{"$f":"SUMIF('Terv-segédlet'!$B:$B,$A82,'Terv-segédlet'!G:G)","v":0},{"$f":"SUMIF('Terv-segédlet'!$B:$B,$A82,'Terv-segédlet'!H:H)","v":0},{"$f":"SUMIF('Terv-segédlet'!$B:$B,$A82,'Terv-segédlet'!I:I)","v":140000},{"$f":"SUMIF('Terv-segédlet'!$B:$B,$A82,'Terv-segédlet'!J:J)","v":20000},{"$f":"SUMIF('Terv-segédlet'!$B:$B,$A82,'Terv-segédlet'!K:K)","v":5000},24355,{"$f":"SUMIF(V!$A:$A,$A82,V!$L:$L)+SUMIF(bank!$A:$A,AC$9&$A82,bank!$N:$N)","v":0},{"$f":"SUMIF(Gy!$A:$A,$A82,Gy!$L:$L)+SUMIF(bank!$A:$A,AD$9&$A82,bank!$N:$N)","v":0},{"$f":"SUMIF(K!$A:$A,$A82,K!$L:$L)+SUMIF(bank!$A:$A,AE$9&$A82,bank!$N:$N)","v":0},{"$f":"SUMIF(Mk!$A:$A,$A82,Mk!$L:$L)+SUMIF(bank!$A:$A,AF$9&$A82,bank!$N:$N)","v":0},{"$f":"SUMIF(M!$A:$A,$A82,M!$L:$L)+SUMIF(bank!$A:$A,AG$9&$A82,bank!$N:$N)","v":24355},{"$f":"SUMIF(P!$A:$A,$A82,P!$L:$L)+SUMIF(bank!$A:$A,AH$9&$A82,bank!$N:$N)","v":0},{"$f":"SUMIF(Zs!$A:$A,$A82,Zs!$L:$L)+SUMIF(bank!$A:$A,AI$9&$A82,bank!$N:$N)","v":0},"*","k",0.1476060606060606,"egyéb gyülekezeti ingatlan gáz és egyéb fűtőanyag költsége (tepmlom, gyülkezeti terem, üzlethelység, stb.)"]
["k074",74,null,"-Villamosenergia szolgáltatás díja (75..77)",null,"Vegyszerek költsége",null,null,null,null,null,null,null,null,null,null,null,null,null,{"$f":"SUM(T84:T86)","v":109000},{"$f":"SUM(U84:U86)","v":36000},{"$f":"SUM(V84:V86)","v":4000},{"$f":"SUM(W84:W86)","v":30000},{"$f":"SUM(X84:X86)","v":18000},{"$f":"SUM(Y84:Y86)","v":15000},{"$f":"SUM(Z84:Z86)","v":4000},{"$f":"SUM(AA84:AA86)","v":2000},{"$f":"SUM(AB84:AB86)","v":0},{"$f":"SUM(AC84:AC86)","v":0},{"$f":"SUM(AD84:AD86)","v":0},0,0,0,0,0,null,"k",0]
["k075",75,null,"Lelkészlakás",null,"Gázenergia szolgáltatás díja",null,null,null,null,null,null,null,null,null,null,null,null,null,{"$f":"SUM(U84:AA84)","v":22000},{"$f":"SUMIF('Terv-segédlet'!$B:$B,$A84,'Terv-segédlet'!E:E)","v":22000},{"$f":"SUMIF('Terv-segédlet'!$B:$B,$A84,'Terv-segédlet'!F:F)","v":0},{"$f":"SUMIF('Terv-segédlet'!$B:$B,$A84,'Terv-segédlet'!G:G)","v":0},{"$f":"SUMIF('Terv-segédlet'!$B:$B,$A84,'Terv-segédlet'!H:H)","v":0},{"$f":"SUMIF('Terv-segédlet'!$B:$B,$A84,'Terv-segédlet'!I:I)","v":0},{"$f":"SUMIF('Terv-segédlet'!$B:$B,$A84,'Terv-segédlet'!J:J)","v":0},{"$f":"SUMIF('Terv-segédlet'!$B:$B,$A84,'Terv-segédlet'!K:K)","v":0},{"$f":"SUM(AC84:AI84)","v":0},{"$f":"SUMIF(V!$A:$A,$A84,V!$L:$L)+SUMIF(bank!$A:$A,AC$9&$A84,bank!$N:$N)","v":0},{"$f":"SUMIF(Gy!$A:$A,$A84,Gy!$L:$L)+SUMIF(bank!$A:$A,AD$9&$A84,bank!$N:$N)","v":0},{"$f":"SUMIF(K!$A:$A,$A84,K!$L:$L)+SUMIF(bank!$A:$A,AE$9&$A84,bank!$N:$N)","v":0},{"$f":"SUMIF(Mk!$A:$A,$A84,Mk!$L:$L)+SUMIF(bank!$A:$A,AF$9&$A84,bank!$N:$N)","v":0},{"$f":"SUMIF(M!$A:$A,$A84,M!$L:$L)+SUMIF(bank!$A:$A,AG$9&$A84,bank!$N:$N)","v":0},{"$f":"SUMIF(P!$A:$A,$A84,P!$L:$L)+SUMIF(bank!$A:$A,AH$9&$A84,bank!$N:$N)","v":0},{"$f":"SUMIF(Zs!$A:$A,$A84,Zs!$L:$L)+SUMIF(bank!$A:$A,AI$9&$A84,bank!$N:$N)","v":0},"*","k",0,"lelkészlakás áramdíja"]
["k076",76,null,"Egyéb lakás",null,null,null,null,null,null,null,null,null,null,null,null,null,null,null,0,{"$f":"SUMIF('Terv-segédlet'!$B:$B,$A85,'Terv-segédlet'!E:E)","v":0},{"$f":"SUMIF('Terv-segédlet'!$B:$B,$A85,'Terv-segédlet'!F:F)","v":0},{"$f":"SUMIF('Terv-segédlet'!$B:$B,$A85,'Terv-segédlet'!G:G)","v":0},{"$f":"SUMIF('Terv-segédlet'!$B:$B,$A85,'Terv-segédlet'!H:H)","v":0},{"$f":"SUMIF('Terv-segédlet'!$B:$B,$A85,'Terv-segédlet'!I:I)","v":0},{"$f":"SUMIF('Terv-segédlet'!$B:$B,$A85,'Terv-segédlet'!J:J)","v":0},{"$f":"SUMIF('Terv-segédlet'!$B:$B,$A85,'Terv-segédlet'!K:K)","v":0},0,{"$f":"SUMIF(V!$A:$A,$A85,V!$L:$L)+SUMIF(bank!$A:$A,AC$9&$A85,bank!$N:$N)","v":0},{"$f":"SUMIF(Gy!$A:$A,$A85,Gy!$L:$L)+SUMIF(bank!$A:$A,AD$9&$A85,bank!$N:$N)","v":0},{"$f":"SUMIF(K!$A:$A,$A85,K!$L:$L)+SUMIF(bank!$A:$A,AE$9&$A85,bank!$N:$N)","v":0},{"$f":"SUMIF(Mk!$A:$A,$A85,Mk!$L:$L)+SUMIF(bank!$A:$A,AF$9&$A85,bank!$N:$N)","v":0},{"$f":"SUMIF(M!$A:$A,$A85,M!$L:$L)+SUMIF(bank!$A:$A,AG$9&$A85,bank!$N:$N)","v":0},{"$f":"SUMIF(P!$A:$A,$A85,P!$L:$L)+SUMIF(bank!$A:$A,AH$9&$A85,bank!$N:$N)","v":0},{"$f":"SUMIF(Zs!$A:$A,$A85,Zs!$L:$L)+SUMIF(bank!$A:$A,AI$9&$A85,bank!$N:$N)","v":0},"*","k","","egyéb lakóingatlan áramdíja"]
["k077",77,null,"Más gyülekezeti helyiség",null,null,null,null,null,null,null,null,null,null,null,null,null,null,null,87000,{"$f":"SUMIF('Terv-segédlet'!$B:$B,$A86,'Terv-segédlet'!E:E)","v":14000},{"$f":"SUMIF('Terv-segédlet'!$B:$B,$A86,'Terv-segédlet'!F:F)","v":4000},{"$f":"SUMIF('Terv-segédlet'!$B:$B,$A86,'Terv-segédlet'!G:G)","v":30000},{"$f":"SUMIF('Terv-segédlet'!$B:$B,$A86,'Terv-segédlet'!H:H)","v":18000},{"$f":"SUMIF('Terv-segédlet'!$B:$B,$A86,'Terv-segédlet'!I:I)","v":15000},{"$f":"SUMIF('Terv-segédlet'!$B:$B,$A86,'Terv-segédlet'!J:J)","v":4000},{"$f":"SUMIF('Terv-segédlet'!$B:$B,$A86,'Terv-segédlet'!K:K)","v":2000},0,{"$f":"SUMIF(V!$A:$A,$A86,V!$L:$L)+SUMIF(bank!$A:$A,AC$9&$A86,bank!$N:$N)","v":0},{"$f":"SUMIF(Gy!$A:$A,$A86,Gy!$L:$L)+SUMIF(bank!$A:$A,AD$9&$A86,bank!$N:$N)","v":0},{"$f":"SUMIF(K!$A:$A,$A86,K!$L:$L)+SUMIF(bank!$A:$A,AE$9&$A86,bank!$N:$N)","v":0},{"$f":"SUMIF(Mk!$A:$A,$A86,Mk!$L:$L)+SUMIF(bank!$A:$A,AF$9&$A86,bank!$N:$N)","v":0},{"$f":"SUMIF(M!$A:$A,$A86,M!$L:$L)+SUMIF(bank!$A:$A,AG$9&$A86,bank!$N:$N)","v":0},{"$f":"SUMIF(P!$A:$A,$A86,P!$L:$L)+SUMIF(bank!$A:$A,AH$9&$A86,bank!$N:$N)","v":0},{"$f":"SUMIF(Zs!$A:$A,$A86,Zs!$L:$L)+SUMIF(bank!$A:$A,AI$9&$A86,bank!$N:$N)","v":0},"*","k",0,"egyéb gyülekezeti ingatlan áramdíja (tepmlom, gyülkezeti terem, üzlethelység, stb.)"]
["k078",78,null,"-Víz és csatorna szolgáltatás és egyéb közüzemi díja (79..81)",null,null,null,null,null,null,null,null,null,null,null,null,null,null,null,{"$f":"SUM(T88:T90)","v":33000},{"$f":"SUM(U88:U90)","v":10000},{"$f":"SUM(V88:V90)","v":0},{"$f":"SUM(W88:W90)","v":1000},{"$f":"SUM(X88:X90)","v":20000},{"$f":"SUM(Y88:Y90)","v":2000},{"$f":"SUM(Z88:Z90)","v":0},{"$f":"SUM(AA88:AA90)","v":0},{"$f":"SUM(AB88:AB90)","v":1489},{"$f":"SUM(AC88:AC90)","v":1489},{"$f":"SUM(AD88:AD90)","v":0},0,0,0,0,0,null,"k",4.5121212121212124E-2]
["k079",79,null,"Lelkészlakás",null,null,null,null,null,null,null,null,null,null,null,null,null,null,null,{"$f":"SUM(U88:AA88)","v":10000},{"$f":"SUMIF('Terv-segédlet'!$B:$B,$A88,'Terv-segédlet'!E:E)","v":10000},{"$f":"SUMIF('Terv-segédlet'!$B:$B,$A88,'Terv-segédlet'!F:F)","v":0},{"$f":"SUMIF('Terv-segédlet'!$B:$B,$A88,'Terv-segédlet'!G:G)","v":0},{"$f":"SUMIF('Terv-segédlet'!$B:$B,$A88,'Terv-segédlet'!H:H)","v":0},{"$f":"SUMIF('Terv-segédlet'!$B:$B,$A88,'Terv-segédlet'!I:I)","v":0},{"$f":"SUMIF('Terv-segédlet'!$B:$B,$A88,'Terv-segédlet'!J:J)","v":0},{"$f":"SUMIF('Terv-segédlet'!$B:$B,$A88,'Terv-segédlet'!K:K)","v":0},{"$f":"SUM(AC88:AI88)","v":1489},{"$f":"SUMIF(V!$A:$A,$A88,V!$L:$L)+SUMIF(bank!$A:$A,AC$9&$A88,bank!$N:$N)","v":1489},{"$f":"SUMIF(Gy!$A:$A,$A88,Gy!$L:$L)+SUMIF(bank!$A:$A,AD$9&$A88,bank!$N:$N)","v":0},{"$f":"SUMIF(K!$A:$A,$A88,K!$L:$L)+SUMIF(bank!$A:$A,AE$9&$A88,bank!$N:$N)","v":0},{"$f":"SUMIF(Mk!$A:$A,$A88,Mk!$L:$L)+SUMIF(bank!$A:$A,AF$9&$A88,bank!$N:$N)","v":0},{"$f":"SUMIF(M!$A:$A,$A88,M!$L:$L)+SUMIF(bank!$A:$A,AG$9&$A88,bank!$N:$N)","v":0},{"$f":"SUMIF(P!$A:$A,$A88,P!$L:$L)+SUMIF(bank!$A:$A,AH$9&$A88,bank!$N:$N)","v":0},{"$f":"SUMIF(Zs!$A:$A,$A88,Zs!$L:$L)+SUMIF(bank!$A:$A,AI$9&$A88,bank!$N:$N)","v":0},"*","k",0.1489,"lelkészlakás víz- és csatornadíja"]
["k080",80,null,"Egyéb lakás",null,null,null,null,null,null,null,null,null,null,null,null,null,null,null,0,{"$f":"SUMIF('Terv-segédlet'!$B:$B,$A89,'Terv-segédlet'!E:E)","v":0},{"$f":"SUMIF('Terv-segédlet'!$B:$B,$A89,'Terv-segédlet'!F:F)","v":0},{"$f":"SUMIF('Terv-segédlet'!$B:$B,$A89,'Terv-segédlet'!G:G)","v":0},{"$f":"SUMIF('Terv-segédlet'!$B:$B,$A89,'Terv-segédlet'!H:H)","v":0},{"$f":"SUMIF('Terv-segédlet'!$B:$B,$A89,'Terv-segédlet'!I:I)","v":0},{"$f":"SUMIF('Terv-segédlet'!$B:$B,$A89,'Terv-segédlet'!J:J)","v":0},{"$f":"SUMIF('Terv-segédlet'!$B:$B,$A89,'Terv-segédlet'!K:K)","v":0},0,{"$f":"SUMIF(V!$A:$A,$A89,V!$L:$L)+SUMIF(bank!$A:$A,AC$9&$A89,bank!$N:$N)","v":0},{"$f":"SUMIF(Gy!$A:$A,$A89,Gy!$L:$L)+SUMIF(bank!$A:$A,AD$9&$A89,bank!$N:$N)","v":0},{"$f":"SUMIF(K!$A:$A,$A89,K!$L:$L)+SUMIF(bank!$A:$A,AE$9&$A89,bank!$N:$N)","v":0},{"$f":"SUMIF(Mk!$A:$A,$A89,Mk!$L:$L)+SUMIF(bank!$A:$A,AF$9&$A89,bank!$N:$N)","v":0},{"$f":"SUMIF(M!$A:$A,$A89,M!$L:$L)+SUMIF(bank!$A:$A,AG$9&$A89,bank!$N:$N)","v":0},{"$f":"SUMIF(P!$A:$A,$A89,P!$L:$L)+SUMIF(bank!$A:$A,AH$9&$A89,bank!$N:$N)","v":0},{"$f":"SUMIF(Zs!$A:$A,$A89,Zs!$L:$L)+SUMIF(bank!$A:$A,AI$9&$A89,bank!$N:$N)","v":0},"*","k","","egyéb lakóingatlan víz- és csatornadíja"]
["k081",81,null,"Más gyülekezeti helyiség",null,null,null,null,null,null,null,null,null,null,null,null,null,null,null,23000,{"$f":"SUMIF('Terv-segédlet'!$B:$B,$A90,'Terv-segédlet'!E:E)","v":0},{"$f":"SUMIF('Terv-segédlet'!$B:$B,$A90,'Terv-segédlet'!F:F)","v":0},{"$f":"SUMIF('Terv-segédlet'!$B:$B,$A90,'Terv-segédlet'!G:G)","v":1000},{"$f":"SUMIF('Terv-segédlet'!$B:$B,$A90,'Terv-segédlet'!H:H)","v":20000},{"$f":"SUMIF('Terv-segédlet'!$B:$B,$A90,'Terv-segédlet'!I:I)","v":2000},{"$f":"SUMIF('Terv-segédlet'!$B:$B,$A90,'Terv-segédlet'!J:J)","v":0},{"$f":"SUMIF('Terv-segédlet'!$B:$B,$A90,'Terv-segédlet'!K:K)","v":0},0,{"$f":"SUMIF(V!$A:$A,$A90,V!$L:$L)+SUMIF(bank!$A:$A,AC$9&$A90,bank!$N:$N)","v":0},{"$f":"SUMIF(Gy!$A:$A,$A90,Gy!$L:$L)+SUMIF(bank!$A:$A,AD$9&$A90,bank!$N:$N)","v":0},{"$f":"SUMIF(K!$A:$A,$A90,K!$L:$L)+SUMIF(bank!$A:$A,AE$9&$A90,bank!$N:$N)","v":0},{"$f":"SUMIF(Mk!$A:$A,$A90,Mk!$L:$L)+SUMIF(bank!$A:$A,AF$9&$A90,bank!$N:$N)","v":0},{"$f":"SUMIF(M!$A:$A,$A90,M!$L:$L)+SUMIF(bank!$A:$A,AG$9&$A90,bank!$N:$N)","v":0},{"$f":"SUMIF(P!$A:$A,$A90,P!$L:$L)+SUMIF(bank!$A:$A,AH$9&$A90,bank!$N:$N)","v":0},{"$f":"SUMIF(Zs!$A:$A,$A90,Zs!$L:$L)+SUMIF(bank!$A:$A,AI$9&$A90,bank!$N:$N)","v":0},"*","k",0,"egyéb gyülekezeti ingatlan víz- és csatornadíja (tepmlom, gyülkezeti terem, üzlethelység, stb.)"]
["k082",82,null,"-Munkaruha költsége",null,null,null,null,null,null,null,null,null,null,null,null,null,null,null,0,{"$f":"SUMIF('Terv-segédlet'!$B:$B,$A91,'Terv-segédlet'!E:E)","v":0},{"$f":"SUMIF('Terv-segédlet'!$B:$B,$A91,'Terv-segédlet'!F:F)","v":0},{"$f":"SUMIF('Terv-segédlet'!$B:$B,$A91,'Terv-segédlet'!G:G)","v":0},{"$f":"SUMIF('Terv-segédlet'!$B:$B,$A91,'Terv-segédlet'!H:H)","v":0},{"$f":"SUMIF('Terv-segédlet'!$B:$B,$A91,'Terv-segédlet'!I:I)","v":0},{"$f":"SUMIF('Terv-segédlet'!$B:$B,$A91,'Terv-segédlet'!J:J)","v":0},{"$f":"SUMIF('Terv-segédlet'!$B:$B,$A91,'Terv-segédlet'!K:K)","v":0},0,{"$f":"SUMIF(V!$A:$A,$A91,V!$L:$L)+SUMIF(bank!$A:$A,AC$9&$A91,bank!$N:$N)","v":0},{"$f":"SUMIF(Gy!$A:$A,$A91,Gy!$L:$L)+SUMIF(bank!$A:$A,AD$9&$A91,bank!$N:$N)","v":0},{"$f":"SUMIF(K!$A:$A,$A91,K!$L:$L)+SUMIF(bank!$A:$A,AE$9&$A91,bank!$N:$N)","v":0},{"$f":"SUMIF(Mk!$A:$A,$A91,Mk!$L:$L)+SUMIF(bank!$A:$A,AF$9&$A91,bank!$N:$N)","v":0},{"$f":"SUMIF(M!$A:$A,$A91,M!$L:$L)+SUMIF(bank!$A:$A,AG$9&$A91,bank!$N:$N)","v":0},{"$f":"SUMIF(P!$A:$A,$A91,P!$L:$L)+SUMIF(bank!$A:$A,AH$9&$A91,bank!$N:$N)","v":0},{"$f":"SUMIF(Zs!$A:$A,$A91,Zs!$L:$L)+SUMIF(bank!$A:$A,AI$9&$A91,bank!$N:$N)","v":0},"*","k","","pl. Lutherkabát, baret, egyéb alkalmazottnak biztosított munkaruha"]
["k083",83,null,"-Egy éven belül elhasználódó eszközök, szerszámok költsége",null,null,null,null,null,null,null,null,null,null,null,null,null,null,null,0,{"$f":"SUMIF('Terv-segédlet'!$B:$B,$A92,'Terv-segédlet'!E:E)","v":0},{"$f":"SUMIF('Terv-segédlet'!$B:$B,$A92,'Terv-segédlet'!F:F)","v":0},{"$f":"SUMIF('Terv-segédlet'!$B:$B,$A92,'Terv-segédlet'!G:G)","v":0},{"$f":"SUMIF('Terv-segédlet'!$B:$B,$A92,'Terv-segédlet'!H:H)","v":0},{"$f":"SUMIF('Terv-segédlet'!$B:$B,$A92,'Terv-segédlet'!I:I)","v":0},{"$f":"SUMIF('Terv-segédlet'!$B:$B,$A92,'Terv-segédlet'!J:J)","v":0},{"$f":"SUMIF('Terv-segédlet'!$B:$B,$A92,'Terv-segédlet'!K:K)","v":0},0,{"$f":"SUMIF(V!$A:$A,$A92,V!$L:$L)+SUMIF(bank!$A:$A,AC$9&$A92,bank!$N:$N)","v":0},{"$f":"SUMIF(Gy!$A:$A,$A92,Gy!$L:$L)+SUMIF(bank!$A:$A,AD$9&$A92,bank!$N:$N)","v":0},{"$f":"SUMIF(K!$A:$A,$A92,K!$L:$L)+SUMIF(bank!$A:$A,AE$9&$A92,bank!$N:$N)","v":0},{"$f":"SUMIF(Mk!$A:$A,$A92,Mk!$L:$L)+SUMIF(bank!$A:$A,AF$9&$A92,bank!$N:$N)","v":0},{"$f":"SUMIF(M!$A:$A,$A92,M!$L:$L)+SUMIF(bank!$A:$A,AG$9&$A92,bank!$N:$N)","v":0},{"$f":"SUMIF(P!$A:$A,$A92,P!$L:$L)+SUMIF(bank!$A:$A,AH$9&$A92,bank!$N:$N)","v":0},{"$f":"SUMIF(Zs!$A:$A,$A92,Zs!$L:$L)+SUMIF(bank!$A:$A,AI$9&$A92,bank!$N:$N)","v":0},"*","k","","kéziszerszámok (kalapács, csavarhúzó), konyhai eszközök (tányér, pohár, evőeszköz),  stb."]
["k084",84,null,"- Irodaszerek, nyomtatványok költsége",null,null,null,null,null,null,null,null,null,null,null,null,null,null,null,50000,{"$f":"SUMIF('Terv-segédlet'!$B:$B,$A93,'Terv-segédlet'!E:E)","v":50000},{"$f":"SUMIF('Terv-segédlet'!$B:$B,$A93,'Terv-segédlet'!F:F)","v":0},{"$f":"SUMIF('Terv-segédlet'!$B:$B,$A93,'Terv-segédlet'!G:G)","v":0},{"$f":"SUMIF('Terv-segédlet'!$B:$B,$A93,'Terv-segédlet'!H:H)","v":0},{"$f":"SUMIF('Terv-segédlet'!$B:$B,$A93,'Terv-segédlet'!I:I)","v":0},{"$f":"SUMIF('Terv-segédlet'!$B:$B,$A93,'Terv-segédlet'!J:J)","v":0},{"$f":"SUMIF('Terv-segédlet'!$B:$B,$A93,'Terv-segédlet'!K:K)","v":0},0,{"$f":"SUMIF(V!$A:$A,$A93,V!$L:$L)+SUMIF(bank!$A:$A,AC$9&$A93,bank!$N:$N)","v":0},{"$f":"SUMIF(Gy!$A:$A,$A93,Gy!$L:$L)+SUMIF(bank!$A:$A,AD$9&$A93,bank!$N:$N)","v":0},{"$f":"SUMIF(K!$A:$A,$A93,K!$L:$L)+SUMIF(bank!$A:$A,AE$9&$A93,bank!$N:$N)","v":0},{"$f":"SUMIF(Mk!$A:$A,$A93,Mk!$L:$L)+SUMIF(bank!$A:$A,AF$9&$A93,bank!$N:$N)","v":0},{"$f":"SUMIF(M!$A:$A,$A93,M!$L:$L)+SUMIF(bank!$A:$A,AG$9&$A93,bank!$N:$N)","v":0},{"$f":"SUMIF(P!$A:$A,$A93,P!$L:$L)+SUMIF(bank!$A:$A,AH$9&$A93,bank!$N:$N)","v":0},{"$f":"SUMIF(Zs!$A:$A,$A93,Zs!$L:$L)+SUMIF(bank!$A:$A,AI$9&$A93,bank!$N:$N)","v":0},"*","k",0,"fénymásoló papír, toll, pénztárkönyv, számlatömb, kiküldetési rendelvény, stb."]
["k085",85,null,"-Fenntartási, karbantartási anyagok költésége (86..90)",null,null,null,null,null,null,null,null,null,null,null,null,null,null,null,{"$f":"SUM(T95:T99)","v":50000},{"$f":"SUM(U95:U99)","v":50000},{"$f":"SUM(V95:V99)","v":0},{"$f":"SUM(W95:W99)","v":0},{"$f":"SUM(X95:X99)","v":0},{"$f":"SUM(Y95:Y99)","v":0},{"$f":"SUM(Z95:Z99)","v":0},{"$f":"SUM(AA95:AA99)","v":0},{"$f":"SUM(AB95:AB99)","v":0},{"$f":"SUM(AC95:AC99)","v":0},{"$f":"SUM(AD95:AD99)","v":0},0,0,0,0,0,null,"k",0]
["k086",86,null,"Lelkészlakás",null,null,null,null,null,null,null,null,null,null,null,null,null,null,null,{"$f":"SUM(U95:AA95)","v":50000},{"$f":"SUMIF('Terv-segédlet'!$B:$B,$A95,'Terv-segédlet'!E:E)","v":50000},{"$f":"SUMIF('Terv-segédlet'!$B:$B,$A95,'Terv-segédlet'!F:F)","v":0},{"$f":"SUMIF('Terv-segédlet'!$B:$B,$A95,'Terv-segédlet'!G:G)","v":0},{"$f":"SUMIF('Terv-segédlet'!$B:$B,$A95,'Terv-segédlet'!H:H)","v":0},{"$f":"SUMIF('Terv-segédlet'!$B:$B,$A95,'Terv-segédlet'!I:I)","v":0},{"$f":"SUMIF('Terv-segédlet'!$B:$B,$A95,'Terv-segédlet'!J:J)","v":0},{"$f":"SUMIF('Terv-segédlet'!$B:$B,$A95,'Terv-segédlet'!K:K)","v":0},{"$f":"SUM(AC95:AI95)","v":0},{"$f":"SUMIF(V!$A:$A,$A95,V!$L:$L)+SUMIF(bank!$A:$A,AC$9&$A95,bank!$N:$N)","v":0},{"$f":"SUMIF(Gy!$A:$A,$A95,Gy!$L:$L)+SUMIF(bank!$A:$A,AD$9&$A95,bank!$N:$N)","v":0},{"$f":"SUMIF(K!$A:$A,$A95,K!$L:$L)+SUMIF(bank!$A:$A,AE$9&$A95,bank!$N:$N)","v":0},{"$f":"SUMIF(Mk!$A:$A,$A95,Mk!$L:$L)+SUMIF(bank!$A:$A,AF$9&$A95,bank!$N:$N)","v":0},{"$f":"SUMIF(M!$A:$A,$A95,M!$L:$L)+SUMIF(bank!$A:$A,AG$9&$A95,bank!$N:$N)","v":0},{"$f":"SUMIF(P!$A:$A,$A95,P!$L:$L)+SUMIF(bank!$A:$A,AH$9&$A95,bank!$N:$N)","v":0},{"$f":"SUMIF(Zs!$A:$A,$A95,Zs!$L:$L)+SUMIF(bank!$A:$A,AI$9&$A95,bank!$N:$N)","v":0},"*","k",0,"lelkészlakás - karbantartási munkához vásárolt anyag (szolgáltatás nélkül) (festék, csaptelep, stb.)"]
["k087",87,null,"Egyéb lakás",null,null,null,null,null,null,null,null,null,null,null,null,null,null,null,0,{"$f":"SUMIF('Terv-segédlet'!$B:$B,$A96,'Terv-segédlet'!E:E)","v":0},{"$f":"SUMIF('Terv-segédlet'!$B:$B,$A96,'Terv-segédlet'!F:F)","v":0},{"$f":"SUMIF('Terv-segédlet'!$B:$B,$A96,'Terv-segédlet'!G:G)","v":0},{"$f":"SUMIF('Terv-segédlet'!$B:$B,$A96,'Terv-segédlet'!H:H)","v":0},{"$f":"SUMIF('Terv-segédlet'!$B:$B,$A96,'Terv-segédlet'!I:I)","v":0},{"$f":"SUMIF('Terv-segédlet'!$B:$B,$A96,'Terv-segédlet'!J:J)","v":0},{"$f":"SUMIF('Terv-segédlet'!$B:$B,$A96,'Terv-segédlet'!K:K)","v":0},0,{"$f":"SUMIF(V!$A:$A,$A96,V!$L:$L)+SUMIF(bank!$A:$A,AC$9&$A96,bank!$N:$N)","v":0},{"$f":"SUMIF(Gy!$A:$A,$A96,Gy!$L:$L)+SUMIF(bank!$A:$A,AD$9&$A96,bank!$N:$N)","v":0},{"$f":"SUMIF(K!$A:$A,$A96,K!$L:$L)+SUMIF(bank!$A:$A,AE$9&$A96,bank!$N:$N)","v":0},{"$f":"SUMIF(Mk!$A:$A,$A96,Mk!$L:$L)+SUMIF(bank!$A:$A,AF$9&$A96,bank!$N:$N)","v":0},{"$f":"SUMIF(M!$A:$A,$A96,M!$L:$L)+SUMIF(bank!$A:$A,AG$9&$A96,bank!$N:$N)","v":0},{"$f":"SUMIF(P!$A:$A,$A96,P!$L:$L)+SUMIF(bank!$A:$A,AH$9&$A96,bank!$N:$N)","v":0},{"$f":"SUMIF(Zs!$A:$A,$A96,Zs!$L:$L)+SUMIF(bank!$A:$A,AI$9&$A96,bank!$N:$N)","v":0},"*","k","","egyéb lakóingatlan - karbantartási munkához vásárolt anyag (szolgáltatás nélkül)"]
["k088",88,null,"Más gyülekezeti helyiség",null,null,null,null,null,null,null,null,null,null,null,null,null,null,null,0,{"$f":"SUMIF('Terv-segédlet'!$B:$B,$A97,'Terv-segédlet'!E:E)","v":0},{"$f":"SUMIF('Terv-segédlet'!$B:$B,$A97,'Terv-segédlet'!F:F)","v":0},{"$f":"SUMIF('Terv-segédlet'!$B:$B,$A97,'Terv-segédlet'!G:G)","v":0},{"$f":"SUMIF('Terv-segédlet'!$B:$B,$A97,'Terv-segédlet'!H:H)","v":0},{"$f":"SUMIF('Terv-segédlet'!$B:$B,$A97,'Terv-segédlet'!I:I)","v":0},{"$f":"SUMIF('Terv-segédlet'!$B:$B,$A97,'Terv-segédlet'!J:J)","v":0},{"$f":"SUMIF('Terv-segédlet'!$B:$B,$A97,'Terv-segédlet'!K:K)","v":0},0,{"$f":"SUMIF(V!$A:$A,$A97,V!$L:$L)+SUMIF(bank!$A:$A,AC$9&$A97,bank!$N:$N)","v":0},{"$f":"SUMIF(Gy!$A:$A,$A97,Gy!$L:$L)+SUMIF(bank!$A:$A,AD$9&$A97,bank!$N:$N)","v":0},{"$f":"SUMIF(K!$A:$A,$A97,K!$L:$L)+SUMIF(bank!$A:$A,AE$9&$A97,bank!$N:$N)","v":0},{"$f":"SUMIF(Mk!$A:$A,$A97,Mk!$L:$L)+SUMIF(bank!$A:$A,AF$9&$A97,bank!$N:$N)","v":0},{"$f":"SUMIF(M!$A:$A,$A97,M!$L:$L)+SUMIF(bank!$A:$A,AG$9&$A97,bank!$N:$N)","v":0},{"$f":"SUMIF(P!$A:$A,$A97,P!$L:$L)+SUMIF(bank!$A:$A,AH$9&$A97,bank!$N:$N)","v":0},{"$f":"SUMIF(Zs!$A:$A,$A97,Zs!$L:$L)+SUMIF(bank!$A:$A,AI$9&$A97,bank!$N:$N)","v":0},"*","k","","egyéb gyülekezeti ingatlan (templom, gyülekezeti terem, üzlethelység, stb.) - karbantartási munkához vásárolt anyag (szolgáltatás nélkül)"]
["k089",89,null,"Gépjárművek",null,null,null,null,null,null,null,null,null,null,null,null,null,null,null,0,{"$f":"SUMIF('Terv-segédlet'!$B:$B,$A98,'Terv-segédlet'!E:E)","v":0},{"$f":"SUMIF('Terv-segédlet'!$B:$B,$A98,'Terv-segédlet'!F:F)","v":0},{"$f":"SUMIF('Terv-segédlet'!$B:$B,$A98,'Terv-segédlet'!G:G)","v":0},{"$f":"SUMIF('Terv-segédlet'!$B:$B,$A98,'Terv-segédlet'!H:H)","v":0},{"$f":"SUMIF('Terv-segédlet'!$B:$B,$A98,'Terv-segédlet'!I:I)","v":0},{"$f":"SUMIF('Terv-segédlet'!$B:$B,$A98,'Terv-segédlet'!J:J)","v":0},{"$f":"SUMIF('Terv-segédlet'!$B:$B,$A98,'Terv-segédlet'!K:K)","v":0},0,{"$f":"SUMIF(V!$A:$A,$A98,V!$L:$L)+SUMIF(bank!$A:$A,AC$9&$A98,bank!$N:$N)","v":0},{"$f":"SUMIF(Gy!$A:$A,$A98,Gy!$L:$L)+SUMIF(bank!$A:$A,AD$9&$A98,bank!$N:$N)","v":0},{"$f":"SUMIF(K!$A:$A,$A98,K!$L:$L)+SUMIF(bank!$A:$A,AE$9&$A98,bank!$N:$N)","v":0},{"$f":"SUMIF(Mk!$A:$A,$A98,Mk!$L:$L)+SUMIF(bank!$A:$A,AF$9&$A98,bank!$N:$N)","v":0},{"$f":"SUMIF(M!$A:$A,$A98,M!$L:$L)+SUMIF(bank!$A:$A,AG$9&$A98,bank!$N:$N)","v":0},{"$f":"SUMIF(P!$A:$A,$A98,P!$L:$L)+SUMIF(bank!$A:$A,AH$9&$A98,bank!$N:$N)","v":0},{"$f":"SUMIF(Zs!$A:$A,$A98,Zs!$L:$L)+SUMIF(bank!$A:$A,AI$9&$A98,bank!$N:$N)","v":0},"*","k","","gépjármű - karbantartási munkához vásárolt anyag (szolgáltatás nélkül) (olaj, izzó, stb.)"]
["k090",90,null,"Egyéb",null,null,null,null,null,null,null,null,null,null,null,null,null,null,null,0,{"$f":"SUMIF('Terv-segédlet'!$B:$B,$A99,'Terv-segédlet'!E:E)","v":0},{"$f":"SUMIF('Terv-segédlet'!$B:$B,$A99,'Terv-segédlet'!F:F)","v":0},{"$f":"SUMIF('Terv-segédlet'!$B:$B,$A99,'Terv-segédlet'!G:G)","v":0},{"$f":"SUMIF('Terv-segédlet'!$B:$B,$A99,'Terv-segédlet'!H:H)","v":0},{"$f":"SUMIF('Terv-segédlet'!$B:$B,$A99,'Terv-segédlet'!I:I)","v":0},{"$f":"SUMIF('Terv-segédlet'!$B:$B,$A99,'Terv-segédlet'!J:J)","v":0},{"$f":"SUMIF('Terv-segédlet'!$B:$B,$A99,'Terv-segédlet'!K:K)","v":0},0,{"$f":"SUMIF(V!$A:$A,$A99,V!$L:$L)+SUMIF(bank!$A:$A,AC$9&$A99,bank!$N:$N)","v":0},{"$f":"SUMIF(Gy!$A:$A,$A99,Gy!$L:$L)+SUMIF(bank!$A:$A,AD$9&$A99,bank!$N:$N)","v":0},{"$f":"SUMIF(K!$A:$A,$A99,K!$L:$L)+SUMIF(bank!$A:$A,AE$9&$A99,bank!$N:$N)","v":0},{"$f":"SUMIF(Mk!$A:$A,$A99,Mk!$L:$L)+SUMIF(bank!$A:$A,AF$9&$A99,bank!$N:$N)","v":0},{"$f":"SUMIF(M!$A:$A,$A99,M!$L:$L)+SUMIF(bank!$A:$A,AG$9&$A99,bank!$N:$N)","v":0},{"$f":"SUMIF(P!$A:$A,$A99,P!$L:$L)+SUMIF(bank!$A:$A,AH$9&$A99,bank!$N:$N)","v":0},{"$f":"SUMIF(Zs!$A:$A,$A99,Zs!$L:$L)+SUMIF(bank!$A:$A,AI$9&$A99,bank!$N:$N)","v":0},"*","k","","egyéb eszközök, berendezések, felszerelések - karbantartási munkához vásárolt anyag (szolgáltatás nélkül)"]
["k091",91,null,"-Üzemanyag költség (92..93)",null,null,null,null,null,null,null,null,null,null,null,null,null,null,null,{"$f":"SUM(T101:T102)","v":268800},{"$f":"SUM(U101:U102)","v":268800},{"$f":"SUM(V101:V102)","v":0},{"$f":"SUM(W101:W102)","v":0},{"$f":"SUM(X101:X102)","v":0},{"$f":"SUM(Y101:Y102)","v":0},{"$f":"SUM(Z101:Z102)","v":0},{"$f":"SUM(AA101:AA102)","v":0},{"$f":"SUM(AB101:AB102)","v":0},{"$f":"SUM(AC101:AC102)","v":0},{"$f":"SUM(AD101:AD102)","v":0},0,0,0,0,0,null,"k",0]
["k092",92,null,"Lelkészi szolgálati gépjármű",null,"Villamos energia szolgáltatás díja",null,null,null,null,null,null,null,null,null,null,null,null,null,{"$f":"SUM(U101:AA101)","v":268800},{"$f":"SUMIF('Terv-segédlet'!$B:$B,$A101,'Terv-segédlet'!E:E)","v":268800},{"$f":"SUMIF('Terv-segédlet'!$B:$B,$A101,'Terv-segédlet'!F:F)","v":0},{"$f":"SUMIF('Terv-segédlet'!$B:$B,$A101,'Terv-segédlet'!G:G)","v":0},{"$f":"SUMIF('Terv-segédlet'!$B:$B,$A101,'Terv-segédlet'!H:H)","v":0},{"$f":"SUMIF('Terv-segédlet'!$B:$B,$A101,'Terv-segédlet'!I:I)","v":0},{"$f":"SUMIF('Terv-segédlet'!$B:$B,$A101,'Terv-segédlet'!J:J)","v":0},{"$f":"SUMIF('Terv-segédlet'!$B:$B,$A101,'Terv-segédlet'!K:K)","v":0},{"$f":"SUM(AC101:AI101)","v":0},{"$f":"SUMIF(V!$A:$A,$A101,V!$L:$L)+SUMIF(bank!$A:$A,AC$9&$A101,bank!$N:$N)","v":0},{"$f":"SUMIF(Gy!$A:$A,$A101,Gy!$L:$L)+SUMIF(bank!$A:$A,AD$9&$A101,bank!$N:$N)","v":0},{"$f":"SUMIF(K!$A:$A,$A101,K!$L:$L)+SUMIF(bank!$A:$A,AE$9&$A101,bank!$N:$N)","v":0},{"$f":"SUMIF(Mk!$A:$A,$A101,Mk!$L:$L)+SUMIF(bank!$A:$A,AF$9&$A101,bank!$N:$N)","v":0},{"$f":"SUMIF(M!$A:$A,$A101,M!$L:$L)+SUMIF(bank!$A:$A,AG$9&$A101,bank!$N:$N)","v":0},{"$f":"SUMIF(P!$A:$A,$A101,P!$L:$L)+SUMIF(bank!$A:$A,AH$9&$A101,bank!$N:$N)","v":0},{"$f":"SUMIF(Zs!$A:$A,$A101,Zs!$L:$L)+SUMIF(bank!$A:$A,AI$9&$A101,bank!$N:$N)","v":0},"*","k",0,"lelkész által használt egyházközségi tulajdonú, vagy egyházközség által üzembentartott gépkocsi üzemanyagköltsége, a gyülekezet nevére szóló számla alapján"]
["k093",93,null,"Nem lelkészi gépjármű",null,"Vízdíj",null,null,null,null,null,null,null,null,null,null,null,null,null,0,{"$f":"SUMIF('Terv-segédlet'!$B:$B,$A102,'Terv-segédlet'!E:E)","v":0},{"$f":"SUMIF('Terv-segédlet'!$B:$B,$A102,'Terv-segédlet'!F:F)","v":0},{"$f":"SUMIF('Terv-segédlet'!$B:$B,$A102,'Terv-segédlet'!G:G)","v":0},{"$f":"SUMIF('Terv-segédlet'!$B:$B,$A102,'Terv-segédlet'!H:H)","v":0},{"$f":"SUMIF('Terv-segédlet'!$B:$B,$A102,'Terv-segédlet'!I:I)","v":0},{"$f":"SUMIF('Terv-segédlet'!$B:$B,$A102,'Terv-segédlet'!J:J)","v":0},{"$f":"SUMIF('Terv-segédlet'!$B:$B,$A102,'Terv-segédlet'!K:K)","v":0},0,{"$f":"SUMIF(V!$A:$A,$A102,V!$L:$L)+SUMIF(bank!$A:$A,AC$9&$A102,bank!$N:$N)","v":0},{"$f":"SUMIF(Gy!$A:$A,$A102,Gy!$L:$L)+SUMIF(bank!$A:$A,AD$9&$A102,bank!$N:$N)","v":0},{"$f":"SUMIF(K!$A:$A,$A102,K!$L:$L)+SUMIF(bank!$A:$A,AE$9&$A102,bank!$N:$N)","v":0},{"$f":"SUMIF(Mk!$A:$A,$A102,Mk!$L:$L)+SUMIF(bank!$A:$A,AF$9&$A102,bank!$N:$N)","v":0},{"$f":"SUMIF(M!$A:$A,$A102,M!$L:$L)+SUMIF(bank!$A:$A,AG$9&$A102,bank!$N:$N)","v":0},{"$f":"SUMIF(P!$A:$A,$A102,P!$L:$L)+SUMIF(bank!$A:$A,AH$9&$A102,bank!$N:$N)","v":0},{"$f":"SUMIF(Zs!$A:$A,$A102,Zs!$L:$L)+SUMIF(bank!$A:$A,AI$9&$A102,bank!$N:$N)","v":0},"*","k","","nem lelkész által használt egyházközségi tulajdonú, vagy egyházközség által üzembentartott gépkocsi üzemanyagköltsége, a gyülekezet nevére szóló számla alapján"]
["k094",94,null,"-Könyvtári könyvek, szakkönyvek",null,"Rezsianyag költség",null,null,null,null,null,null,null,null,null,null,null,null,null,5000,{"$f":"SUMIF('Terv-segédlet'!$B:$B,$A103,'Terv-segédlet'!E:E)","v":5000},{"$f":"SUMIF('Terv-segédlet'!$B:$B,$A103,'Terv-segédlet'!F:F)","v":0},{"$f":"SUMIF('Terv-segédlet'!$B:$B,$A103,'Terv-segédlet'!G:G)","v":0},{"$f":"SUMIF('Terv-segédlet'!$B:$B,$A103,'Terv-segédlet'!H:H)","v":0},{"$f":"SUMIF('Terv-segédlet'!$B:$B,$A103,'Terv-segédlet'!I:I)","v":0},{"$f":"SUMIF('Terv-segédlet'!$B:$B,$A103,'Terv-segédlet'!J:J)","v":0},{"$f":"SUMIF('Terv-segédlet'!$B:$B,$A103,'Terv-segédlet'!K:K)","v":0},0,{"$f":"SUMIF(V!$A:$A,$A103,V!$L:$L)+SUMIF(bank!$A:$A,AC$9&$A103,bank!$N:$N)","v":0},{"$f":"SUMIF(Gy!$A:$A,$A103,Gy!$L:$L)+SUMIF(bank!$A:$A,AD$9&$A103,bank!$N:$N)","v":0},{"$f":"SUMIF(K!$A:$A,$A103,K!$L:$L)+SUMIF(bank!$A:$A,AE$9&$A103,bank!$N:$N)","v":0},{"$f":"SUMIF(Mk!$A:$A,$A103,Mk!$L:$L)+SUMIF(bank!$A:$A,AF$9&$A103,bank!$N:$N)","v":0},{"$f":"SUMIF(M!$A:$A,$A103,M!$L:$L)+SUMIF(bank!$A:$A,AG$9&$A103,bank!$N:$N)","v":0},{"$f":"SUMIF(P!$A:$A,$A103,P!$L:$L)+SUMIF(bank!$A:$A,AH$9&$A103,bank!$N:$N)","v":0},{"$f":"SUMIF(Zs!$A:$A,$A103,Zs!$L:$L)+SUMIF(bank!$A:$A,AI$9&$A103,bank!$N:$N)","v":0},"*","k",0,"egyházközségi könyvtár számára vásárolt kiadványok"]
["k095",95,null,"-Takarító- és tisztítószerek költsége",null,"Munkaruha, védőruha költség",null,null,null,null,null,null,null,null,null,null,null,null,null,5000,{"$f":"SUMIF('Terv-segédlet'!$B:$B,$A104,'Terv-segédlet'!E:E)","v":5000},{"$f":"SUMIF('Terv-segédlet'!$B:$B,$A104,'Terv-segédlet'!F:F)","v":0},{"$f":"SUMIF('Terv-segédlet'!$B:$B,$A104,'Terv-segédlet'!G:G)","v":0},{"$f":"SUMIF('Terv-segédlet'!$B:$B,$A104,'Terv-segédlet'!H:H)","v":0},{"$f":"SUMIF('Terv-segédlet'!$B:$B,$A104,'Terv-segédlet'!I:I)","v":0},{"$f":"SUMIF('Terv-segédlet'!$B:$B,$A104,'Terv-segédlet'!J:J)","v":0},{"$f":"SUMIF('Terv-segédlet'!$B:$B,$A104,'Terv-segédlet'!K:K)","v":0},0,{"$f":"SUMIF(V!$A:$A,$A104,V!$L:$L)+SUMIF(bank!$A:$A,AC$9&$A104,bank!$N:$N)","v":0},{"$f":"SUMIF(Gy!$A:$A,$A104,Gy!$L:$L)+SUMIF(bank!$A:$A,AD$9&$A104,bank!$N:$N)","v":0},{"$f":"SUMIF(K!$A:$A,$A104,K!$L:$L)+SUMIF(bank!$A:$A,AE$9&$A104,bank!$N:$N)","v":0},{"$f":"SUMIF(Mk!$A:$A,$A104,Mk!$L:$L)+SUMIF(bank!$A:$A,AF$9&$A104,bank!$N:$N)","v":0},{"$f":"SUMIF(M!$A:$A,$A104,M!$L:$L)+SUMIF(bank!$A:$A,AG$9&$A104,bank!$N:$N)","v":0},{"$f":"SUMIF(P!$A:$A,$A104,P!$L:$L)+SUMIF(bank!$A:$A,AH$9&$A104,bank!$N:$N)","v":0},{"$f":"SUMIF(Zs!$A:$A,$A104,Zs!$L:$L)+SUMIF(bank!$A:$A,AI$9&$A104,bank!$N:$N)","v":0},"*","k",0,"tisztítószerek, fertőtlenítő anyatok, takarító szerszámok"]
["k096",96,null,"-Egyéb anyagok költsége",null,"Egy éven belül elhasználódó eszközök, szerszámok, műszerek költsége",null,null,null,null,null,null,null,null,null,null,null,null,null,0,{"$f":"SUMIF('Terv-segédlet'!$B:$B,$A105,'Terv-segédlet'!E:E)","v":0},{"$f":"SUMIF('Terv-segédlet'!$B:$B,$A105,'Terv-segédlet'!F:F)","v":0},{"$f":"SUMIF('Terv-segédlet'!$B:$B,$A105,'Terv-segédlet'!G:G)","v":0},{"$f":"SUMIF('Terv-segédlet'!$B:$B,$A105,'Terv-segédlet'!H:H)","v":0},{"$f":"SUMIF('Terv-segédlet'!$B:$B,$A105,'Terv-segédlet'!I:I)","v":0},{"$f":"SUMIF('Terv-segédlet'!$B:$B,$A105,'Terv-segédlet'!J:J)","v":0},{"$f":"SUMIF('Terv-segédlet'!$B:$B,$A105,'Terv-segédlet'!K:K)","v":0},0,{"$f":"SUMIF(V!$A:$A,$A105,V!$L:$L)+SUMIF(bank!$A:$A,AC$9&$A105,bank!$N:$N)","v":0},{"$f":"SUMIF(Gy!$A:$A,$A105,Gy!$L:$L)+SUMIF(bank!$A:$A,AD$9&$A105,bank!$N:$N)","v":0},{"$f":"SUMIF(K!$A:$A,$A105,K!$L:$L)+SUMIF(bank!$A:$A,AE$9&$A105,bank!$N:$N)","v":0},{"$f":"SUMIF(Mk!$A:$A,$A105,Mk!$L:$L)+SUMIF(bank!$A:$A,AF$9&$A105,bank!$N:$N)","v":0},{"$f":"SUMIF(M!$A:$A,$A105,M!$L:$L)+SUMIF(bank!$A:$A,AG$9&$A105,bank!$N:$N)","v":0},{"$f":"SUMIF(P!$A:$A,$A105,P!$L:$L)+SUMIF(bank!$A:$A,AH$9&$A105,bank!$N:$N)","v":0},{"$f":"SUMIF(Zs!$A:$A,$A105,Zs!$L:$L)+SUMIF(bank!$A:$A,AI$9&$A105,bank!$N:$N)","v":0},"*","k","","78-99 sorokban fel nem sorolt, vásárolt anyagok (pl. oltárdíszítéshez virág, gyertya, festékkazetta nyomtatóba, stb.)"]
["k097",97,null,"b)  Igénybe vett szolgáltatások költsége (98..99+105+111..118)",null,"Nyomtatványok, irodaszerek költsége",null,null,null,null,null,null,null,null,null,null,null,null,null,{"$f":"SUM(T107:T108,T114,T120:T122,T123:T127)","v":6986040},{"$f":"SUM(U107:U108,U114,U120:U122,U123:U127)","v":1406040},{"$f":"SUM(V107:V108,V114,V120:V122,V123:V127)","v":0},{"$f":"SUM(W107:W108,W114,W120:W122,W123:W127)","v":0},{"$f":"SUM(X107:X108,X114,X120:X122,X123:X127)","v":5000000},{"$f":"SUM(Y107:Y108,Y114,Y120:Y122,Y123:Y127)","v":450000},{"$f":"SUM(Z107:Z108,Z114,Z120:Z122,Z123:Z127)","v":0},{"$f":"SUM(AA107:AA108,AA114,AA120:AA122,AA123:AA127)","v":130000},{"$f":"SUM(AB107:AB108,AB114,AB120:AB122,AB123:AB127)","v":82000},{"$f":"SUM(AC107:AC108,AC114,AC120:AC122,AC123:AC127)","v":0},{"$f":"SUM(AD107:AD108,AD114,AD120:AD122,AD123:AD127)","v":0},0,0,0,0,82000,null,"k",1.1737694029808017E-2]
["k098",98,null,"-Szállítási, raktározási költség",null,"Szakmai anyagok költsége",null,null,null,null,null,null,null,null,null,null,null,null,null,null,null,null,null,null,null,null,null,null,null,null,null,null,null,null,null,null,"k","","költöztetés, ajándékba kapott / adott eszközök szállítása, stb."]
["k099",99,null," -Bérleti díjak, lízingdíjak (100..104)",null,"Fenntartási, karbantartási anyagok költsége",null,null,null,null,null,null,null,null,null,null,null,null,null,{"$f":"SUM(T109:T113)","v":0},{"$f":"SUM(U109:U113)","v":0},{"$f":"SUM(V109:V113)","v":0},{"$f":"SUM(W109:W113)","v":0},{"$f":"SUM(X109:X113)","v":0},{"$f":"SUM(Y109:Y113)","v":0},{"$f":"SUM(Z109:Z113)","v":0},{"$f":"SUM(AA109:AA113)","v":0},{"$f":"SUM(AB109:AB113)","v":0},{"$f":"SUM(AC109:AC113)","v":0},{"$f":"SUM(AD109:AD113)","v":0},0,0,0,0,0,null,"k",""]
["k100",100,null,"Lelkészlakás",null,"Üzemanyagok költsége",null,null,null,null,null,null,null,null,null,null,null,null,null,{"$f":"SUM(U109:AA109)","v":0},{"$f":"SUMIF('Terv-segédlet'!$B:$B,$A109,'Terv-segédlet'!E:E)","v":0},{"$f":"SUMIF('Terv-segédlet'!$B:$B,$A109,'Terv-segédlet'!F:F)","v":0},{"$f":"SUMIF('Terv-segédlet'!$B:$B,$A109,'Terv-segédlet'!G:G)","v":0},{"$f":"SUMIF('Terv-segédlet'!$B:$B,$A109,'Terv-segédlet'!H:H)","v":0},{"$f":"SUMIF('Terv-segédlet'!$B:$B,$A109,'Terv-segédlet'!I:I)","v":0},{"$f":"SUMIF('Terv-segédlet'!$B:$B,$A109,'Terv-segédlet'!J:J)","v":0},{"$f":"SUMIF('Terv-segédlet'!$B:$B,$A109,'Terv-segédlet'!K:K)","v":0},{"$f":"SUM(AC109:AI109)","v":0},{"$f":"SUMIF(V!$A:$A,$A109,V!$L:$L)+SUMIF(bank!$A:$A,AC$9&$A109,bank!$N:$N)","v":0},{"$f":"SUMIF(Gy!$A:$A,$A109,Gy!$L:$L)+SUMIF(bank!$A:$A,AD$9&$A109,bank!$N:$N)","v":0},{"$f":"SUMIF(K!$A:$A,$A109,K!$L:$L)+SUMIF(bank!$A:$A,AE$9&$A109,bank!$N:$N)","v":0},{"$f":"SUMIF(Mk!$A:$A,$A109,Mk!$L:$L)+SUMIF(bank!$A:$A,AF$9&$A109,bank!$N:$N)","v":0},{"$f":"SUMIF(M!$A:$A,$A109,M!$L:$L)+SUMIF(bank!$A:$A,AG$9&$A109,bank!$N:$N)","v":0},{"$f":"SUMIF(P!$A:$A,$A109,P!$L:$L)+SUMIF(bank!$A:$A,AH$9&$A109,bank!$N:$N)","v":0},{"$f":"SUMIF(Zs!$A:$A,$A109,Zs!$L:$L)+SUMIF(bank!$A:$A,AI$9&$A109,bank!$N:$N)","v":0},"*","k","","lelkészlakás céljára bérelt ingatlan bérleti díja"]
["k101",101,null,"Egyéb lakás",null,null,null,null,null,null,null,null,null,null,null,null,null,null,null,0,{"$f":"SUMIF('Terv-segédlet'!$B:$B,$A110,'Terv-segédlet'!E:E)","v":0},{"$f":"SUMIF('Terv-segédlet'!$B:$B,$A110,'Terv-segédlet'!F:F)","v":0},{"$f":"SUMIF('Terv-segédlet'!$B:$B,$A110,'Terv-segédlet'!G:G)","v":0},{"$f":"SUMIF('Terv-segédlet'!$B:$B,$A110,'Terv-segédlet'!H:H)","v":0},{"$f":"SUMIF('Terv-segédlet'!$B:$B,$A110,'Terv-segédlet'!I:I)","v":0},{"$f":"SUMIF('Terv-segédlet'!$B:$B,$A110,'Terv-segédlet'!J:J)","v":0},{"$f":"SUMIF('Terv-segédlet'!$B:$B,$A110,'Terv-segédlet'!K:K)","v":0},0,{"$f":"SUMIF(V!$A:$A,$A110,V!$L:$L)+SUMIF(bank!$A:$A,AC$9&$A110,bank!$N:$N)","v":0},{"$f":"SUMIF(Gy!$A:$A,$A110,Gy!$L:$L)+SUMIF(bank!$A:$A,AD$9&$A110,bank!$N:$N)","v":0},{"$f":"SUMIF(K!$A:$A,$A110,K!$L:$L)+SUMIF(bank!$A:$A,AE$9&$A110,bank!$N:$N)","v":0},{"$f":"SUMIF(Mk!$A:$A,$A110,Mk!$L:$L)+SUMIF(bank!$A:$A,AF$9&$A110,bank!$N:$N)","v":0},{"$f":"SUMIF(M!$A:$A,$A110,M!$L:$L)+SUMIF(bank!$A:$A,AG$9&$A110,bank!$N:$N)","v":0},{"$f":"SUMIF(P!$A:$A,$A110,P!$L:$L)+SUMIF(bank!$A:$A,AH$9&$A110,bank!$N:$N)","v":0},{"$f":"SUMIF(Zs!$A:$A,$A110,Zs!$L:$L)+SUMIF(bank!$A:$A,AI$9&$A110,bank!$N:$N)","v":0},"*","k","","egyéb, lakás céljára bérelt ingatlan bérleti díja"]
["k102",102,null,"Más gyülekezeti helyiség",null,"Kenő-, hajtó- és tüzelőanyagok költsége",null,null,null,null,null,null,null,null,null,null,null,null,null,0,{"$f":"SUMIF('Terv-segédlet'!$B:$B,$A111,'Terv-segédlet'!E:E)","v":0},{"$f":"SUMIF('Terv-segédlet'!$B:$B,$A111,'Terv-segédlet'!F:F)","v":0},{"$f":"SUMIF('Terv-segédlet'!$B:$B,$A111,'Terv-segédlet'!G:G)","v":0},{"$f":"SUMIF('Terv-segédlet'!$B:$B,$A111,'Terv-segédlet'!H:H)","v":0},{"$f":"SUMIF('Terv-segédlet'!$B:$B,$A111,'Terv-segédlet'!I:I)","v":0},{"$f":"SUMIF('Terv-segédlet'!$B:$B,$A111,'Terv-segédlet'!J:J)","v":0},{"$f":"SUMIF('Terv-segédlet'!$B:$B,$A111,'Terv-segédlet'!K:K)","v":0},0,{"$f":"SUMIF(V!$A:$A,$A111,V!$L:$L)+SUMIF(bank!$A:$A,AC$9&$A111,bank!$N:$N)","v":0},{"$f":"SUMIF(Gy!$A:$A,$A111,Gy!$L:$L)+SUMIF(bank!$A:$A,AD$9&$A111,bank!$N:$N)","v":0},{"$f":"SUMIF(K!$A:$A,$A111,K!$L:$L)+SUMIF(bank!$A:$A,AE$9&$A111,bank!$N:$N)","v":0},{"$f":"SUMIF(Mk!$A:$A,$A111,Mk!$L:$L)+SUMIF(bank!$A:$A,AF$9&$A111,bank!$N:$N)","v":0},{"$f":"SUMIF(M!$A:$A,$A111,M!$L:$L)+SUMIF(bank!$A:$A,AG$9&$A111,bank!$N:$N)","v":0},{"$f":"SUMIF(P!$A:$A,$A111,P!$L:$L)+SUMIF(bank!$A:$A,AH$9&$A111,bank!$N:$N)","v":0},{"$f":"SUMIF(Zs!$A:$A,$A111,Zs!$L:$L)+SUMIF(bank!$A:$A,AI$9&$A111,bank!$N:$N)","v":0},"*","k","","egyéb ingatlan bérleti díj "]
["k103",103,null,"Gépjárművek",null,"Könyvtári, tanulói könyvek",null,null,null,null,null,null,null,null,null,null,null,null,null,0,{"$f":"SUMIF('Terv-segédlet'!$B:$B,$A112,'Terv-segédlet'!E:E)","v":0},{"$f":"SUMIF('Terv-segédlet'!$B:$B,$A112,'Terv-segédlet'!F:F)","v":0},{"$f":"SUMIF('Terv-segédlet'!$B:$B,$A112,'Terv-segédlet'!G:G)","v":0},{"$f":"SUMIF('Terv-segédlet'!$B:$B,$A112,'Terv-segédlet'!H:H)","v":0},{"$f":"SUMIF('Terv-segédlet'!$B:$B,$A112,'Terv-segédlet'!I:I)","v":0},{"$f":"SUMIF('Terv-segédlet'!$B:$B,$A112,'Terv-segédlet'!J:J)","v":0},{"$f":"SUMIF('Terv-segédlet'!$B:$B,$A112,'Terv-segédlet'!K:K)","v":0},0,{"$f":"SUMIF(V!$A:$A,$A112,V!$L:$L)+SUMIF(bank!$A:$A,AC$9&$A112,bank!$N:$N)","v":0},{"$f":"SUMIF(Gy!$A:$A,$A112,Gy!$L:$L)+SUMIF(bank!$A:$A,AD$9&$A112,bank!$N:$N)","v":0},{"$f":"SUMIF(K!$A:$A,$A112,K!$L:$L)+SUMIF(bank!$A:$A,AE$9&$A112,bank!$N:$N)","v":0},{"$f":"SUMIF(Mk!$A:$A,$A112,Mk!$L:$L)+SUMIF(bank!$A:$A,AF$9&$A112,bank!$N:$N)","v":0},{"$f":"SUMIF(M!$A:$A,$A112,M!$L:$L)+SUMIF(bank!$A:$A,AG$9&$A112,bank!$N:$N)","v":0},{"$f":"SUMIF(P!$A:$A,$A112,P!$L:$L)+SUMIF(bank!$A:$A,AH$9&$A112,bank!$N:$N)","v":0},{"$f":"SUMIF(Zs!$A:$A,$A112,Zs!$L:$L)+SUMIF(bank!$A:$A,AI$9&$A112,bank!$N:$N)","v":0},"*","k","","járművek bérleti díja"]
["k104",104,null,"Egyéb",null,"Takarító- és tisztítószerek költsége",null,null,null,null,null,null,null,null,null,null,null,null,null,0,{"$f":"SUMIF('Terv-segédlet'!$B:$B,$A113,'Terv-segédlet'!E:E)","v":0},{"$f":"SUMIF('Terv-segédlet'!$B:$B,$A113,'Terv-segédlet'!F:F)","v":0},{"$f":"SUMIF('Terv-segédlet'!$B:$B,$A113,'Terv-segédlet'!G:G)","v":0},{"$f":"SUMIF('Terv-segédlet'!$B:$B,$A113,'Terv-segédlet'!H:H)","v":0},{"$f":"SUMIF('Terv-segédlet'!$B:$B,$A113,'Terv-segédlet'!I:I)","v":0},{"$f":"SUMIF('Terv-segédlet'!$B:$B,$A113,'Terv-segédlet'!J:J)","v":0},{"$f":"SUMIF('Terv-segédlet'!$B:$B,$A113,'Terv-segédlet'!K:K)","v":0},0,{"$f":"SUMIF(V!$A:$A,$A113,V!$L:$L)+SUMIF(bank!$A:$A,AC$9&$A113,bank!$N:$N)","v":0},{"$f":"SUMIF(Gy!$A:$A,$A113,Gy!$L:$L)+SUMIF(bank!$A:$A,AD$9&$A113,bank!$N:$N)","v":0},{"$f":"SUMIF(K!$A:$A,$A113,K!$L:$L)+SUMIF(bank!$A:$A,AE$9&$A113,bank!$N:$N)","v":0},{"$f":"SUMIF(Mk!$A:$A,$A113,Mk!$L:$L)+SUMIF(bank!$A:$A,AF$9&$A113,bank!$N:$N)","v":0},{"$f":"SUMIF(M!$A:$A,$A113,M!$L:$L)+SUMIF(bank!$A:$A,AG$9&$A113,bank!$N:$N)","v":0},{"$f":"SUMIF(P!$A:$A,$A113,P!$L:$L)+SUMIF(bank!$A:$A,AH$9&$A113,bank!$N:$N)","v":0},{"$f":"SUMIF(Zs!$A:$A,$A113,Zs!$L:$L)+SUMIF(bank!$A:$A,AI$9&$A113,bank!$N:$N)","v":0},"*","k","","egyéb eszközök, berendezések, felszerelések bérleti díja"]
["k105",105,null,"-Karbantartási költségek (106..110)",null,"Mosószerek költsége",null,null,null,null,null,null,null,null,null,null,null,null,null,{"$f":"SUM(T115:T119)","v":6750000},{"$f":"SUM(U115:U119)","v":1170000},{"$f":"SUM(V115:V119)","v":0},{"$f":"SUM(W115:W119)","v":0},{"$f":"SUM(X115:X119)","v":5000000},{"$f":"SUM(Y115:Y119)","v":450000},{"$f":"SUM(Z115:Z119)","v":0},{"$f":"SUM(AA115:AA119)","v":130000},{"$f":"SUM(AB115:AB119)","v":82000},{"$f":"SUM(AC115:AC119)","v":0},{"$f":"SUM(AD115:AD119)","v":0},0,0,0,0,82000,null,"k",1.2148148148148148E-2]
["k106",106,null,"Lelkészlakás",null,"Egyéb anyagok költsége",null,null,null,null,null,null,null,null,null,null,null,null,null,{"$f":"SUM(U115:AA115)","v":20000},{"$f":"SUMIF('Terv-segédlet'!$B:$B,$A115,'Terv-segédlet'!E:E)","v":20000},{"$f":"SUMIF('Terv-segédlet'!$B:$B,$A115,'Terv-segédlet'!F:F)","v":0},{"$f":"SUMIF('Terv-segédlet'!$B:$B,$A115,'Terv-segédlet'!G:G)","v":0},{"$f":"SUMIF('Terv-segédlet'!$B:$B,$A115,'Terv-segédlet'!H:H)","v":0},{"$f":"SUMIF('Terv-segédlet'!$B:$B,$A115,'Terv-segédlet'!I:I)","v":0},{"$f":"SUMIF('Terv-segédlet'!$B:$B,$A115,'Terv-segédlet'!J:J)","v":0},{"$f":"SUMIF('Terv-segédlet'!$B:$B,$A115,'Terv-segédlet'!K:K)","v":0},{"$f":"SUM(AC115:AI115)","v":0},{"$f":"SUMIF(V!$A:$A,$A115,V!$L:$L)+SUMIF(bank!$A:$A,AC$9&$A115,bank!$N:$N)","v":0},{"$f":"SUMIF(Gy!$A:$A,$A115,Gy!$L:$L)+SUMIF(bank!$A:$A,AD$9&$A115,bank!$N:$N)","v":0},{"$f":"SUMIF(K!$A:$A,$A115,K!$L:$L)+SUMIF(bank!$A:$A,AE$9&$A115,bank!$N:$N)","v":0},{"$f":"SUMIF(Mk!$A:$A,$A115,Mk!$L:$L)+SUMIF(bank!$A:$A,AF$9&$A115,bank!$N:$N)","v":0},{"$f":"SUMIF(M!$A:$A,$A115,M!$L:$L)+SUMIF(bank!$A:$A,AG$9&$A115,bank!$N:$N)","v":0},{"$f":"SUMIF(P!$A:$A,$A115,P!$L:$L)+SUMIF(bank!$A:$A,AH$9&$A115,bank!$N:$N)","v":0},{"$f":"SUMIF(Zs!$A:$A,$A115,Zs!$L:$L)+SUMIF(bank!$A:$A,AI$9&$A115,bank!$N:$N)","v":0},"*","k",0,"lelkészlakás - festés, szerelés, stb. karbantartási szolgáltatás (a benne lévő anyagköltséggel együtt) "]
["k107",107,null,"Egyéb lakás",null,null,null,null,null,null,null,null,null,null,null,null,null,null,null,0,{"$f":"SUMIF('Terv-segédlet'!$B:$B,$A116,'Terv-segédlet'!E:E)","v":0},{"$f":"SUMIF('Terv-segédlet'!$B:$B,$A116,'Terv-segédlet'!F:F)","v":0},{"$f":"SUMIF('Terv-segédlet'!$B:$B,$A116,'Terv-segédlet'!G:G)","v":0},{"$f":"SUMIF('Terv-segédlet'!$B:$B,$A116,'Terv-segédlet'!H:H)","v":0},{"$f":"SUMIF('Terv-segédlet'!$B:$B,$A116,'Terv-segédlet'!I:I)","v":0},{"$f":"SUMIF('Terv-segédlet'!$B:$B,$A116,'Terv-segédlet'!J:J)","v":0},{"$f":"SUMIF('Terv-segédlet'!$B:$B,$A116,'Terv-segédlet'!K:K)","v":0},0,{"$f":"SUMIF(V!$A:$A,$A116,V!$L:$L)+SUMIF(bank!$A:$A,AC$9&$A116,bank!$N:$N)","v":0},{"$f":"SUMIF(Gy!$A:$A,$A116,Gy!$L:$L)+SUMIF(bank!$A:$A,AD$9&$A116,bank!$N:$N)","v":0},{"$f":"SUMIF(K!$A:$A,$A116,K!$L:$L)+SUMIF(bank!$A:$A,AE$9&$A116,bank!$N:$N)","v":0},{"$f":"SUMIF(Mk!$A:$A,$A116,Mk!$L:$L)+SUMIF(bank!$A:$A,AF$9&$A116,bank!$N:$N)","v":0},{"$f":"SUMIF(M!$A:$A,$A116,M!$L:$L)+SUMIF(bank!$A:$A,AG$9&$A116,bank!$N:$N)","v":0},{"$f":"SUMIF(P!$A:$A,$A116,P!$L:$L)+SUMIF(bank!$A:$A,AH$9&$A116,bank!$N:$N)","v":0},{"$f":"SUMIF(Zs!$A:$A,$A116,Zs!$L:$L)+SUMIF(bank!$A:$A,AI$9&$A116,bank!$N:$N)","v":0},"*","k","","egyéb lakóingatlan - festés, szerelés, stb. karbantartási szolgáltatás (a benne lévő anyagköltséggel együtt) "]
["k108",108,null,"Más gyülekezeti helyiség","Igénybe vett szolgáltatások költsége (86..102)",null,null,null,null,null,null,null,null,null,null,null,null,null,null,6580000,{"$f":"SUMIF('Terv-segédlet'!$B:$B,$A117,'Terv-segédlet'!E:E)","v":1000000},{"$f":"SUMIF('Terv-segédlet'!$B:$B,$A117,'Terv-segédlet'!F:F)","v":0},{"$f":"SUMIF('Terv-segédlet'!$B:$B,$A117,'Terv-segédlet'!G:G)","v":0},{"$f":"SUMIF('Terv-segédlet'!$B:$B,$A117,'Terv-segédlet'!H:H)","v":5000000},{"$f":"SUMIF('Terv-segédlet'!$B:$B,$A117,'Terv-segédlet'!I:I)","v":450000},{"$f":"SUMIF('Terv-segédlet'!$B:$B,$A117,'Terv-segédlet'!J:J)","v":0},{"$f":"SUMIF('Terv-segédlet'!$B:$B,$A117,'Terv-segédlet'!K:K)","v":130000},82000,{"$f":"SUMIF(V!$A:$A,$A117,V!$L:$L)+SUMIF(bank!$A:$A,AC$9&$A117,bank!$N:$N)","v":0},{"$f":"SUMIF(Gy!$A:$A,$A117,Gy!$L:$L)+SUMIF(bank!$A:$A,AD$9&$A117,bank!$N:$N)","v":0},{"$f":"SUMIF(K!$A:$A,$A117,K!$L:$L)+SUMIF(bank!$A:$A,AE$9&$A117,bank!$N:$N)","v":0},{"$f":"SUMIF(Mk!$A:$A,$A117,Mk!$L:$L)+SUMIF(bank!$A:$A,AF$9&$A117,bank!$N:$N)","v":0},{"$f":"SUMIF(M!$A:$A,$A117,M!$L:$L)+SUMIF(bank!$A:$A,AG$9&$A117,bank!$N:$N)","v":0},{"$f":"SUMIF(P!$A:$A,$A117,P!$L:$L)+SUMIF(bank!$A:$A,AH$9&$A117,bank!$N:$N)","v":0},{"$f":"SUMIF(Zs!$A:$A,$A117,Zs!$L:$L)+SUMIF(bank!$A:$A,AI$9&$A117,bank!$N:$N)","v":82000},"*","k",1.2462006079027355E-2,"egyéb gyülekezeti ingatlan - festés, szerelés, stb. karbantartási szolgáltatás (a benne lévő anyagköltséggel együtt) "]
["k109",109,null,"Gépjárművek",null,"Szakmai anyagok költsége",null,null,null,null,null,null,null,null,null,null,null,null,null,150000,{"$f":"SUMIF('Terv-segédlet'!$B:$B,$A118,'Terv-segédlet'!E:E)","v":150000},{"$f":"SUMIF('Terv-segédlet'!$B:$B,$A118,'Terv-segédlet'!F:F)","v":0},{"$f":"SUMIF('Terv-segédlet'!$B:$B,$A118,'Terv-segédlet'!G:G)","v":0},{"$f":"SUMIF('Terv-segédlet'!$B:$B,$A118,'Terv-segédlet'!H:H)","v":0},{"$f":"SUMIF('Terv-segédlet'!$B:$B,$A118,'Terv-segédlet'!I:I)","v":0},{"$f":"SUMIF('Terv-segédlet'!$B:$B,$A118,'Terv-segédlet'!J:J)","v":0},{"$f":"SUMIF('Terv-segédlet'!$B:$B,$A118,'Terv-segédlet'!K:K)","v":0},0,{"$f":"SUMIF(V!$A:$A,$A118,V!$L:$L)+SUMIF(bank!$A:$A,AC$9&$A118,bank!$N:$N)","v":0},{"$f":"SUMIF(Gy!$A:$A,$A118,Gy!$L:$L)+SUMIF(bank!$A:$A,AD$9&$A118,bank!$N:$N)","v":0},{"$f":"SUMIF(K!$A:$A,$A118,K!$L:$L)+SUMIF(bank!$A:$A,AE$9&$A118,bank!$N:$N)","v":0},{"$f":"SUMIF(Mk!$A:$A,$A118,Mk!$L:$L)+SUMIF(bank!$A:$A,AF$9&$A118,bank!$N:$N)","v":0},{"$f":"SUMIF(M!$A:$A,$A118,M!$L:$L)+SUMIF(bank!$A:$A,AG$9&$A118,bank!$N:$N)","v":0},{"$f":"SUMIF(P!$A:$A,$A118,P!$L:$L)+SUMIF(bank!$A:$A,AH$9&$A118,bank!$N:$N)","v":0},{"$f":"SUMIF(Zs!$A:$A,$A118,Zs!$L:$L)+SUMIF(bank!$A:$A,AI$9&$A118,bank!$N:$N)","v":0},"*","k",0,"gépjárművek - festés, szerelés, stb. karbantartási szolgáltatás (a benne lévő anyagköltséggel együtt) "]
["k110",110,null,"Egyéb",null,"Szállítás, rakodás, raktározás költségei",null,null,null,null,null,null,null,null,null,null,null,null,null,0,{"$f":"SUMIF('Terv-segédlet'!$B:$B,$A119,'Terv-segédlet'!E:E)","v":0},{"$f":"SUMIF('Terv-segédlet'!$B:$B,$A119,'Terv-segédlet'!F:F)","v":0},{"$f":"SUMIF('Terv-segédlet'!$B:$B,$A119,'Terv-segédlet'!G:G)","v":0},{"$f":"SUMIF('Terv-segédlet'!$B:$B,$A119,'Terv-segédlet'!H:H)","v":0},{"$f":"SUMIF('Terv-segédlet'!$B:$B,$A119,'Terv-segédlet'!I:I)","v":0},{"$f":"SUMIF('Terv-segédlet'!$B:$B,$A119,'Terv-segédlet'!J:J)","v":0},{"$f":"SUMIF('Terv-segédlet'!$B:$B,$A119,'Terv-segédlet'!K:K)","v":0},0,{"$f":"SUMIF(V!$A:$A,$A119,V!$L:$L)+SUMIF(bank!$A:$A,AC$9&$A119,bank!$N:$N)","v":0},{"$f":"SUMIF(Gy!$A:$A,$A119,Gy!$L:$L)+SUMIF(bank!$A:$A,AD$9&$A119,bank!$N:$N)","v":0},{"$f":"SUMIF(K!$A:$A,$A119,K!$L:$L)+SUMIF(bank!$A:$A,AE$9&$A119,bank!$N:$N)","v":0},{"$f":"SUMIF(Mk!$A:$A,$A119,Mk!$L:$L)+SUMIF(bank!$A:$A,AF$9&$A119,bank!$N:$N)","v":0},{"$f":"SUMIF(M!$A:$A,$A119,M!$L:$L)+SUMIF(bank!$A:$A,AG$9&$A119,bank!$N:$N)","v":0},{"$f":"SUMIF(P!$A:$A,$A119,P!$L:$L)+SUMIF(bank!$A:$A,AH$9&$A119,bank!$N:$N)","v":0},{"$f":"SUMIF(Zs!$A:$A,$A119,Zs!$L:$L)+SUMIF(bank!$A:$A,AI$9&$A119,bank!$N:$N)","v":0},"*","k","","egyéb eszközök, berendezések, felszerelések - festés, szerelés, stb. karbantartási szolgáltatás (a benne lévő anyagköltséggel együtt) "]
["k111",111,null,"-Hirdetés, reklám költségek",null,"Bérleti díjak, lízingdíjak",null,null,null,null,null,null,null,null,null,null,null,null,null,0,{"$f":"SUMIF('Terv-segédlet'!$B:$B,$A120,'Terv-segédlet'!E:E)","v":0},{"$f":"SUMIF('Terv-segédlet'!$B:$B,$A120,'Terv-segédlet'!F:F)","v":0},{"$f":"SUMIF('Terv-segédlet'!$B:$B,$A120,'Terv-segédlet'!G:G)","v":0},{"$f":"SUMIF('Terv-segédlet'!$B:$B,$A120,'Terv-segédlet'!H:H)","v":0},{"$f":"SUMIF('Terv-segédlet'!$B:$B,$A120,'Terv-segédlet'!I:I)","v":0},{"$f":"SUMIF('Terv-segédlet'!$B:$B,$A120,'Terv-segédlet'!J:J)","v":0},{"$f":"SUMIF('Terv-segédlet'!$B:$B,$A120,'Terv-segédlet'!K:K)","v":0},0,{"$f":"SUMIF(V!$A:$A,$A120,V!$L:$L)+SUMIF(bank!$A:$A,AC$9&$A120,bank!$N:$N)","v":0},{"$f":"SUMIF(Gy!$A:$A,$A120,Gy!$L:$L)+SUMIF(bank!$A:$A,AD$9&$A120,bank!$N:$N)","v":0},{"$f":"SUMIF(K!$A:$A,$A120,K!$L:$L)+SUMIF(bank!$A:$A,AE$9&$A120,bank!$N:$N)","v":0},{"$f":"SUMIF(Mk!$A:$A,$A120,Mk!$L:$L)+SUMIF(bank!$A:$A,AF$9&$A120,bank!$N:$N)","v":0},{"$f":"SUMIF(M!$A:$A,$A120,M!$L:$L)+SUMIF(bank!$A:$A,AG$9&$A120,bank!$N:$N)","v":0},{"$f":"SUMIF(P!$A:$A,$A120,P!$L:$L)+SUMIF(bank!$A:$A,AH$9&$A120,bank!$N:$N)","v":0},{"$f":"SUMIF(Zs!$A:$A,$A120,Zs!$L:$L)+SUMIF(bank!$A:$A,AI$9&$A120,bank!$N:$N)","v":0},"*","k","","plakát-, szórólap készítés költsége, újsághirdetés, stb."]
["k112",112,null,"-Oktatás és továbbképzés költsége (konferencia részvétel)",null,"Karbantartási költségek",null,null,null,null,null,null,null,null,null,null,null,null,null,0,{"$f":"SUMIF('Terv-segédlet'!$B:$B,$A121,'Terv-segédlet'!E:E)","v":0},{"$f":"SUMIF('Terv-segédlet'!$B:$B,$A121,'Terv-segédlet'!F:F)","v":0},{"$f":"SUMIF('Terv-segédlet'!$B:$B,$A121,'Terv-segédlet'!G:G)","v":0},{"$f":"SUMIF('Terv-segédlet'!$B:$B,$A121,'Terv-segédlet'!H:H)","v":0},{"$f":"SUMIF('Terv-segédlet'!$B:$B,$A121,'Terv-segédlet'!I:I)","v":0},{"$f":"SUMIF('Terv-segédlet'!$B:$B,$A121,'Terv-segédlet'!J:J)","v":0},{"$f":"SUMIF('Terv-segédlet'!$B:$B,$A121,'Terv-segédlet'!K:K)","v":0},0,{"$f":"SUMIF(V!$A:$A,$A121,V!$L:$L)+SUMIF(bank!$A:$A,AC$9&$A121,bank!$N:$N)","v":0},{"$f":"SUMIF(Gy!$A:$A,$A121,Gy!$L:$L)+SUMIF(bank!$A:$A,AD$9&$A121,bank!$N:$N)","v":0},{"$f":"SUMIF(K!$A:$A,$A121,K!$L:$L)+SUMIF(bank!$A:$A,AE$9&$A121,bank!$N:$N)","v":0},{"$f":"SUMIF(Mk!$A:$A,$A121,Mk!$L:$L)+SUMIF(bank!$A:$A,AF$9&$A121,bank!$N:$N)","v":0},{"$f":"SUMIF(M!$A:$A,$A121,M!$L:$L)+SUMIF(bank!$A:$A,AG$9&$A121,bank!$N:$N)","v":0},{"$f":"SUMIF(P!$A:$A,$A121,P!$L:$L)+SUMIF(bank!$A:$A,AH$9&$A121,bank!$N:$N)","v":0},{"$f":"SUMIF(Zs!$A:$A,$A121,Zs!$L:$L)+SUMIF(bank!$A:$A,AI$9&$A121,bank!$N:$N)","v":0},"*","k","","lelkész vagy nem lelkészi alkalmazott részére térített"]
["k113",113,null,"-Utazási és kiküldetési költségek, saját gépkocsi használat",null,"Hirdetés, reklám, propaganda",null,null,null,null,null,null,null,null,null,null,null,null,null,0,{"$f":"SUMIF('Terv-segédlet'!$B:$B,$A122,'Terv-segédlet'!E:E)","v":0},{"$f":"SUMIF('Terv-segédlet'!$B:$B,$A122,'Terv-segédlet'!F:F)","v":0},{"$f":"SUMIF('Terv-segédlet'!$B:$B,$A122,'Terv-segédlet'!G:G)","v":0},{"$f":"SUMIF('Terv-segédlet'!$B:$B,$A122,'Terv-segédlet'!H:H)","v":0},{"$f":"SUMIF('Terv-segédlet'!$B:$B,$A122,'Terv-segédlet'!I:I)","v":0},{"$f":"SUMIF('Terv-segédlet'!$B:$B,$A122,'Terv-segédlet'!J:J)","v":0},{"$f":"SUMIF('Terv-segédlet'!$B:$B,$A122,'Terv-segédlet'!K:K)","v":0},0,{"$f":"SUMIF(V!$A:$A,$A122,V!$L:$L)+SUMIF(bank!$A:$A,AC$9&$A122,bank!$N:$N)","v":0},{"$f":"SUMIF(Gy!$A:$A,$A122,Gy!$L:$L)+SUMIF(bank!$A:$A,AD$9&$A122,bank!$N:$N)","v":0},{"$f":"SUMIF(K!$A:$A,$A122,K!$L:$L)+SUMIF(bank!$A:$A,AE$9&$A122,bank!$N:$N)","v":0},{"$f":"SUMIF(Mk!$A:$A,$A122,Mk!$L:$L)+SUMIF(bank!$A:$A,AF$9&$A122,bank!$N:$N)","v":0},{"$f":"SUMIF(M!$A:$A,$A122,M!$L:$L)+SUMIF(bank!$A:$A,AG$9&$A122,bank!$N:$N)","v":0},{"$f":"SUMIF(P!$A:$A,$A122,P!$L:$L)+SUMIF(bank!$A:$A,AH$9&$A122,bank!$N:$N)","v":0},{"$f":"SUMIF(Zs!$A:$A,$A122,Zs!$L:$L)+SUMIF(bank!$A:$A,AI$9&$A122,bank!$N:$N)","v":0},"*","k","","kiküldetési rendelvény alapján kifizetett gépkocsi használat (lelkész saját gépkocsival ellátott szolgálati utak térítése is!) (NAV üzemanyagár, állami norma, +9Ft/km)"]
["k114",114,null,"-Szakértői díjak",null,"Oktatás és továbbképzés költsége",null,null,null,null,null,null,null,null,null,null,null,null,null,0,{"$f":"SUMIF('Terv-segédlet'!$B:$B,$A123,'Terv-segédlet'!E:E)","v":0},{"$f":"SUMIF('Terv-segédlet'!$B:$B,$A123,'Terv-segédlet'!F:F)","v":0},{"$f":"SUMIF('Terv-segédlet'!$B:$B,$A123,'Terv-segédlet'!G:G)","v":0},{"$f":"SUMIF('Terv-segédlet'!$B:$B,$A123,'Terv-segédlet'!H:H)","v":0},{"$f":"SUMIF('Terv-segédlet'!$B:$B,$A123,'Terv-segédlet'!I:I)","v":0},{"$f":"SUMIF('Terv-segédlet'!$B:$B,$A123,'Terv-segédlet'!J:J)","v":0},{"$f":"SUMIF('Terv-segédlet'!$B:$B,$A123,'Terv-segédlet'!K:K)","v":0},0,{"$f":"SUMIF(V!$A:$A,$A123,V!$L:$L)+SUMIF(bank!$A:$A,AC$9&$A123,bank!$N:$N)","v":0},{"$f":"SUMIF(Gy!$A:$A,$A123,Gy!$L:$L)+SUMIF(bank!$A:$A,AD$9&$A123,bank!$N:$N)","v":0},{"$f":"SUMIF(K!$A:$A,$A123,K!$L:$L)+SUMIF(bank!$A:$A,AE$9&$A123,bank!$N:$N)","v":0},{"$f":"SUMIF(Mk!$A:$A,$A123,Mk!$L:$L)+SUMIF(bank!$A:$A,AF$9&$A123,bank!$N:$N)","v":0},{"$f":"SUMIF(M!$A:$A,$A123,M!$L:$L)+SUMIF(bank!$A:$A,AG$9&$A123,bank!$N:$N)","v":0},{"$f":"SUMIF(P!$A:$A,$A123,P!$L:$L)+SUMIF(bank!$A:$A,AH$9&$A123,bank!$N:$N)","v":0},{"$f":"SUMIF(Zs!$A:$A,$A123,Zs!$L:$L)+SUMIF(bank!$A:$A,AI$9&$A123,bank!$N:$N)","v":0},"*","k","","jogi, számviteli, tűzvédelmi, egészségügyi, stb. szolgáltatás díja"]
["k115",115,null,"-Posta, telefon és egyéb telekommunikációs költségek",null,"Utazási és kiküldetési költségek",null,null,null,null,null,null,null,null,null,null,null,null,null,82240,{"$f":"SUMIF('Terv-segédlet'!$B:$B,$A124,'Terv-segédlet'!E:E)","v":82240},{"$f":"SUMIF('Terv-segédlet'!$B:$B,$A124,'Terv-segédlet'!F:F)","v":0},{"$f":"SUMIF('Terv-segédlet'!$B:$B,$A124,'Terv-segédlet'!G:G)","v":0},{"$f":"SUMIF('Terv-segédlet'!$B:$B,$A124,'Terv-segédlet'!H:H)","v":0},{"$f":"SUMIF('Terv-segédlet'!$B:$B,$A124,'Terv-segédlet'!I:I)","v":0},{"$f":"SUMIF('Terv-segédlet'!$B:$B,$A124,'Terv-segédlet'!J:J)","v":0},{"$f":"SUMIF('Terv-segédlet'!$B:$B,$A124,'Terv-segédlet'!K:K)","v":0},0,{"$f":"SUMIF(V!$A:$A,$A124,V!$L:$L)+SUMIF(bank!$A:$A,AC$9&$A124,bank!$N:$N)","v":0},{"$f":"SUMIF(Gy!$A:$A,$A124,Gy!$L:$L)+SUMIF(bank!$A:$A,AD$9&$A124,bank!$N:$N)","v":0},{"$f":"SUMIF(K!$A:$A,$A124,K!$L:$L)+SUMIF(bank!$A:$A,AE$9&$A124,bank!$N:$N)","v":0},{"$f":"SUMIF(Mk!$A:$A,$A124,Mk!$L:$L)+SUMIF(bank!$A:$A,AF$9&$A124,bank!$N:$N)","v":0},{"$f":"SUMIF(M!$A:$A,$A124,M!$L:$L)+SUMIF(bank!$A:$A,AG$9&$A124,bank!$N:$N)","v":0},{"$f":"SUMIF(P!$A:$A,$A124,P!$L:$L)+SUMIF(bank!$A:$A,AH$9&$A124,bank!$N:$N)","v":0},{"$f":"SUMIF(Zs!$A:$A,$A124,Zs!$L:$L)+SUMIF(bank!$A:$A,AI$9&$A124,bank!$N:$N)","v":0},"*","k",0,"posta, telefon, internet"]
["k116",116,null,"-Folyóiratok, szaklapok, közlönyök költsége",null,null,null,null,null,null,null,null,null,null,null,null,null,null,null,153800,{"$f":"SUMIF('Terv-segédlet'!$B:$B,$A125,'Terv-segédlet'!E:E)","v":153800},{"$f":"SUMIF('Terv-segédlet'!$B:$B,$A125,'Terv-segédlet'!F:F)","v":0},{"$f":"SUMIF('Terv-segédlet'!$B:$B,$A125,'Terv-segédlet'!G:G)","v":0},{"$f":"SUMIF('Terv-segédlet'!$B:$B,$A125,'Terv-segédlet'!H:H)","v":0},{"$f":"SUMIF('Terv-segédlet'!$B:$B,$A125,'Terv-segédlet'!I:I)","v":0},{"$f":"SUMIF('Terv-segédlet'!$B:$B,$A125,'Terv-segédlet'!J:J)","v":0},{"$f":"SUMIF('Terv-segédlet'!$B:$B,$A125,'Terv-segédlet'!K:K)","v":0},0,{"$f":"SUMIF(V!$A:$A,$A125,V!$L:$L)+SUMIF(bank!$A:$A,AC$9&$A125,bank!$N:$N)","v":0},{"$f":"SUMIF(Gy!$A:$A,$A125,Gy!$L:$L)+SUMIF(bank!$A:$A,AD$9&$A125,bank!$N:$N)","v":0},{"$f":"SUMIF(K!$A:$A,$A125,K!$L:$L)+SUMIF(bank!$A:$A,AE$9&$A125,bank!$N:$N)","v":0},{"$f":"SUMIF(Mk!$A:$A,$A125,Mk!$L:$L)+SUMIF(bank!$A:$A,AF$9&$A125,bank!$N:$N)","v":0},{"$f":"SUMIF(M!$A:$A,$A125,M!$L:$L)+SUMIF(bank!$A:$A,AG$9&$A125,bank!$N:$N)","v":0},{"$f":"SUMIF(P!$A:$A,$A125,P!$L:$L)+SUMIF(bank!$A:$A,AH$9&$A125,bank!$N:$N)","v":0},{"$f":"SUMIF(Zs!$A:$A,$A125,Zs!$L:$L)+SUMIF(bank!$A:$A,AI$9&$A125,bank!$N:$N)","v":0},"*","k",0,"saját célra vásárolt folyóiratok, szaklapok költsége"]
["k117",117,null,"-Távfűtés",null,"Vásárolt élelmezés",null,null,null,null,null,null,null,null,null,null,null,null,null,0,{"$f":"SUMIF('Terv-segédlet'!$B:$B,$A126,'Terv-segédlet'!E:E)","v":0},{"$f":"SUMIF('Terv-segédlet'!$B:$B,$A126,'Terv-segédlet'!F:F)","v":0},{"$f":"SUMIF('Terv-segédlet'!$B:$B,$A126,'Terv-segédlet'!G:G)","v":0},{"$f":"SUMIF('Terv-segédlet'!$B:$B,$A126,'Terv-segédlet'!H:H)","v":0},{"$f":"SUMIF('Terv-segédlet'!$B:$B,$A126,'Terv-segédlet'!I:I)","v":0},{"$f":"SUMIF('Terv-segédlet'!$B:$B,$A126,'Terv-segédlet'!J:J)","v":0},{"$f":"SUMIF('Terv-segédlet'!$B:$B,$A126,'Terv-segédlet'!K:K)","v":0},0,{"$f":"SUMIF(V!$A:$A,$A126,V!$L:$L)+SUMIF(bank!$A:$A,AC$9&$A126,bank!$N:$N)","v":0},{"$f":"SUMIF(Gy!$A:$A,$A126,Gy!$L:$L)+SUMIF(bank!$A:$A,AD$9&$A126,bank!$N:$N)","v":0},{"$f":"SUMIF(K!$A:$A,$A126,K!$L:$L)+SUMIF(bank!$A:$A,AE$9&$A126,bank!$N:$N)","v":0},{"$f":"SUMIF(Mk!$A:$A,$A126,Mk!$L:$L)+SUMIF(bank!$A:$A,AF$9&$A126,bank!$N:$N)","v":0},{"$f":"SUMIF(M!$A:$A,$A126,M!$L:$L)+SUMIF(bank!$A:$A,AG$9&$A126,bank!$N:$N)","v":0},{"$f":"SUMIF(P!$A:$A,$A126,P!$L:$L)+SUMIF(bank!$A:$A,AH$9&$A126,bank!$N:$N)","v":0},{"$f":"SUMIF(Zs!$A:$A,$A126,Zs!$L:$L)+SUMIF(bank!$A:$A,AI$9&$A126,bank!$N:$N)","v":0},"*","k","","távfűtési szolgáltatás díja számla szerint (pl. társasházak közös fűtési rendszeréből a hőszolgáltatás alapján kiszámlázott díj)"]
["k118",118,null,"-Egyéb igénybe vett szolgáltatás",null,"Könyv, folyóirat, egyéb információhordozó költsége",null,null,null,null,null,null,null,null,null,null,null,null,null,0,{"$f":"SUMIF('Terv-segédlet'!$B:$B,$A127,'Terv-segédlet'!E:E)","v":0},{"$f":"SUMIF('Terv-segédlet'!$B:$B,$A127,'Terv-segédlet'!F:F)","v":0},{"$f":"SUMIF('Terv-segédlet'!$B:$B,$A127,'Terv-segédlet'!G:G)","v":0},{"$f":"SUMIF('Terv-segédlet'!$B:$B,$A127,'Terv-segédlet'!H:H)","v":0},{"$f":"SUMIF('Terv-segédlet'!$B:$B,$A127,'Terv-segédlet'!I:I)","v":0},{"$f":"SUMIF('Terv-segédlet'!$B:$B,$A127,'Terv-segédlet'!J:J)","v":0},{"$f":"SUMIF('Terv-segédlet'!$B:$B,$A127,'Terv-segédlet'!K:K)","v":0},0,{"$f":"SUMIF(V!$A:$A,$A127,V!$L:$L)+SUMIF(bank!$A:$A,AC$9&$A127,bank!$N:$N)","v":0},{"$f":"SUMIF(Gy!$A:$A,$A127,Gy!$L:$L)+SUMIF(bank!$A:$A,AD$9&$A127,bank!$N:$N)","v":0},{"$f":"SUMIF(K!$A:$A,$A127,K!$L:$L)+SUMIF(bank!$A:$A,AE$9&$A127,bank!$N:$N)","v":0},{"$f":"SUMIF(Mk!$A:$A,$A127,Mk!$L:$L)+SUMIF(bank!$A:$A,AF$9&$A127,bank!$N:$N)","v":0},{"$f":"SUMIF(M!$A:$A,$A127,M!$L:$L)+SUMIF(bank!$A:$A,AG$9&$A127,bank!$N:$N)","v":0},{"$f":"SUMIF(P!$A:$A,$A127,P!$L:$L)+SUMIF(bank!$A:$A,AH$9&$A127,bank!$N:$N)","v":0},{"$f":"SUMIF(Zs!$A:$A,$A127,Zs!$L:$L)+SUMIF(bank!$A:$A,AI$9&$A127,bank!$N:$N)","v":0},"*","k","","198-117 sorokban ki nem emelt szolgáltatások (pl. vásárolt élelmezés - nem reprezentációs célú, tagdíjak, parkolási díj, autópályadíj, fénymásolás, mosatás, gépkocsi mosás, szemétszállítás, stb.)"]
["k119",119,null,"c) Egyéb szolgáltatások költsége (120..122+126..127)",null,"Épületüzemeltetési egyéb szolgáltatások",null,null,null,null,null,null,null,null,null,null,null,null,null,{"$f":"SUM(T129:T131,T135:T136)","v":300310},{"$f":"SUM(U129:U131,U135:U136)","v":203420},{"$f":"SUM(V129:V131,V135:V136)","v":22260},{"$f":"SUM(W129:W131,W135:W136)","v":16690},{"$f":"SUM(X129:X131,X135:X136)","v":28570},{"$f":"SUM(Y129:Y131,Y135:Y136)","v":27370},{"$f":"SUM(Z129:Z131,Z135:Z136)","v":1000},{"$f":"SUM(AA129:AA131,AA135:AA136)","v":1000},{"$f":"SUM(AB129:AB131,AB135:AB136)","v":766},{"$f":"SUM(AC129:AC131,AC135:AC136)","v":566},{"$f":"SUM(AD129:AD131,AD135:AD136)","v":0},50,50,50,0,50,null,"k",2.5506976124671172E-3]
["k120",120,null,"-Hatósági igazgatási, szolgáltatási díjak, illetékek",null,"Tagdíjak",null,null,null,null,null,null,null,null,null,null,null,null,null,{"$f":"SUM(U129:AA129)","v":0},{"$f":"SUMIF('Terv-segédlet'!$B:$B,$A129,'Terv-segédlet'!E:E)","v":0},{"$f":"SUMIF('Terv-segédlet'!$B:$B,$A129,'Terv-segédlet'!F:F)","v":0},{"$f":"SUMIF('Terv-segédlet'!$B:$B,$A129,'Terv-segédlet'!G:G)","v":0},{"$f":"SUMIF('Terv-segédlet'!$B:$B,$A129,'Terv-segédlet'!H:H)","v":0},{"$f":"SUMIF('Terv-segédlet'!$B:$B,$A129,'Terv-segédlet'!I:I)","v":0},{"$f":"SUMIF('Terv-segédlet'!$B:$B,$A129,'Terv-segédlet'!J:J)","v":0},{"$f":"SUMIF('Terv-segédlet'!$B:$B,$A129,'Terv-segédlet'!K:K)","v":0},{"$f":"SUM(AC129:AI129)","v":0},{"$f":"SUMIF(V!$A:$A,$A129,V!$L:$L)+SUMIF(bank!$A:$A,AC$9&$A129,bank!$N:$N)","v":0},{"$f":"SUMIF(Gy!$A:$A,$A129,Gy!$L:$L)+SUMIF(bank!$A:$A,AD$9&$A129,bank!$N:$N)","v":0},{"$f":"SUMIF(K!$A:$A,$A129,K!$L:$L)+SUMIF(bank!$A:$A,AE$9&$A129,bank!$N:$N)","v":0},{"$f":"SUMIF(Mk!$A:$A,$A129,Mk!$L:$L)+SUMIF(bank!$A:$A,AF$9&$A129,bank!$N:$N)","v":0},{"$f":"SUMIF(M!$A:$A,$A129,M!$L:$L)+SUMIF(bank!$A:$A,AG$9&$A129,bank!$N:$N)","v":0},{"$f":"SUMIF(P!$A:$A,$A129,P!$L:$L)+SUMIF(bank!$A:$A,AH$9&$A129,bank!$N:$N)","v":0},{"$f":"SUMIF(Zs!$A:$A,$A129,Zs!$L:$L)+SUMIF(bank!$A:$A,AI$9&$A129,bank!$N:$N)","v":0},"*","k","","közjegyzői díj, illetékek, műszaki engedélyek hatósági díja, stb."]
["k121",121,null,"-Pénzügyi, befektetési szolgáltatás díja (bankktg)",null,"Távfűtés",null,null,null,null,null,null,null,null,null,null,null,null,null,30000,{"$f":"SUMIF('Terv-segédlet'!$B:$B,$A130,'Terv-segédlet'!E:E)","v":15000},{"$f":"SUMIF('Terv-segédlet'!$B:$B,$A130,'Terv-segédlet'!F:F)","v":1000},{"$f":"SUMIF('Terv-segédlet'!$B:$B,$A130,'Terv-segédlet'!G:G)","v":1000},{"$f":"SUMIF('Terv-segédlet'!$B:$B,$A130,'Terv-segédlet'!H:H)","v":10000},{"$f":"SUMIF('Terv-segédlet'!$B:$B,$A130,'Terv-segédlet'!I:I)","v":1000},{"$f":"SUMIF('Terv-segédlet'!$B:$B,$A130,'Terv-segédlet'!J:J)","v":1000},{"$f":"SUMIF('Terv-segédlet'!$B:$B,$A130,'Terv-segédlet'!K:K)","v":1000},766,{"$f":"SUMIF(V!$A:$A,$A130,V!$L:$L)+SUMIF(bank!$A:$A,AC$9&$A130,bank!$N:$N)","v":566},{"$f":"SUMIF(Gy!$A:$A,$A130,Gy!$L:$L)+SUMIF(bank!$A:$A,AD$9&$A130,bank!$N:$N)","v":0},{"$f":"SUMIF(K!$A:$A,$A130,K!$L:$L)+SUMIF(bank!$A:$A,AE$9&$A130,bank!$N:$N)","v":50},{"$f":"SUMIF(Mk!$A:$A,$A130,Mk!$L:$L)+SUMIF(bank!$A:$A,AF$9&$A130,bank!$N:$N)","v":50},{"$f":"SUMIF(M!$A:$A,$A130,M!$L:$L)+SUMIF(bank!$A:$A,AG$9&$A130,bank!$N:$N)","v":50},{"$f":"SUMIF(P!$A:$A,$A130,P!$L:$L)+SUMIF(bank!$A:$A,AH$9&$A130,bank!$N:$N)","v":0},{"$f":"SUMIF(Zs!$A:$A,$A130,Zs!$L:$L)+SUMIF(bank!$A:$A,AI$9&$A130,bank!$N:$N)","v":50},"*","k",2.5533333333333335E-2,"bankjutalék, bankköltség, banki kezelési díjak"]
["k122",122,null,"-Biztosítási díjak (123..125)",null,"Egészségügyi, foglalkozás egészségügyi szolgáltatás",null,null,null,null,null,null,null,null,null,null,null,null,null,{"$f":"SUM(T132:T134)","v":270310},{"$f":"SUM(U132:U134)","v":188420},{"$f":"SUM(V132:V134)","v":21260},{"$f":"SUM(W132:W134)","v":15690},{"$f":"SUM(X132:X134)","v":18570},{"$f":"SUM(Y132:Y134)","v":26370},{"$f":"SUM(Z132:Z134)","v":0},{"$f":"SUM(AA132:AA134)","v":0},{"$f":"SUM(AB132:AB134)","v":0},{"$f":"SUM(AC132:AC134)","v":0},{"$f":"SUM(AD132:AD134)","v":0},0,0,0,0,0,null,"k",0]
["k123",123,null,"Ingatlan",null,"Orvosi, egészségügyi szolgáltatás",null,null,null,null,null,null,null,null,null,null,null,null,null,{"$f":"SUM(U132:AA132)","v":203310},{"$f":"SUMIF('Terv-segédlet'!$B:$B,$A132,'Terv-segédlet'!E:E)","v":121420},{"$f":"SUMIF('Terv-segédlet'!$B:$B,$A132,'Terv-segédlet'!F:F)","v":21260},{"$f":"SUMIF('Terv-segédlet'!$B:$B,$A132,'Terv-segédlet'!G:G)","v":15690},{"$f":"SUMIF('Terv-segédlet'!$B:$B,$A132,'Terv-segédlet'!H:H)","v":18570},{"$f":"SUMIF('Terv-segédlet'!$B:$B,$A132,'Terv-segédlet'!I:I)","v":26370},{"$f":"SUMIF('Terv-segédlet'!$B:$B,$A132,'Terv-segédlet'!J:J)","v":0},{"$f":"SUMIF('Terv-segédlet'!$B:$B,$A132,'Terv-segédlet'!K:K)","v":0},{"$f":"SUM(AC132:AI132)","v":0},{"$f":"SUMIF(V!$A:$A,$A132,V!$L:$L)+SUMIF(bank!$A:$A,AC$9&$A132,bank!$N:$N)","v":0},{"$f":"SUMIF(Gy!$A:$A,$A132,Gy!$L:$L)+SUMIF(bank!$A:$A,AD$9&$A132,bank!$N:$N)","v":0},{"$f":"SUMIF(K!$A:$A,$A132,K!$L:$L)+SUMIF(bank!$A:$A,AE$9&$A132,bank!$N:$N)","v":0},{"$f":"SUMIF(Mk!$A:$A,$A132,Mk!$L:$L)+SUMIF(bank!$A:$A,AF$9&$A132,bank!$N:$N)","v":0},{"$f":"SUMIF(M!$A:$A,$A132,M!$L:$L)+SUMIF(bank!$A:$A,AG$9&$A132,bank!$N:$N)","v":0},{"$f":"SUMIF(P!$A:$A,$A132,P!$L:$L)+SUMIF(bank!$A:$A,AH$9&$A132,bank!$N:$N)","v":0},{"$f":"SUMIF(Zs!$A:$A,$A132,Zs!$L:$L)+SUMIF(bank!$A:$A,AI$9&$A132,bank!$N:$N)","v":0},"*","k",0,"vagyonbiztosítás"]
["k124",124,null,"Gépjárművek",null,"Egyéb igénybe vett szolgáltatás",null,null,null,null,null,null,null,null,null,null,null,null,null,67000,{"$f":"SUMIF('Terv-segédlet'!$B:$B,$A133,'Terv-segédlet'!E:E)","v":67000},{"$f":"SUMIF('Terv-segédlet'!$B:$B,$A133,'Terv-segédlet'!F:F)","v":0},{"$f":"SUMIF('Terv-segédlet'!$B:$B,$A133,'Terv-segédlet'!G:G)","v":0},{"$f":"SUMIF('Terv-segédlet'!$B:$B,$A133,'Terv-segédlet'!H:H)","v":0},{"$f":"SUMIF('Terv-segédlet'!$B:$B,$A133,'Terv-segédlet'!I:I)","v":0},{"$f":"SUMIF('Terv-segédlet'!$B:$B,$A133,'Terv-segédlet'!J:J)","v":0},{"$f":"SUMIF('Terv-segédlet'!$B:$B,$A133,'Terv-segédlet'!K:K)","v":0},0,{"$f":"SUMIF(V!$A:$A,$A133,V!$L:$L)+SUMIF(bank!$A:$A,AC$9&$A133,bank!$N:$N)","v":0},{"$f":"SUMIF(Gy!$A:$A,$A133,Gy!$L:$L)+SUMIF(bank!$A:$A,AD$9&$A133,bank!$N:$N)","v":0},{"$f":"SUMIF(K!$A:$A,$A133,K!$L:$L)+SUMIF(bank!$A:$A,AE$9&$A133,bank!$N:$N)","v":0},{"$f":"SUMIF(Mk!$A:$A,$A133,Mk!$L:$L)+SUMIF(bank!$A:$A,AF$9&$A133,bank!$N:$N)","v":0},{"$f":"SUMIF(M!$A:$A,$A133,M!$L:$L)+SUMIF(bank!$A:$A,AG$9&$A133,bank!$N:$N)","v":0},{"$f":"SUMIF(P!$A:$A,$A133,P!$L:$L)+SUMIF(bank!$A:$A,AH$9&$A133,bank!$N:$N)","v":0},{"$f":"SUMIF(Zs!$A:$A,$A133,Zs!$L:$L)+SUMIF(bank!$A:$A,AI$9&$A133,bank!$N:$N)","v":0},"*","k",0,"CASCO, kötelező biztosítás"]
["k125",125,null,"Egyéb","Egyéb szolgáltatások költsége (104..108)",null,null,null,null,null,null,null,null,null,null,null,null,null,null,0,{"$f":"SUMIF('Terv-segédlet'!$B:$B,$A134,'Terv-segédlet'!E:E)","v":0},{"$f":"SUMIF('Terv-segédlet'!$B:$B,$A134,'Terv-segédlet'!F:F)","v":0},{"$f":"SUMIF('Terv-segédlet'!$B:$B,$A134,'Terv-segédlet'!G:G)","v":0},{"$f":"SUMIF('Terv-segédlet'!$B:$B,$A134,'Terv-segédlet'!H:H)","v":0},{"$f":"SUMIF('Terv-segédlet'!$B:$B,$A134,'Terv-segédlet'!I:I)","v":0},{"$f":"SUMIF('Terv-segédlet'!$B:$B,$A134,'Terv-segédlet'!J:J)","v":0},{"$f":"SUMIF('Terv-segédlet'!$B:$B,$A134,'Terv-segédlet'!K:K)","v":0},0,{"$f":"SUMIF(V!$A:$A,$A134,V!$L:$L)+SUMIF(bank!$A:$A,AC$9&$A134,bank!$N:$N)","v":0},{"$f":"SUMIF(Gy!$A:$A,$A134,Gy!$L:$L)+SUMIF(bank!$A:$A,AD$9&$A134,bank!$N:$N)","v":0},{"$f":"SUMIF(K!$A:$A,$A134,K!$L:$L)+SUMIF(bank!$A:$A,AE$9&$A134,bank!$N:$N)","v":0},{"$f":"SUMIF(Mk!$A:$A,$A134,Mk!$L:$L)+SUMIF(bank!$A:$A,AF$9&$A134,bank!$N:$N)","v":0},{"$f":"SUMIF(M!$A:$A,$A134,M!$L:$L)+SUMIF(bank!$A:$A,AG$9&$A134,bank!$N:$N)","v":0},{"$f":"SUMIF(P!$A:$A,$A134,P!$L:$L)+SUMIF(bank!$A:$A,AH$9&$A134,bank!$N:$N)","v":0},{"$f":"SUMIF(Zs!$A:$A,$A134,Zs!$L:$L)+SUMIF(bank!$A:$A,AI$9&$A134,bank!$N:$N)","v":0},"*","k","","utasbiztosítás, felelősségbiztosítás"]
["k126",126,null,"-Költségként elszámolható adók, járulékok",null,"Hatósági igazgatási, szolgáltatási díjak, illetékek",null,null,null,null,null,null,null,null,null,null,null,null,null,0,{"$f":"SUMIF('Terv-segédlet'!$B:$B,$A135,'Terv-segédlet'!E:E)","v":0},{"$f":"SUMIF('Terv-segédlet'!$B:$B,$A135,'Terv-segédlet'!F:F)","v":0},{"$f":"SUMIF('Terv-segédlet'!$B:$B,$A135,'Terv-segédlet'!G:G)","v":0},{"$f":"SUMIF('Terv-segédlet'!$B:$B,$A135,'Terv-segédlet'!H:H)","v":0},{"$f":"SUMIF('Terv-segédlet'!$B:$B,$A135,'Terv-segédlet'!I:I)","v":0},{"$f":"SUMIF('Terv-segédlet'!$B:$B,$A135,'Terv-segédlet'!J:J)","v":0},{"$f":"SUMIF('Terv-segédlet'!$B:$B,$A135,'Terv-segédlet'!K:K)","v":0},0,{"$f":"SUMIF(V!$A:$A,$A135,V!$L:$L)+SUMIF(bank!$A:$A,AC$9&$A135,bank!$N:$N)","v":0},{"$f":"SUMIF(Gy!$A:$A,$A135,Gy!$L:$L)+SUMIF(bank!$A:$A,AD$9&$A135,bank!$N:$N)","v":0},{"$f":"SUMIF(K!$A:$A,$A135,K!$L:$L)+SUMIF(bank!$A:$A,AE$9&$A135,bank!$N:$N)","v":0},{"$f":"SUMIF(Mk!$A:$A,$A135,Mk!$L:$L)+SUMIF(bank!$A:$A,AF$9&$A135,bank!$N:$N)","v":0},{"$f":"SUMIF(M!$A:$A,$A135,M!$L:$L)+SUMIF(bank!$A:$A,AG$9&$A135,bank!$N:$N)","v":0},{"$f":"SUMIF(P!$A:$A,$A135,P!$L:$L)+SUMIF(bank!$A:$A,AH$9&$A135,bank!$N:$N)","v":0},{"$f":"SUMIF(Zs!$A:$A,$A135,Zs!$L:$L)+SUMIF(bank!$A:$A,AI$9&$A135,bank!$N:$N)","v":0},"*","k","","pl. baleseti adó, cégautóadó"]
["k127",127,null,"-Különféle egyéb szolgáltatások költsége",null,"Pénzügyi, befektetési szolgáltatási díjak",null,null,null,null,null,null,null,null,null,null,null,null,null,0,{"$f":"SUMIF('Terv-segédlet'!$B:$B,$A136,'Terv-segédlet'!E:E)","v":0},{"$f":"SUMIF('Terv-segédlet'!$B:$B,$A136,'Terv-segédlet'!F:F)","v":0},{"$f":"SUMIF('Terv-segédlet'!$B:$B,$A136,'Terv-segédlet'!G:G)","v":0},{"$f":"SUMIF('Terv-segédlet'!$B:$B,$A136,'Terv-segédlet'!H:H)","v":0},{"$f":"SUMIF('Terv-segédlet'!$B:$B,$A136,'Terv-segédlet'!I:I)","v":0},{"$f":"SUMIF('Terv-segédlet'!$B:$B,$A136,'Terv-segédlet'!J:J)","v":0},{"$f":"SUMIF('Terv-segédlet'!$B:$B,$A136,'Terv-segédlet'!K:K)","v":0},0,{"$f":"SUMIF(V!$A:$A,$A136,V!$L:$L)+SUMIF(bank!$A:$A,AC$9&$A136,bank!$N:$N)","v":0},{"$f":"SUMIF(Gy!$A:$A,$A136,Gy!$L:$L)+SUMIF(bank!$A:$A,AD$9&$A136,bank!$N:$N)","v":0},{"$f":"SUMIF(K!$A:$A,$A136,K!$L:$L)+SUMIF(bank!$A:$A,AE$9&$A136,bank!$N:$N)","v":0},{"$f":"SUMIF(Mk!$A:$A,$A136,Mk!$L:$L)+SUMIF(bank!$A:$A,AF$9&$A136,bank!$N:$N)","v":0},{"$f":"SUMIF(M!$A:$A,$A136,M!$L:$L)+SUMIF(bank!$A:$A,AG$9&$A136,bank!$N:$N)","v":0},{"$f":"SUMIF(P!$A:$A,$A136,P!$L:$L)+SUMIF(bank!$A:$A,AH$9&$A136,bank!$N:$N)","v":0},{"$f":"SUMIF(Zs!$A:$A,$A136,Zs!$L:$L)+SUMIF(bank!$A:$A,AI$9&$A136,bank!$N:$N)","v":0},"*","k","","nem jellemző kiadás, a 125-131 sorokban fel nem sorolt, igénybe vett hatósági szolgáltatások díja"]
["k128",128,null,"d) Eladott áruk beszerzési értéke",null,"Biztosítási díjak",null,null,null,null,null,null,null,null,null,null,null,null,null,0,{"$f":"SUMIF('Terv-segédlet'!$B:$B,$A137,'Terv-segédlet'!E:E)","v":0},{"$f":"SUMIF('Terv-segédlet'!$B:$B,$A137,'Terv-segédlet'!F:F)","v":0},{"$f":"SUMIF('Terv-segédlet'!$B:$B,$A137,'Terv-segédlet'!G:G)","v":0},{"$f":"SUMIF('Terv-segédlet'!$B:$B,$A137,'Terv-segédlet'!H:H)","v":0},{"$f":"SUMIF('Terv-segédlet'!$B:$B,$A137,'Terv-segédlet'!I:I)","v":0},{"$f":"SUMIF('Terv-segédlet'!$B:$B,$A137,'Terv-segédlet'!J:J)","v":0},{"$f":"SUMIF('Terv-segédlet'!$B:$B,$A137,'Terv-segédlet'!K:K)","v":0},0,{"$f":"SUMIF(V!$A:$A,$A137,V!$L:$L)+SUMIF(bank!$A:$A,AC$9&$A137,bank!$N:$N)","v":0},{"$f":"SUMIF(Gy!$A:$A,$A137,Gy!$L:$L)+SUMIF(bank!$A:$A,AD$9&$A137,bank!$N:$N)","v":0},{"$f":"SUMIF(K!$A:$A,$A137,K!$L:$L)+SUMIF(bank!$A:$A,AE$9&$A137,bank!$N:$N)","v":0},{"$f":"SUMIF(Mk!$A:$A,$A137,Mk!$L:$L)+SUMIF(bank!$A:$A,AF$9&$A137,bank!$N:$N)","v":0},{"$f":"SUMIF(M!$A:$A,$A137,M!$L:$L)+SUMIF(bank!$A:$A,AG$9&$A137,bank!$N:$N)","v":0},{"$f":"SUMIF(P!$A:$A,$A137,P!$L:$L)+SUMIF(bank!$A:$A,AH$9&$A137,bank!$N:$N)","v":0},{"$f":"SUMIF(Zs!$A:$A,$A137,Zs!$L:$L)+SUMIF(bank!$A:$A,AI$9&$A137,bank!$N:$N)","v":0},"*","k","","eladásra vásárolt áruk értéke  -  nem összesítő sor!"]
["k129",{"$f":"+B137+1","v":129},null," ebből Iratterjesztés költsége",null,null,null,null,null,null,null,null,null,null,null,null,null,null,null,0,{"$f":"SUMIF('Terv-segédlet'!$B:$B,$A138,'Terv-segédlet'!E:E)","v":0},{"$f":"SUMIF('Terv-segédlet'!$B:$B,$A138,'Terv-segédlet'!F:F)","v":0},{"$f":"SUMIF('Terv-segédlet'!$B:$B,$A138,'Terv-segédlet'!G:G)","v":0},{"$f":"SUMIF('Terv-segédlet'!$B:$B,$A138,'Terv-segédlet'!H:H)","v":0},{"$f":"SUMIF('Terv-segédlet'!$B:$B,$A138,'Terv-segédlet'!I:I)","v":0},{"$f":"SUMIF('Terv-segédlet'!$B:$B,$A138,'Terv-segédlet'!J:J)","v":0},{"$f":"SUMIF('Terv-segédlet'!$B:$B,$A138,'Terv-segédlet'!K:K)","v":0},0,{"$f":"SUMIF(V!$A:$A,$A138,V!$L:$L)+SUMIF(bank!$A:$A,AC$9&$A138,bank!$N:$N)","v":0},{"$f":"SUMIF(Gy!$A:$A,$A138,Gy!$L:$L)+SUMIF(bank!$A:$A,AD$9&$A138,bank!$N:$N)","v":0},{"$f":"SUMIF(K!$A:$A,$A138,K!$L:$L)+SUMIF(bank!$A:$A,AE$9&$A138,bank!$N:$N)","v":0},{"$f":"SUMIF(Mk!$A:$A,$A138,Mk!$L:$L)+SUMIF(bank!$A:$A,AF$9&$A138,bank!$N:$N)","v":0},{"$f":"SUMIF(M!$A:$A,$A138,M!$L:$L)+SUMIF(bank!$A:$A,AG$9&$A138,bank!$N:$N)","v":0},{"$f":"SUMIF(P!$A:$A,$A138,P!$L:$L)+SUMIF(bank!$A:$A,AH$9&$A138,bank!$N:$N)","v":0},{"$f":"SUMIF(Zs!$A:$A,$A138,Zs!$L:$L)+SUMIF(bank!$A:$A,AI$9&$A138,bank!$N:$N)","v":0},"*","k","","a 128 sor értékéből az eladásra vásárolt iratterjesztési cikkek értéke"]
["k130",130,null,"e) Eladott közvetített szogláltatások értéke",null,"Költségként elszámolható adók, járulékok, termékdíjak",null,null,null,null,null,null,null,null,null,null,null,null,null,0,{"$f":"SUMIF('Terv-segédlet'!$B:$B,$A139,'Terv-segédlet'!E:E)","v":0},{"$f":"SUMIF('Terv-segédlet'!$B:$B,$A139,'Terv-segédlet'!F:F)","v":0},{"$f":"SUMIF('Terv-segédlet'!$B:$B,$A139,'Terv-segédlet'!G:G)","v":0},{"$f":"SUMIF('Terv-segédlet'!$B:$B,$A139,'Terv-segédlet'!H:H)","v":0},{"$f":"SUMIF('Terv-segédlet'!$B:$B,$A139,'Terv-segédlet'!I:I)","v":0},{"$f":"SUMIF('Terv-segédlet'!$B:$B,$A139,'Terv-segédlet'!J:J)","v":0},{"$f":"SUMIF('Terv-segédlet'!$B:$B,$A139,'Terv-segédlet'!K:K)","v":0},0,{"$f":"SUMIF(V!$A:$A,$A139,V!$L:$L)+SUMIF(bank!$A:$A,AC$9&$A139,bank!$N:$N)","v":0},{"$f":"SUMIF(Gy!$A:$A,$A139,Gy!$L:$L)+SUMIF(bank!$A:$A,AD$9&$A139,bank!$N:$N)","v":0},{"$f":"SUMIF(K!$A:$A,$A139,K!$L:$L)+SUMIF(bank!$A:$A,AE$9&$A139,bank!$N:$N)","v":0},{"$f":"SUMIF(Mk!$A:$A,$A139,Mk!$L:$L)+SUMIF(bank!$A:$A,AF$9&$A139,bank!$N:$N)","v":0},{"$f":"SUMIF(M!$A:$A,$A139,M!$L:$L)+SUMIF(bank!$A:$A,AG$9&$A139,bank!$N:$N)","v":0},{"$f":"SUMIF(P!$A:$A,$A139,P!$L:$L)+SUMIF(bank!$A:$A,AH$9&$A139,bank!$N:$N)","v":0},{"$f":"SUMIF(Zs!$A:$A,$A139,Zs!$L:$L)+SUMIF(bank!$A:$A,AI$9&$A139,bank!$N:$N)","v":0},"*","k","","továbbszámlázott szolgáltatások értéke (pl.a rezsiszámla értékéből továbbszámlázott rész, továbbszámlázort telefonköltség) "]
["k131",131,null,"8. Személyi jellegű ráfordítások (132+138+155)",null,null,null,null,null,null,null,null,null,null,null,null,null,null,null,{"$f":"SUM(T141,T147,T164)","v":3483174.9411764704},{"$f":"SUM(U141,U147,U164)","v":3272174.9411764704},{"$f":"SUM(V141,V147,V164)","v":14000},{"$f":"SUM(W141,W147,W164)","v":24000},{"$f":"SUM(X141,X147,X164)","v":126000},{"$f":"SUM(Y141,Y147,Y164)","v":47000},{"$f":"SUM(Z141,Z147,Z164)","v":0},{"$f":"SUM(AA141,AA147,AA164)","v":0},{"$f":"SUM(AB141,AB147,AB164)","v":302679},{"$f":"SUM(AC141,AC147,AC164)","v":302679},{"$f":"SUM(AD141,AD147,AD164)","v":0},0,0,0,0,0,null,"k",8.6897444174241709E-2,"54..56+82%"]
["k132",132,null,"a) Bérköltség (133..137)",null,null,null,null,null,null,null,null,null,null,null,null,null,null,null,{"$f":"SUM(T142:T146)","v":3130284.9411764704},{"$f":"SUM(U142:U146)","v":3019284.9411764704},{"$f":"SUM(V142:V146)","v":14000},{"$f":"SUM(W142:W146)","v":24000},{"$f":"SUM(X142:X146)","v":26000},{"$f":"SUM(Y142:Y146)","v":47000},{"$f":"SUM(Z142:Z146)","v":0},{"$f":"SUM(AA142:AA146)","v":0},{"$f":"SUM(AB142:AB146)","v":262446},{"$f":"SUM(AC142:AC146)","v":262446},{"$f":"SUM(AD142:AD146)","v":0},0,0,0,0,0,null,"k",8.3840929797708325E-2]
["k133",133,null,"- Lelkészek illetménye egyházi szolgálatért",null,null,null,null,null,null,null,null,null,null,null,null,null,null,null,{"$f":"SUM(U142:AA142)","v":2879284.9411764704},{"$f":"SUMIF('Terv-segédlet'!$B:$B,$A142,'Terv-segédlet'!E:E)","v":2879284.9411764704},{"$f":"SUMIF('Terv-segédlet'!$B:$B,$A142,'Terv-segédlet'!F:F)","v":0},{"$f":"SUMIF('Terv-segédlet'!$B:$B,$A142,'Terv-segédlet'!G:G)","v":0},{"$f":"SUMIF('Terv-segédlet'!$B:$B,$A142,'Terv-segédlet'!H:H)","v":0},{"$f":"SUMIF('Terv-segédlet'!$B:$B,$A142,'Terv-segédlet'!I:I)","v":0},{"$f":"SUMIF('Terv-segédlet'!$B:$B,$A142,'Terv-segédlet'!J:J)","v":0},{"$f":"SUMIF('Terv-segédlet'!$B:$B,$A142,'Terv-segédlet'!K:K)","v":0},{"$f":"SUM(AC142:AI142)","v":262446},{"$f":"SUMIF(V!$A:$A,$A142,V!$L:$L)+SUMIF(bank!$A:$A,AC$9&$A142,bank!$N:$N)","v":262446},{"$f":"SUMIF(Gy!$A:$A,$A142,Gy!$L:$L)+SUMIF(bank!$A:$A,AD$9&$A142,bank!$N:$N)","v":0},{"$f":"SUMIF(K!$A:$A,$A142,K!$L:$L)+SUMIF(bank!$A:$A,AE$9&$A142,bank!$N:$N)","v":0},{"$f":"SUMIF(Mk!$A:$A,$A142,Mk!$L:$L)+SUMIF(bank!$A:$A,AF$9&$A142,bank!$N:$N)","v":0},{"$f":"SUMIF(M!$A:$A,$A142,M!$L:$L)+SUMIF(bank!$A:$A,AG$9&$A142,bank!$N:$N)","v":0},{"$f":"SUMIF(P!$A:$A,$A142,P!$L:$L)+SUMIF(bank!$A:$A,AH$9&$A142,bank!$N:$N)","v":0},{"$f":"SUMIF(Zs!$A:$A,$A142,Zs!$L:$L)+SUMIF(bank!$A:$A,AI$9&$A142,bank!$N:$N)","v":0},"*","k",9.1149714377613864E-2,"lelkészi illetmény"]
["k134",134,null,"- Lelkészi egyéb juttatások",null,null,null,null,null,null,null,null,null,null,null,null,null,null,null,0,{"$f":"SUMIF('Terv-segédlet'!$B:$B,$A143,'Terv-segédlet'!E:E)","v":0},{"$f":"SUMIF('Terv-segédlet'!$B:$B,$A143,'Terv-segédlet'!F:F)","v":0},{"$f":"SUMIF('Terv-segédlet'!$B:$B,$A143,'Terv-segédlet'!G:G)","v":0},{"$f":"SUMIF('Terv-segédlet'!$B:$B,$A143,'Terv-segédlet'!H:H)","v":0},{"$f":"SUMIF('Terv-segédlet'!$B:$B,$A143,'Terv-segédlet'!I:I)","v":0},{"$f":"SUMIF('Terv-segédlet'!$B:$B,$A143,'Terv-segédlet'!J:J)","v":0},{"$f":"SUMIF('Terv-segédlet'!$B:$B,$A143,'Terv-segédlet'!K:K)","v":0},{"$f":"SUM(AC143:AI143)","v":0},{"$f":"SUMIF(V!$A:$A,$A143,V!$L:$L)+SUMIF(bank!$A:$A,AC$9&$A143,bank!$N:$N)","v":0},{"$f":"SUMIF(Gy!$A:$A,$A143,Gy!$L:$L)+SUMIF(bank!$A:$A,AD$9&$A143,bank!$N:$N)","v":0},{"$f":"SUMIF(K!$A:$A,$A143,K!$L:$L)+SUMIF(bank!$A:$A,AE$9&$A143,bank!$N:$N)","v":0},{"$f":"SUMIF(Mk!$A:$A,$A143,Mk!$L:$L)+SUMIF(bank!$A:$A,AF$9&$A143,bank!$N:$N)","v":0},{"$f":"SUMIF(M!$A:$A,$A143,M!$L:$L)+SUMIF(bank!$A:$A,AG$9&$A143,bank!$N:$N)","v":0},{"$f":"SUMIF(P!$A:$A,$A143,P!$L:$L)+SUMIF(bank!$A:$A,AH$9&$A143,bank!$N:$N)","v":0},{"$f":"SUMIF(Zs!$A:$A,$A143,Zs!$L:$L)+SUMIF(bank!$A:$A,AI$9&$A143,bank!$N:$N)","v":0},"*","k",{"$f":"IF(AND(OR(T143<>0,AB143<>0),T143<>0),ABS(AB143/T143),\"\")","v":""},"lelkésznek pályázathoz kapcsolódó közreműködői díj, stóla"]
["k135",135,null,"- Nem lelkészi alkalmazottak illetménye",null,null,null,null,null,null,null,null,null,null,null,null,null,null,null,251000,{"$f":"SUMIF('Terv-segédlet'!$B:$B,$A144,'Terv-segédlet'!E:E)","v":140000},{"$f":"SUMIF('Terv-segédlet'!$B:$B,$A144,'Terv-segédlet'!F:F)","v":14000},{"$f":"SUMIF('Terv-segédlet'!$B:$B,$A144,'Terv-segédlet'!G:G)","v":24000},{"$f":"SUMIF('Terv-segédlet'!$B:$B,$A144,'Terv-segédlet'!H:H)","v":26000},{"$f":"SUMIF('Terv-segédlet'!$B:$B,$A144,'Terv-segédlet'!I:I)","v":47000},{"$f":"SUMIF('Terv-segédlet'!$B:$B,$A144,'Terv-segédlet'!J:J)","v":0},{"$f":"SUMIF('Terv-segédlet'!$B:$B,$A144,'Terv-segédlet'!K:K)","v":0},0,{"$f":"SUMIF(V!$A:$A,$A144,V!$L:$L)+SUMIF(bank!$A:$A,AC$9&$A144,bank!$N:$N)","v":0},{"$f":"SUMIF(Gy!$A:$A,$A144,Gy!$L:$L)+SUMIF(bank!$A:$A,AD$9&$A144,bank!$N:$N)","v":0},{"$f":"SUMIF(K!$A:$A,$A144,K!$L:$L)+SUMIF(bank!$A:$A,AE$9&$A144,bank!$N:$N)","v":0},{"$f":"SUMIF(Mk!$A:$A,$A144,Mk!$L:$L)+SUMIF(bank!$A:$A,AF$9&$A144,bank!$N:$N)","v":0},{"$f":"SUMIF(M!$A:$A,$A144,M!$L:$L)+SUMIF(bank!$A:$A,AG$9&$A144,bank!$N:$N)","v":0},{"$f":"SUMIF(P!$A:$A,$A144,P!$L:$L)+SUMIF(bank!$A:$A,AH$9&$A144,bank!$N:$N)","v":0},{"$f":"SUMIF(Zs!$A:$A,$A144,Zs!$L:$L)+SUMIF(bank!$A:$A,AI$9&$A144,bank!$N:$N)","v":0},"*","k",0,"nem lelkészi alkalmazottak bruttó illetménye"]
["k136",136,null,"- Megbízási díjak",null,null,null,null,null,null,null,null,null,null,null,null,null,null,null,0,{"$f":"SUMIF('Terv-segédlet'!$B:$B,$A145,'Terv-segédlet'!E:E)","v":0},{"$f":"SUMIF('Terv-segédlet'!$B:$B,$A145,'Terv-segédlet'!F:F)","v":0},{"$f":"SUMIF('Terv-segédlet'!$B:$B,$A145,'Terv-segédlet'!G:G)","v":0},{"$f":"SUMIF('Terv-segédlet'!$B:$B,$A145,'Terv-segédlet'!H:H)","v":0},{"$f":"SUMIF('Terv-segédlet'!$B:$B,$A145,'Terv-segédlet'!I:I)","v":0},{"$f":"SUMIF('Terv-segédlet'!$B:$B,$A145,'Terv-segédlet'!J:J)","v":0},{"$f":"SUMIF('Terv-segédlet'!$B:$B,$A145,'Terv-segédlet'!K:K)","v":0},0,{"$f":"SUMIF(V!$A:$A,$A145,V!$L:$L)+SUMIF(bank!$A:$A,AC$9&$A145,bank!$N:$N)","v":0},{"$f":"SUMIF(Gy!$A:$A,$A145,Gy!$L:$L)+SUMIF(bank!$A:$A,AD$9&$A145,bank!$N:$N)","v":0},{"$f":"SUMIF(K!$A:$A,$A145,K!$L:$L)+SUMIF(bank!$A:$A,AE$9&$A145,bank!$N:$N)","v":0},{"$f":"SUMIF(Mk!$A:$A,$A145,Mk!$L:$L)+SUMIF(bank!$A:$A,AF$9&$A145,bank!$N:$N)","v":0},{"$f":"SUMIF(M!$A:$A,$A145,M!$L:$L)+SUMIF(bank!$A:$A,AG$9&$A145,bank!$N:$N)","v":0},{"$f":"SUMIF(P!$A:$A,$A145,P!$L:$L)+SUMIF(bank!$A:$A,AH$9&$A145,bank!$N:$N)","v":0},{"$f":"SUMIF(Zs!$A:$A,$A145,Zs!$L:$L)+SUMIF(bank!$A:$A,AI$9&$A145,bank!$N:$N)","v":0},"*","k","","megbízási szerződés alapján magánszemélynek fizetett bruttó megbízási díj"]
["k137",137,null,"- Egyéb munkavégzéshez kapcsolódó juttatások",null,null,null,null,null,null,null,null,null,null,null,null,null,null,null,0,{"$f":"SUMIF('Terv-segédlet'!$B:$B,$A146,'Terv-segédlet'!E:E)","v":0},{"$f":"SUMIF('Terv-segédlet'!$B:$B,$A146,'Terv-segédlet'!F:F)","v":0},{"$f":"SUMIF('Terv-segédlet'!$B:$B,$A146,'Terv-segédlet'!G:G)","v":0},{"$f":"SUMIF('Terv-segédlet'!$B:$B,$A146,'Terv-segédlet'!H:H)","v":0},{"$f":"SUMIF('Terv-segédlet'!$B:$B,$A146,'Terv-segédlet'!I:I)","v":0},{"$f":"SUMIF('Terv-segédlet'!$B:$B,$A146,'Terv-segédlet'!J:J)","v":0},{"$f":"SUMIF('Terv-segédlet'!$B:$B,$A146,'Terv-segédlet'!K:K)","v":0},0,{"$f":"SUMIF(V!$A:$A,$A146,V!$L:$L)+SUMIF(bank!$A:$A,AC$9&$A146,bank!$N:$N)","v":0},{"$f":"SUMIF(Gy!$A:$A,$A146,Gy!$L:$L)+SUMIF(bank!$A:$A,AD$9&$A146,bank!$N:$N)","v":0},{"$f":"SUMIF(K!$A:$A,$A146,K!$L:$L)+SUMIF(bank!$A:$A,AE$9&$A146,bank!$N:$N)","v":0},{"$f":"SUMIF(Mk!$A:$A,$A146,Mk!$L:$L)+SUMIF(bank!$A:$A,AF$9&$A146,bank!$N:$N)","v":0},{"$f":"SUMIF(M!$A:$A,$A146,M!$L:$L)+SUMIF(bank!$A:$A,AG$9&$A146,bank!$N:$N)","v":0},{"$f":"SUMIF(P!$A:$A,$A146,P!$L:$L)+SUMIF(bank!$A:$A,AH$9&$A146,bank!$N:$N)","v":0},{"$f":"SUMIF(Zs!$A:$A,$A146,Zs!$L:$L)+SUMIF(bank!$A:$A,AI$9&$A146,bank!$N:$N)","v":0},"*","k","","közmunkaprogram keretében kifizetett bér, egyházi szolgálatért fizetett bruttó illetmény (kántor, harangozó, stb.)"]
["k138",138,null,"b) Személyi jellegű egyéb kifizetések (139..140+143..145+150..154)",null,null,null,null,null,null,null,null,null,null,null,null,null,null,null,{"$f":"SUM(T148,T149,T152:T154,T159:T160,T160:T163)","v":100000},{"$f":"SUM(U148,U149,U152:U154,U159:U160,U160:U163)","v":0},{"$f":"SUM(V148,V149,V152:V154,V159:V160,V160:V163)","v":0},{"$f":"SUM(W148,W149,W152:W154,W159:W160,W160:W163)","v":0},{"$f":"SUM(X148,X149,X152:X154,X159:X160,X160:X163)","v":100000},{"$f":"SUM(Y148,Y149,Y152:Y154,Y159:Y160,Y160:Y163)","v":0},{"$f":"SUM(Z148,Z149,Z152:Z154,Z159:Z160,Z160:Z163)","v":0},{"$f":"SUM(AA148,AA149,AA152:AA154,AA159:AA160,AA160:AA163)","v":0},{"$f":"SUM(AB148,AB149,AB152:AB154,AB159:AB160,AB160:AB163)","v":0},{"$f":"SUM(AC148,AC149,AC152:AC154,AC159:AC160,AC160:AC163)","v":0},{"$f":"SUM(AD148,AD149,AD152:AD154,AD159:AD160,AD160:AD163)","v":0},0,0,0,0,0,null,"k",0]
["k139",139,null,"- Napidíj, utiköltség térítés",null,null,null,null,null,null,null,null,null,null,null,null,null,null,null,{"$f":"SUM(U148:AA148)","v":0},{"$f":"SUMIF('Terv-segédlet'!$B:$B,$A148,'Terv-segédlet'!E:E)","v":0},{"$f":"SUMIF('Terv-segédlet'!$B:$B,$A148,'Terv-segédlet'!F:F)","v":0},{"$f":"SUMIF('Terv-segédlet'!$B:$B,$A148,'Terv-segédlet'!G:G)","v":0},{"$f":"SUMIF('Terv-segédlet'!$B:$B,$A148,'Terv-segédlet'!H:H)","v":0},{"$f":"SUMIF('Terv-segédlet'!$B:$B,$A148,'Terv-segédlet'!I:I)","v":0},{"$f":"SUMIF('Terv-segédlet'!$B:$B,$A148,'Terv-segédlet'!J:J)","v":0},{"$f":"SUMIF('Terv-segédlet'!$B:$B,$A148,'Terv-segédlet'!K:K)","v":0},{"$f":"SUM(AC148:AI148)","v":0},{"$f":"SUMIF(V!$A:$A,$A148,V!$L:$L)+SUMIF(bank!$A:$A,AC$9&$A148,bank!$N:$N)","v":0},{"$f":"SUMIF(Gy!$A:$A,$A148,Gy!$L:$L)+SUMIF(bank!$A:$A,AD$9&$A148,bank!$N:$N)","v":0},{"$f":"SUMIF(K!$A:$A,$A148,K!$L:$L)+SUMIF(bank!$A:$A,AE$9&$A148,bank!$N:$N)","v":0},{"$f":"SUMIF(Mk!$A:$A,$A148,Mk!$L:$L)+SUMIF(bank!$A:$A,AF$9&$A148,bank!$N:$N)","v":0},{"$f":"SUMIF(M!$A:$A,$A148,M!$L:$L)+SUMIF(bank!$A:$A,AG$9&$A148,bank!$N:$N)","v":0},{"$f":"SUMIF(P!$A:$A,$A148,P!$L:$L)+SUMIF(bank!$A:$A,AH$9&$A148,bank!$N:$N)","v":0},{"$f":"SUMIF(Zs!$A:$A,$A148,Zs!$L:$L)+SUMIF(bank!$A:$A,AI$9&$A148,bank!$N:$N)","v":0},"*","k","","kiküldetéshez kapcsolódóan fizetett napidíj"]
["k140",140,null,"- Béren kívüli juttatások (étkezési hozj, helyi bérlet, stb.) (141..142)",null,null,null,null,null,null,null,null,null,null,null,null,null,null,null,{"$f":"SUM(T150:T151)","v":0},{"$f":"SUM(U150:U151)","v":0},{"$f":"SUM(V150:V151)","v":0},{"$f":"SUM(W150:W151)","v":0},{"$f":"SUM(X150:X151)","v":0},{"$f":"SUM(Y150:Y151)","v":0},{"$f":"SUM(Z150:Z151)","v":0},{"$f":"SUM(AA150:AA151)","v":0},{"$f":"SUM(AB150:AB151)","v":0},{"$f":"SUM(AC150:AC151)","v":0},{"$f":"SUM(AD150:AD151)","v":0},0,0,0,0,0,null,"k",""]
["k141",141,null,"Lelkészeknek",null,null,null,null,null,null,null,null,null,null,null,null,null,null,null,{"$f":"SUM(U150:AA150)","v":0},{"$f":"SUMIF('Terv-segédlet'!$B:$B,$A150,'Terv-segédlet'!E:E)","v":0},{"$f":"SUMIF('Terv-segédlet'!$B:$B,$A150,'Terv-segédlet'!F:F)","v":0},{"$f":"SUMIF('Terv-segédlet'!$B:$B,$A150,'Terv-segédlet'!G:G)","v":0},{"$f":"SUMIF('Terv-segédlet'!$B:$B,$A150,'Terv-segédlet'!H:H)","v":0},{"$f":"SUMIF('Terv-segédlet'!$B:$B,$A150,'Terv-segédlet'!I:I)","v":0},{"$f":"SUMIF('Terv-segédlet'!$B:$B,$A150,'Terv-segédlet'!J:J)","v":0},{"$f":"SUMIF('Terv-segédlet'!$B:$B,$A150,'Terv-segédlet'!K:K)","v":0},{"$f":"SUM(AC150:AI150)","v":0},{"$f":"SUMIF(V!$A:$A,$A150,V!$L:$L)+SUMIF(bank!$A:$A,AC$9&$A150,bank!$N:$N)","v":0},{"$f":"SUMIF(Gy!$A:$A,$A150,Gy!$L:$L)+SUMIF(bank!$A:$A,AD$9&$A150,bank!$N:$N)","v":0},{"$f":"SUMIF(K!$A:$A,$A150,K!$L:$L)+SUMIF(bank!$A:$A,AE$9&$A150,bank!$N:$N)","v":0},{"$f":"SUMIF(Mk!$A:$A,$A150,Mk!$L:$L)+SUMIF(bank!$A:$A,AF$9&$A150,bank!$N:$N)","v":0},{"$f":"SUMIF(M!$A:$A,$A150,M!$L:$L)+SUMIF(bank!$A:$A,AG$9&$A150,bank!$N:$N)","v":0},{"$f":"SUMIF(P!$A:$A,$A150,P!$L:$L)+SUMIF(bank!$A:$A,AH$9&$A150,bank!$N:$N)","v":0},{"$f":"SUMIF(Zs!$A:$A,$A150,Zs!$L:$L)+SUMIF(bank!$A:$A,AI$9&$A150,bank!$N:$N)","v":0},"*","k","","lelkésznek - SZJA törvény szerinti juttatások (helyi bérlet, Erzsébet-utalvány, SZÉP-kártya, iskolakezdési támogatás, stb.) "]
["k142",142,null,"Nem lelkész alkalmazottaknak",null,null,null,null,null,null,null,null,null,null,null,null,null,null,null,0,{"$f":"SUMIF('Terv-segédlet'!$B:$B,$A151,'Terv-segédlet'!E:E)","v":0},{"$f":"SUMIF('Terv-segédlet'!$B:$B,$A151,'Terv-segédlet'!F:F)","v":0},{"$f":"SUMIF('Terv-segédlet'!$B:$B,$A151,'Terv-segédlet'!G:G)","v":0},{"$f":"SUMIF('Terv-segédlet'!$B:$B,$A151,'Terv-segédlet'!H:H)","v":0},{"$f":"SUMIF('Terv-segédlet'!$B:$B,$A151,'Terv-segédlet'!I:I)","v":0},{"$f":"SUMIF('Terv-segédlet'!$B:$B,$A151,'Terv-segédlet'!J:J)","v":0},{"$f":"SUMIF('Terv-segédlet'!$B:$B,$A151,'Terv-segédlet'!K:K)","v":0},0,{"$f":"SUMIF(V!$A:$A,$A151,V!$L:$L)+SUMIF(bank!$A:$A,AC$9&$A151,bank!$N:$N)","v":0},{"$f":"SUMIF(Gy!$A:$A,$A151,Gy!$L:$L)+SUMIF(bank!$A:$A,AD$9&$A151,bank!$N:$N)","v":0},{"$f":"SUMIF(K!$A:$A,$A151,K!$L:$L)+SUMIF(bank!$A:$A,AE$9&$A151,bank!$N:$N)","v":0},{"$f":"SUMIF(Mk!$A:$A,$A151,Mk!$L:$L)+SUMIF(bank!$A:$A,AF$9&$A151,bank!$N:$N)","v":0},{"$f":"SUMIF(M!$A:$A,$A151,M!$L:$L)+SUMIF(bank!$A:$A,AG$9&$A151,bank!$N:$N)","v":0},{"$f":"SUMIF(P!$A:$A,$A151,P!$L:$L)+SUMIF(bank!$A:$A,AH$9&$A151,bank!$N:$N)","v":0},{"$f":"SUMIF(Zs!$A:$A,$A151,Zs!$L:$L)+SUMIF(bank!$A:$A,AI$9&$A151,bank!$N:$N)","v":0},"*","k","","nem lelkészi alkalmazottnak - SZJA törvény szerinti juttatások (helyi bérlet, Erzsébet-utalvány, SZÉP-kártya, iskolakezdési támogatás, stb.) "]
["k143",143,null,"- Egyéb jóléti és kulturális költségek",null,null,null,null,null,null,null,null,null,null,null,null,null,null,null,0,{"$f":"SUMIF('Terv-segédlet'!$B:$B,$A152,'Terv-segédlet'!E:E)","v":0},{"$f":"SUMIF('Terv-segédlet'!$B:$B,$A152,'Terv-segédlet'!F:F)","v":0},{"$f":"SUMIF('Terv-segédlet'!$B:$B,$A152,'Terv-segédlet'!G:G)","v":0},{"$f":"SUMIF('Terv-segédlet'!$B:$B,$A152,'Terv-segédlet'!H:H)","v":0},{"$f":"SUMIF('Terv-segédlet'!$B:$B,$A152,'Terv-segédlet'!I:I)","v":0},{"$f":"SUMIF('Terv-segédlet'!$B:$B,$A152,'Terv-segédlet'!J:J)","v":0},{"$f":"SUMIF('Terv-segédlet'!$B:$B,$A152,'Terv-segédlet'!K:K)","v":0},0,{"$f":"SUMIF(V!$A:$A,$A152,V!$L:$L)+SUMIF(bank!$A:$A,AC$9&$A152,bank!$N:$N)","v":0},{"$f":"SUMIF(Gy!$A:$A,$A152,Gy!$L:$L)+SUMIF(bank!$A:$A,AD$9&$A152,bank!$N:$N)","v":0},{"$f":"SUMIF(K!$A:$A,$A152,K!$L:$L)+SUMIF(bank!$A:$A,AE$9&$A152,bank!$N:$N)","v":0},{"$f":"SUMIF(Mk!$A:$A,$A152,Mk!$L:$L)+SUMIF(bank!$A:$A,AF$9&$A152,bank!$N:$N)","v":0},{"$f":"SUMIF(M!$A:$A,$A152,M!$L:$L)+SUMIF(bank!$A:$A,AG$9&$A152,bank!$N:$N)","v":0},{"$f":"SUMIF(P!$A:$A,$A152,P!$L:$L)+SUMIF(bank!$A:$A,AH$9&$A152,bank!$N:$N)","v":0},{"$f":"SUMIF(Zs!$A:$A,$A152,Zs!$L:$L)+SUMIF(bank!$A:$A,AI$9&$A152,bank!$N:$N)","v":0},"*","k","","nem jellemző"]
["k144",144,null,"- Munkáltatót terhelő személyi jövedelemadó",null,null,null,null,null,null,null,null,null,null,null,null,null,null,null,0,{"$f":"SUMIF('Terv-segédlet'!$B:$B,$A153,'Terv-segédlet'!E:E)","v":0},{"$f":"SUMIF('Terv-segédlet'!$B:$B,$A153,'Terv-segédlet'!F:F)","v":0},{"$f":"SUMIF('Terv-segédlet'!$B:$B,$A153,'Terv-segédlet'!G:G)","v":0},{"$f":"SUMIF('Terv-segédlet'!$B:$B,$A153,'Terv-segédlet'!H:H)","v":0},{"$f":"SUMIF('Terv-segédlet'!$B:$B,$A153,'Terv-segédlet'!I:I)","v":0},{"$f":"SUMIF('Terv-segédlet'!$B:$B,$A153,'Terv-segédlet'!J:J)","v":0},{"$f":"SUMIF('Terv-segédlet'!$B:$B,$A153,'Terv-segédlet'!K:K)","v":0},0,{"$f":"SUMIF(V!$A:$A,$A153,V!$L:$L)+SUMIF(bank!$A:$A,AC$9&$A153,bank!$N:$N)","v":0},{"$f":"SUMIF(Gy!$A:$A,$A153,Gy!$L:$L)+SUMIF(bank!$A:$A,AD$9&$A153,bank!$N:$N)","v":0},{"$f":"SUMIF(K!$A:$A,$A153,K!$L:$L)+SUMIF(bank!$A:$A,AE$9&$A153,bank!$N:$N)","v":0},{"$f":"SUMIF(Mk!$A:$A,$A153,Mk!$L:$L)+SUMIF(bank!$A:$A,AF$9&$A153,bank!$N:$N)","v":0},{"$f":"SUMIF(M!$A:$A,$A153,M!$L:$L)+SUMIF(bank!$A:$A,AG$9&$A153,bank!$N:$N)","v":0},{"$f":"SUMIF(P!$A:$A,$A153,P!$L:$L)+SUMIF(bank!$A:$A,AH$9&$A153,bank!$N:$N)","v":0},{"$f":"SUMIF(Zs!$A:$A,$A153,Zs!$L:$L)+SUMIF(bank!$A:$A,AI$9&$A153,bank!$N:$N)","v":0},"*","k","","béren kívüli és egyes meghatározott juttatások után a kifizetőt terhelő szja"]
["k145",145,null,"- Reprezentáció, üzleti ajándék (146..149)",null,null,null,null,null,null,null,null,null,null,null,null,null,null,null,{"$f":"SUM(T155:T158)","v":100000},{"$f":"SUM(U155:U158)","v":0},{"$f":"SUM(V155:V158)","v":0},{"$f":"SUM(W155:W158)","v":0},{"$f":"SUM(X155:X158)","v":100000},{"$f":"SUM(Y155:Y158)","v":0},{"$f":"SUM(Z155:Z158)","v":0},{"$f":"SUM(AA155:AA158)","v":0},{"$f":"SUM(AB155:AB158)","v":0},{"$f":"SUM(AC155:AC158)","v":0},{"$f":"SUM(AD155:AD158)","v":0},0,0,0,0,0,null,"k",0,"Együttesen a K71. sorban szereplő bevétel 10%-ig adómentes!!!"]
["k146",146,null,"Hitéleti tevékenységhez kapcsolódó",null,null,null,null,null,null,null,null,null,null,null,null,null,null,null,{"$f":"SUM(U155:AA155)","v":100000},{"$f":"SUMIF('Terv-segédlet'!$B:$B,$A155,'Terv-segédlet'!E:E)","v":0},{"$f":"SUMIF('Terv-segédlet'!$B:$B,$A155,'Terv-segédlet'!F:F)","v":0},{"$f":"SUMIF('Terv-segédlet'!$B:$B,$A155,'Terv-segédlet'!G:G)","v":0},{"$f":"SUMIF('Terv-segédlet'!$B:$B,$A155,'Terv-segédlet'!H:H)","v":100000},{"$f":"SUMIF('Terv-segédlet'!$B:$B,$A155,'Terv-segédlet'!I:I)","v":0},{"$f":"SUMIF('Terv-segédlet'!$B:$B,$A155,'Terv-segédlet'!J:J)","v":0},{"$f":"SUMIF('Terv-segédlet'!$B:$B,$A155,'Terv-segédlet'!K:K)","v":0},{"$f":"SUM(AC155:AI155)","v":0},{"$f":"SUMIF(V!$A:$A,$A155,V!$L:$L)+SUMIF(bank!$A:$A,AC$9&$A155,bank!$N:$N)","v":0},{"$f":"SUMIF(Gy!$A:$A,$A155,Gy!$L:$L)+SUMIF(bank!$A:$A,AD$9&$A155,bank!$N:$N)","v":0},{"$f":"SUMIF(K!$A:$A,$A155,K!$L:$L)+SUMIF(bank!$A:$A,AE$9&$A155,bank!$N:$N)","v":0},{"$f":"SUMIF(Mk!$A:$A,$A155,Mk!$L:$L)+SUMIF(bank!$A:$A,AF$9&$A155,bank!$N:$N)","v":0},{"$f":"SUMIF(M!$A:$A,$A155,M!$L:$L)+SUMIF(bank!$A:$A,AG$9&$A155,bank!$N:$N)","v":0},{"$f":"SUMIF(P!$A:$A,$A155,P!$L:$L)+SUMIF(bank!$A:$A,AH$9&$A155,bank!$N:$N)","v":0},{"$f":"SUMIF(Zs!$A:$A,$A155,Zs!$L:$L)+SUMIF(bank!$A:$A,AI$9&$A155,bank!$N:$N)","v":0},"*","k",0,"hitéleti rendezvény keretében vagy egyházi ünnepen nyújtott vendéglátás (ide sorolhatók az úrvacsorai kellékek)"]
["k147",147,null,"Csekély értékű ajándék",null,null,null,null,null,null,null,null,null,null,null,null,null,null,null,0,{"$f":"SUMIF('Terv-segédlet'!$B:$B,$A156,'Terv-segédlet'!E:E)","v":0},{"$f":"SUMIF('Terv-segédlet'!$B:$B,$A156,'Terv-segédlet'!F:F)","v":0},{"$f":"SUMIF('Terv-segédlet'!$B:$B,$A156,'Terv-segédlet'!G:G)","v":0},{"$f":"SUMIF('Terv-segédlet'!$B:$B,$A156,'Terv-segédlet'!H:H)","v":0},{"$f":"SUMIF('Terv-segédlet'!$B:$B,$A156,'Terv-segédlet'!I:I)","v":0},{"$f":"SUMIF('Terv-segédlet'!$B:$B,$A156,'Terv-segédlet'!J:J)","v":0},{"$f":"SUMIF('Terv-segédlet'!$B:$B,$A156,'Terv-segédlet'!K:K)","v":0},0,{"$f":"SUMIF(V!$A:$A,$A156,V!$L:$L)+SUMIF(bank!$A:$A,AC$9&$A156,bank!$N:$N)","v":0},{"$f":"SUMIF(Gy!$A:$A,$A156,Gy!$L:$L)+SUMIF(bank!$A:$A,AD$9&$A156,bank!$N:$N)","v":0},{"$f":"SUMIF(K!$A:$A,$A156,K!$L:$L)+SUMIF(bank!$A:$A,AE$9&$A156,bank!$N:$N)","v":0},{"$f":"SUMIF(Mk!$A:$A,$A156,Mk!$L:$L)+SUMIF(bank!$A:$A,AF$9&$A156,bank!$N:$N)","v":0},{"$f":"SUMIF(M!$A:$A,$A156,M!$L:$L)+SUMIF(bank!$A:$A,AG$9&$A156,bank!$N:$N)","v":0},{"$f":"SUMIF(P!$A:$A,$A156,P!$L:$L)+SUMIF(bank!$A:$A,AH$9&$A156,bank!$N:$N)","v":0},{"$f":"SUMIF(Zs!$A:$A,$A156,Zs!$L:$L)+SUMIF(bank!$A:$A,AI$9&$A156,bank!$N:$N)","v":0},"*","k","","hitéleti rendezvény keretében vagy egyházi ünnepen adott adómentes ajándék (név szerinti lista szükséges!) - személyenként 5.000 Ft-ot meg nem haladó értékben"]
["k148",148,null,"Konferencia, rendezvény",null,null,null,null,null,null,null,null,null,null,null,null,null,null,null,0,{"$f":"SUMIF('Terv-segédlet'!$B:$B,$A157,'Terv-segédlet'!E:E)","v":0},{"$f":"SUMIF('Terv-segédlet'!$B:$B,$A157,'Terv-segédlet'!F:F)","v":0},{"$f":"SUMIF('Terv-segédlet'!$B:$B,$A157,'Terv-segédlet'!G:G)","v":0},{"$f":"SUMIF('Terv-segédlet'!$B:$B,$A157,'Terv-segédlet'!H:H)","v":0},{"$f":"SUMIF('Terv-segédlet'!$B:$B,$A157,'Terv-segédlet'!I:I)","v":0},{"$f":"SUMIF('Terv-segédlet'!$B:$B,$A157,'Terv-segédlet'!J:J)","v":0},{"$f":"SUMIF('Terv-segédlet'!$B:$B,$A157,'Terv-segédlet'!K:K)","v":0},0,{"$f":"SUMIF(V!$A:$A,$A157,V!$L:$L)+SUMIF(bank!$A:$A,AC$9&$A157,bank!$N:$N)","v":0},{"$f":"SUMIF(Gy!$A:$A,$A157,Gy!$L:$L)+SUMIF(bank!$A:$A,AD$9&$A157,bank!$N:$N)","v":0},{"$f":"SUMIF(K!$A:$A,$A157,K!$L:$L)+SUMIF(bank!$A:$A,AE$9&$A157,bank!$N:$N)","v":0},{"$f":"SUMIF(Mk!$A:$A,$A157,Mk!$L:$L)+SUMIF(bank!$A:$A,AF$9&$A157,bank!$N:$N)","v":0},{"$f":"SUMIF(M!$A:$A,$A157,M!$L:$L)+SUMIF(bank!$A:$A,AG$9&$A157,bank!$N:$N)","v":0},{"$f":"SUMIF(P!$A:$A,$A157,P!$L:$L)+SUMIF(bank!$A:$A,AH$9&$A157,bank!$N:$N)","v":0},{"$f":"SUMIF(Zs!$A:$A,$A157,Zs!$L:$L)+SUMIF(bank!$A:$A,AI$9&$A157,bank!$N:$N)","v":0},"*","k","","gyülekezet által szervezett egyházi konferencia keretében nyújtott vendéglátás"]
["k149",149,null,"Adóköteles reprezentáció",null,null,null,null,null,null,null,null,null,null,null,null,null,null,null,0,{"$f":"SUMIF('Terv-segédlet'!$B:$B,$A158,'Terv-segédlet'!E:E)","v":0},{"$f":"SUMIF('Terv-segédlet'!$B:$B,$A158,'Terv-segédlet'!F:F)","v":0},{"$f":"SUMIF('Terv-segédlet'!$B:$B,$A158,'Terv-segédlet'!G:G)","v":0},{"$f":"SUMIF('Terv-segédlet'!$B:$B,$A158,'Terv-segédlet'!H:H)","v":0},{"$f":"SUMIF('Terv-segédlet'!$B:$B,$A158,'Terv-segédlet'!I:I)","v":0},{"$f":"SUMIF('Terv-segédlet'!$B:$B,$A158,'Terv-segédlet'!J:J)","v":0},{"$f":"SUMIF('Terv-segédlet'!$B:$B,$A158,'Terv-segédlet'!K:K)","v":0},0,{"$f":"SUMIF(V!$A:$A,$A158,V!$L:$L)+SUMIF(bank!$A:$A,AC$9&$A158,bank!$N:$N)","v":0},{"$f":"SUMIF(Gy!$A:$A,$A158,Gy!$L:$L)+SUMIF(bank!$A:$A,AD$9&$A158,bank!$N:$N)","v":0},{"$f":"SUMIF(K!$A:$A,$A158,K!$L:$L)+SUMIF(bank!$A:$A,AE$9&$A158,bank!$N:$N)","v":0},{"$f":"SUMIF(Mk!$A:$A,$A158,Mk!$L:$L)+SUMIF(bank!$A:$A,AF$9&$A158,bank!$N:$N)","v":0},{"$f":"SUMIF(M!$A:$A,$A158,M!$L:$L)+SUMIF(bank!$A:$A,AG$9&$A158,bank!$N:$N)","v":0},{"$f":"SUMIF(P!$A:$A,$A158,P!$L:$L)+SUMIF(bank!$A:$A,AH$9&$A158,bank!$N:$N)","v":0},{"$f":"SUMIF(Zs!$A:$A,$A158,Zs!$L:$L)+SUMIF(bank!$A:$A,AI$9&$A158,bank!$N:$N)","v":0},"*","k","","A K74. sorban szereplő bevétel 10%-át, vagy az adómentes határt meghaladó ajándék értéke, amely után az egyházközséget adókötelezettség terheli"]
["k150",150,null,"-Albérleti hozzájárulás, lakásépítési támogatás",null,null,null,null,null,null,null,null,null,null,null,null,null,null,null,0,{"$f":"SUMIF('Terv-segédlet'!$B:$B,$A159,'Terv-segédlet'!E:E)","v":0},{"$f":"SUMIF('Terv-segédlet'!$B:$B,$A159,'Terv-segédlet'!F:F)","v":0},{"$f":"SUMIF('Terv-segédlet'!$B:$B,$A159,'Terv-segédlet'!G:G)","v":0},{"$f":"SUMIF('Terv-segédlet'!$B:$B,$A159,'Terv-segédlet'!H:H)","v":0},{"$f":"SUMIF('Terv-segédlet'!$B:$B,$A159,'Terv-segédlet'!I:I)","v":0},{"$f":"SUMIF('Terv-segédlet'!$B:$B,$A159,'Terv-segédlet'!J:J)","v":0},{"$f":"SUMIF('Terv-segédlet'!$B:$B,$A159,'Terv-segédlet'!K:K)","v":0},0,{"$f":"SUMIF(V!$A:$A,$A159,V!$L:$L)+SUMIF(bank!$A:$A,AC$9&$A159,bank!$N:$N)","v":0},{"$f":"SUMIF(Gy!$A:$A,$A159,Gy!$L:$L)+SUMIF(bank!$A:$A,AD$9&$A159,bank!$N:$N)","v":0},{"$f":"SUMIF(K!$A:$A,$A159,K!$L:$L)+SUMIF(bank!$A:$A,AE$9&$A159,bank!$N:$N)","v":0},{"$f":"SUMIF(Mk!$A:$A,$A159,Mk!$L:$L)+SUMIF(bank!$A:$A,AF$9&$A159,bank!$N:$N)","v":0},{"$f":"SUMIF(M!$A:$A,$A159,M!$L:$L)+SUMIF(bank!$A:$A,AG$9&$A159,bank!$N:$N)","v":0},{"$f":"SUMIF(P!$A:$A,$A159,P!$L:$L)+SUMIF(bank!$A:$A,AH$9&$A159,bank!$N:$N)","v":0},{"$f":"SUMIF(Zs!$A:$A,$A159,Zs!$L:$L)+SUMIF(bank!$A:$A,AI$9&$A159,bank!$N:$N)","v":0},"*","k","","pénzben nyújtott albérleti költségtérítés, lakásépítési támogatás - ADÓKÖTELES!!!"]
["k151",151,null,"-Közlekedési költségtérítés, munkába járás",null,null,null,null,null,null,null,null,null,null,null,null,null,null,null,0,{"$f":"SUMIF('Terv-segédlet'!$B:$B,$A160,'Terv-segédlet'!E:E)","v":0},{"$f":"SUMIF('Terv-segédlet'!$B:$B,$A160,'Terv-segédlet'!F:F)","v":0},{"$f":"SUMIF('Terv-segédlet'!$B:$B,$A160,'Terv-segédlet'!G:G)","v":0},{"$f":"SUMIF('Terv-segédlet'!$B:$B,$A160,'Terv-segédlet'!H:H)","v":0},{"$f":"SUMIF('Terv-segédlet'!$B:$B,$A160,'Terv-segédlet'!I:I)","v":0},{"$f":"SUMIF('Terv-segédlet'!$B:$B,$A160,'Terv-segédlet'!J:J)","v":0},{"$f":"SUMIF('Terv-segédlet'!$B:$B,$A160,'Terv-segédlet'!K:K)","v":0},0,{"$f":"SUMIF(V!$A:$A,$A160,V!$L:$L)+SUMIF(bank!$A:$A,AC$9&$A160,bank!$N:$N)","v":0},{"$f":"SUMIF(Gy!$A:$A,$A160,Gy!$L:$L)+SUMIF(bank!$A:$A,AD$9&$A160,bank!$N:$N)","v":0},{"$f":"SUMIF(K!$A:$A,$A160,K!$L:$L)+SUMIF(bank!$A:$A,AE$9&$A160,bank!$N:$N)","v":0},{"$f":"SUMIF(Mk!$A:$A,$A160,Mk!$L:$L)+SUMIF(bank!$A:$A,AF$9&$A160,bank!$N:$N)","v":0},{"$f":"SUMIF(M!$A:$A,$A160,M!$L:$L)+SUMIF(bank!$A:$A,AG$9&$A160,bank!$N:$N)","v":0},{"$f":"SUMIF(P!$A:$A,$A160,P!$L:$L)+SUMIF(bank!$A:$A,AH$9&$A160,bank!$N:$N)","v":0},{"$f":"SUMIF(Zs!$A:$A,$A160,Zs!$L:$L)+SUMIF(bank!$A:$A,AI$9&$A160,bank!$N:$N)","v":0},"*","k","","lelkésznek, nem lelkészi alkalmazottnak a lakóhelyéről a munkahelyre történő, munkába járáshoz kapcsolódó utazás költsége (távolsági bérlet 86%, saját gépkocsival történő munkábajárás esetén 9 Ft/km)"]
["k152",152,null,"-Választott tisztségviselők díja",null,null,null,null,null,null,null,null,null,null,null,null,null,null,null,0,{"$f":"SUMIF('Terv-segédlet'!$B:$B,$A161,'Terv-segédlet'!E:E)","v":0},{"$f":"SUMIF('Terv-segédlet'!$B:$B,$A161,'Terv-segédlet'!F:F)","v":0},{"$f":"SUMIF('Terv-segédlet'!$B:$B,$A161,'Terv-segédlet'!G:G)","v":0},{"$f":"SUMIF('Terv-segédlet'!$B:$B,$A161,'Terv-segédlet'!H:H)","v":0},{"$f":"SUMIF('Terv-segédlet'!$B:$B,$A161,'Terv-segédlet'!I:I)","v":0},{"$f":"SUMIF('Terv-segédlet'!$B:$B,$A161,'Terv-segédlet'!J:J)","v":0},{"$f":"SUMIF('Terv-segédlet'!$B:$B,$A161,'Terv-segédlet'!K:K)","v":0},0,{"$f":"SUMIF(V!$A:$A,$A161,V!$L:$L)+SUMIF(bank!$A:$A,AC$9&$A161,bank!$N:$N)","v":0},{"$f":"SUMIF(Gy!$A:$A,$A161,Gy!$L:$L)+SUMIF(bank!$A:$A,AD$9&$A161,bank!$N:$N)","v":0},{"$f":"SUMIF(K!$A:$A,$A161,K!$L:$L)+SUMIF(bank!$A:$A,AE$9&$A161,bank!$N:$N)","v":0},{"$f":"SUMIF(Mk!$A:$A,$A161,Mk!$L:$L)+SUMIF(bank!$A:$A,AF$9&$A161,bank!$N:$N)","v":0},{"$f":"SUMIF(M!$A:$A,$A161,M!$L:$L)+SUMIF(bank!$A:$A,AG$9&$A161,bank!$N:$N)","v":0},{"$f":"SUMIF(P!$A:$A,$A161,P!$L:$L)+SUMIF(bank!$A:$A,AH$9&$A161,bank!$N:$N)","v":0},{"$f":"SUMIF(Zs!$A:$A,$A161,Zs!$L:$L)+SUMIF(bank!$A:$A,AI$9&$A161,bank!$N:$N)","v":0},"*","k","","tiszteletdíj (pl. felügyelő, gondnok, stb.)"]
["k153",153,null,"-Segélyek, szociális támogatások",null,null,null,null,null,null,null,null,null,null,null,null,null,null,null,0,{"$f":"SUMIF('Terv-segédlet'!$B:$B,$A162,'Terv-segédlet'!E:E)","v":0},{"$f":"SUMIF('Terv-segédlet'!$B:$B,$A162,'Terv-segédlet'!F:F)","v":0},{"$f":"SUMIF('Terv-segédlet'!$B:$B,$A162,'Terv-segédlet'!G:G)","v":0},{"$f":"SUMIF('Terv-segédlet'!$B:$B,$A162,'Terv-segédlet'!H:H)","v":0},{"$f":"SUMIF('Terv-segédlet'!$B:$B,$A162,'Terv-segédlet'!I:I)","v":0},{"$f":"SUMIF('Terv-segédlet'!$B:$B,$A162,'Terv-segédlet'!J:J)","v":0},{"$f":"SUMIF('Terv-segédlet'!$B:$B,$A162,'Terv-segédlet'!K:K)","v":0},0,{"$f":"SUMIF(V!$A:$A,$A162,V!$L:$L)+SUMIF(bank!$A:$A,AC$9&$A162,bank!$N:$N)","v":0},{"$f":"SUMIF(Gy!$A:$A,$A162,Gy!$L:$L)+SUMIF(bank!$A:$A,AD$9&$A162,bank!$N:$N)","v":0},{"$f":"SUMIF(K!$A:$A,$A162,K!$L:$L)+SUMIF(bank!$A:$A,AE$9&$A162,bank!$N:$N)","v":0},{"$f":"SUMIF(Mk!$A:$A,$A162,Mk!$L:$L)+SUMIF(bank!$A:$A,AF$9&$A162,bank!$N:$N)","v":0},{"$f":"SUMIF(M!$A:$A,$A162,M!$L:$L)+SUMIF(bank!$A:$A,AG$9&$A162,bank!$N:$N)","v":0},{"$f":"SUMIF(P!$A:$A,$A162,P!$L:$L)+SUMIF(bank!$A:$A,AH$9&$A162,bank!$N:$N)","v":0},{"$f":"SUMIF(Zs!$A:$A,$A162,Zs!$L:$L)+SUMIF(bank!$A:$A,AI$9&$A162,bank!$N:$N)","v":0},"*","k","","magánszemélyeknek fizetett segély - SZABÁLYOZÁSI KÖTELEZETTSÉG VAN!!"]
["k154",154,null,"-Egyéb személyi jellegű kifizetések",null,null,null,null,null,null,null,null,null,null,null,null,null,null,null,0,{"$f":"SUMIF('Terv-segédlet'!$B:$B,$A163,'Terv-segédlet'!E:E)","v":0},{"$f":"SUMIF('Terv-segédlet'!$B:$B,$A163,'Terv-segédlet'!F:F)","v":0},{"$f":"SUMIF('Terv-segédlet'!$B:$B,$A163,'Terv-segédlet'!G:G)","v":0},{"$f":"SUMIF('Terv-segédlet'!$B:$B,$A163,'Terv-segédlet'!H:H)","v":0},{"$f":"SUMIF('Terv-segédlet'!$B:$B,$A163,'Terv-segédlet'!I:I)","v":0},{"$f":"SUMIF('Terv-segédlet'!$B:$B,$A163,'Terv-segédlet'!J:J)","v":0},{"$f":"SUMIF('Terv-segédlet'!$B:$B,$A163,'Terv-segédlet'!K:K)","v":0},0,{"$f":"SUMIF(V!$A:$A,$A163,V!$L:$L)+SUMIF(bank!$A:$A,AC$9&$A163,bank!$N:$N)","v":0},{"$f":"SUMIF(Gy!$A:$A,$A163,Gy!$L:$L)+SUMIF(bank!$A:$A,AD$9&$A163,bank!$N:$N)","v":0},{"$f":"SUMIF(K!$A:$A,$A163,K!$L:$L)+SUMIF(bank!$A:$A,AE$9&$A163,bank!$N:$N)","v":0},{"$f":"SUMIF(Mk!$A:$A,$A163,Mk!$L:$L)+SUMIF(bank!$A:$A,AF$9&$A163,bank!$N:$N)","v":0},{"$f":"SUMIF(M!$A:$A,$A163,M!$L:$L)+SUMIF(bank!$A:$A,AG$9&$A163,bank!$N:$N)","v":0},{"$f":"SUMIF(P!$A:$A,$A163,P!$L:$L)+SUMIF(bank!$A:$A,AH$9&$A163,bank!$N:$N)","v":0},{"$f":"SUMIF(Zs!$A:$A,$A163,Zs!$L:$L)+SUMIF(bank!$A:$A,AI$9&$A163,bank!$N:$N)","v":0},"*","k","","szerzői jogdíjak, egészségpénztárba fizetett, átvállalt összegek"]
["k155",155,null,"c) Bérjárulékok (156..160)",null,null,null,null,null,null,null,null,null,null,null,null,null,null,null,{"$f":"SUM(T165:T169)","v":252890},{"$f":"SUM(U165:U169)","v":252890},{"$f":"SUM(V165:V169)","v":0},{"$f":"SUM(W165:W169)","v":0},{"$f":"SUM(X165:X169)","v":0},{"$f":"SUM(Y165:Y169)","v":0},{"$f":"SUM(Z165:Z169)","v":0},{"$f":"SUM(AA165:AA169)","v":0},{"$f":"SUM(AB165:AB169)","v":40233},{"$f":"SUM(AC165:AC169)","v":40233},{"$f":"SUM(AD165:AD169)","v":0},0,0,0,0,0,null,"k",0.15909288623512199]
["k156",156,null,"-Szociális hozzájárulási adó",null,null,null,null,null,null,null,null,null,null,null,null,null,null,null,{"$f":"SUM(U165:AA165)","v":0},{"$f":"SUMIF('Terv-segédlet'!$B:$B,$A165,'Terv-segédlet'!E:E)","v":0},{"$f":"SUMIF('Terv-segédlet'!$B:$B,$A165,'Terv-segédlet'!F:F)","v":0},{"$f":"SUMIF('Terv-segédlet'!$B:$B,$A165,'Terv-segédlet'!G:G)","v":0},{"$f":"SUMIF('Terv-segédlet'!$B:$B,$A165,'Terv-segédlet'!H:H)","v":0},{"$f":"SUMIF('Terv-segédlet'!$B:$B,$A165,'Terv-segédlet'!I:I)","v":0},{"$f":"SUMIF('Terv-segédlet'!$B:$B,$A165,'Terv-segédlet'!J:J)","v":0},{"$f":"SUMIF('Terv-segédlet'!$B:$B,$A165,'Terv-segédlet'!K:K)","v":0},{"$f":"SUM(AC165:AI165)","v":0},{"$f":"SUMIF(V!$A:$A,$A165,V!$L:$L)+SUMIF(bank!$A:$A,AC$9&$A165,bank!$N:$N)","v":0},{"$f":"SUMIF(Gy!$A:$A,$A165,Gy!$L:$L)+SUMIF(bank!$A:$A,AD$9&$A165,bank!$N:$N)","v":0},{"$f":"SUMIF(K!$A:$A,$A165,K!$L:$L)+SUMIF(bank!$A:$A,AE$9&$A165,bank!$N:$N)","v":0},{"$f":"SUMIF(Mk!$A:$A,$A165,Mk!$L:$L)+SUMIF(bank!$A:$A,AF$9&$A165,bank!$N:$N)","v":0},{"$f":"SUMIF(M!$A:$A,$A165,M!$L:$L)+SUMIF(bank!$A:$A,AG$9&$A165,bank!$N:$N)","v":0},{"$f":"SUMIF(P!$A:$A,$A165,P!$L:$L)+SUMIF(bank!$A:$A,AH$9&$A165,bank!$N:$N)","v":0},{"$f":"SUMIF(Zs!$A:$A,$A165,Zs!$L:$L)+SUMIF(bank!$A:$A,AI$9&$A165,bank!$N:$N)","v":0},"*","k","","08 bevallásban bevallott, megfizetett összeg"]
["k157",157,null,"-Egészségügyi hozzájárulás",null,null,null,null,null,null,null,null,null,null,null,null,null,null,null,0,{"$f":"SUMIF('Terv-segédlet'!$B:$B,$A166,'Terv-segédlet'!E:E)","v":0},{"$f":"SUMIF('Terv-segédlet'!$B:$B,$A166,'Terv-segédlet'!F:F)","v":0},{"$f":"SUMIF('Terv-segédlet'!$B:$B,$A166,'Terv-segédlet'!G:G)","v":0},{"$f":"SUMIF('Terv-segédlet'!$B:$B,$A166,'Terv-segédlet'!H:H)","v":0},{"$f":"SUMIF('Terv-segédlet'!$B:$B,$A166,'Terv-segédlet'!I:I)","v":0},{"$f":"SUMIF('Terv-segédlet'!$B:$B,$A166,'Terv-segédlet'!J:J)","v":0},{"$f":"SUMIF('Terv-segédlet'!$B:$B,$A166,'Terv-segédlet'!K:K)","v":0},0,{"$f":"SUMIF(V!$A:$A,$A166,V!$L:$L)+SUMIF(bank!$A:$A,AC$9&$A166,bank!$N:$N)","v":0},{"$f":"SUMIF(Gy!$A:$A,$A166,Gy!$L:$L)+SUMIF(bank!$A:$A,AD$9&$A166,bank!$N:$N)","v":0},{"$f":"SUMIF(K!$A:$A,$A166,K!$L:$L)+SUMIF(bank!$A:$A,AE$9&$A166,bank!$N:$N)","v":0},{"$f":"SUMIF(Mk!$A:$A,$A166,Mk!$L:$L)+SUMIF(bank!$A:$A,AF$9&$A166,bank!$N:$N)","v":0},{"$f":"SUMIF(M!$A:$A,$A166,M!$L:$L)+SUMIF(bank!$A:$A,AG$9&$A166,bank!$N:$N)","v":0},{"$f":"SUMIF(P!$A:$A,$A166,P!$L:$L)+SUMIF(bank!$A:$A,AH$9&$A166,bank!$N:$N)","v":0},{"$f":"SUMIF(Zs!$A:$A,$A166,Zs!$L:$L)+SUMIF(bank!$A:$A,AI$9&$A166,bank!$N:$N)","v":0},"*","k","","08 bevallásban bevallott, megfizetett, pl. béren kívüli juttatás után a kifizetőt terhelő összeg"]
["k158",158,null,"-Rehabilitációs hozzájárulás",null,null,null,null,null,null,null,null,null,null,null,null,null,null,null,0,{"$f":"SUMIF('Terv-segédlet'!$B:$B,$A167,'Terv-segédlet'!E:E)","v":0},{"$f":"SUMIF('Terv-segédlet'!$B:$B,$A167,'Terv-segédlet'!F:F)","v":0},{"$f":"SUMIF('Terv-segédlet'!$B:$B,$A167,'Terv-segédlet'!G:G)","v":0},{"$f":"SUMIF('Terv-segédlet'!$B:$B,$A167,'Terv-segédlet'!H:H)","v":0},{"$f":"SUMIF('Terv-segédlet'!$B:$B,$A167,'Terv-segédlet'!I:I)","v":0},{"$f":"SUMIF('Terv-segédlet'!$B:$B,$A167,'Terv-segédlet'!J:J)","v":0},{"$f":"SUMIF('Terv-segédlet'!$B:$B,$A167,'Terv-segédlet'!K:K)","v":0},0,{"$f":"SUMIF(V!$A:$A,$A167,V!$L:$L)+SUMIF(bank!$A:$A,AC$9&$A167,bank!$N:$N)","v":0},{"$f":"SUMIF(Gy!$A:$A,$A167,Gy!$L:$L)+SUMIF(bank!$A:$A,AD$9&$A167,bank!$N:$N)","v":0},{"$f":"SUMIF(K!$A:$A,$A167,K!$L:$L)+SUMIF(bank!$A:$A,AE$9&$A167,bank!$N:$N)","v":0},{"$f":"SUMIF(Mk!$A:$A,$A167,Mk!$L:$L)+SUMIF(bank!$A:$A,AF$9&$A167,bank!$N:$N)","v":0},{"$f":"SUMIF(M!$A:$A,$A167,M!$L:$L)+SUMIF(bank!$A:$A,AG$9&$A167,bank!$N:$N)","v":0},{"$f":"SUMIF(P!$A:$A,$A167,P!$L:$L)+SUMIF(bank!$A:$A,AH$9&$A167,bank!$N:$N)","v":0},{"$f":"SUMIF(Zs!$A:$A,$A167,Zs!$L:$L)+SUMIF(bank!$A:$A,AI$9&$A167,bank!$N:$N)","v":0},"*","k","","25 főt meghaladó alkalmazotti létszám esetén fizetendő adó"]
["k159",159,null,"-Fenntartói nyugdíjjárulék  (Zelenka Pál SzA)",null,null,null,null,null,null,null,null,null,null,null,null,null,null,null,252890,{"$f":"SUMIF('Terv-segédlet'!$B:$B,$A168,'Terv-segédlet'!E:E)","v":252890},{"$f":"SUMIF('Terv-segédlet'!$B:$B,$A168,'Terv-segédlet'!F:F)","v":0},{"$f":"SUMIF('Terv-segédlet'!$B:$B,$A168,'Terv-segédlet'!G:G)","v":0},{"$f":"SUMIF('Terv-segédlet'!$B:$B,$A168,'Terv-segédlet'!H:H)","v":0},{"$f":"SUMIF('Terv-segédlet'!$B:$B,$A168,'Terv-segédlet'!I:I)","v":0},{"$f":"SUMIF('Terv-segédlet'!$B:$B,$A168,'Terv-segédlet'!J:J)","v":0},{"$f":"SUMIF('Terv-segédlet'!$B:$B,$A168,'Terv-segédlet'!K:K)","v":0},40233,{"$f":"SUMIF(V!$A:$A,$A168,V!$L:$L)+SUMIF(bank!$A:$A,AC$9&$A168,bank!$N:$N)","v":40233},{"$f":"SUMIF(Gy!$A:$A,$A168,Gy!$L:$L)+SUMIF(bank!$A:$A,AD$9&$A168,bank!$N:$N)","v":0},{"$f":"SUMIF(K!$A:$A,$A168,K!$L:$L)+SUMIF(bank!$A:$A,AE$9&$A168,bank!$N:$N)","v":0},{"$f":"SUMIF(Mk!$A:$A,$A168,Mk!$L:$L)+SUMIF(bank!$A:$A,AF$9&$A168,bank!$N:$N)","v":0},{"$f":"SUMIF(M!$A:$A,$A168,M!$L:$L)+SUMIF(bank!$A:$A,AG$9&$A168,bank!$N:$N)","v":0},{"$f":"SUMIF(P!$A:$A,$A168,P!$L:$L)+SUMIF(bank!$A:$A,AH$9&$A168,bank!$N:$N)","v":0},{"$f":"SUMIF(Zs!$A:$A,$A168,Zs!$L:$L)+SUMIF(bank!$A:$A,AI$9&$A168,bank!$N:$N)","v":0},"*","k",0.15909288623512199,"Zelenka P. alapba megfizetett fenntartói járulék (gyülekezetet terhelő) összege"]
["k160",160,null,"-Egyéb bérjárulék",null,null,null,null,null,null,null,null,null,null,null,null,null,null,null,0,{"$f":"SUMIF('Terv-segédlet'!$B:$B,$A169,'Terv-segédlet'!E:E)","v":0},{"$f":"SUMIF('Terv-segédlet'!$B:$B,$A169,'Terv-segédlet'!F:F)","v":0},{"$f":"SUMIF('Terv-segédlet'!$B:$B,$A169,'Terv-segédlet'!G:G)","v":0},{"$f":"SUMIF('Terv-segédlet'!$B:$B,$A169,'Terv-segédlet'!H:H)","v":0},{"$f":"SUMIF('Terv-segédlet'!$B:$B,$A169,'Terv-segédlet'!I:I)","v":0},{"$f":"SUMIF('Terv-segédlet'!$B:$B,$A169,'Terv-segédlet'!J:J)","v":0},{"$f":"SUMIF('Terv-segédlet'!$B:$B,$A169,'Terv-segédlet'!K:K)","v":0},0,{"$f":"SUMIF(V!$A:$A,$A169,V!$L:$L)+SUMIF(bank!$A:$A,AC$9&$A169,bank!$N:$N)","v":0},{"$f":"SUMIF(Gy!$A:$A,$A169,Gy!$L:$L)+SUMIF(bank!$A:$A,AD$9&$A169,bank!$N:$N)","v":0},{"$f":"SUMIF(K!$A:$A,$A169,K!$L:$L)+SUMIF(bank!$A:$A,AE$9&$A169,bank!$N:$N)","v":0},{"$f":"SUMIF(Mk!$A:$A,$A169,Mk!$L:$L)+SUMIF(bank!$A:$A,AF$9&$A169,bank!$N:$N)","v":0},{"$f":"SUMIF(M!$A:$A,$A169,M!$L:$L)+SUMIF(bank!$A:$A,AG$9&$A169,bank!$N:$N)","v":0},{"$f":"SUMIF(P!$A:$A,$A169,P!$L:$L)+SUMIF(bank!$A:$A,AH$9&$A169,bank!$N:$N)","v":0},{"$f":"SUMIF(Zs!$A:$A,$A169,Zs!$L:$L)+SUMIF(bank!$A:$A,AI$9&$A169,bank!$N:$N)","v":0},"*","k","","MEP járulék, stb."]
["k161",161,null,"9. Egyéb ráfordítások (162+167)",null,null,null,null,null,null,null,null,null,null,null,null,null,null,null,{"$f":"SUM(T171:T171,T176)","v":481000},{"$f":"SUM(U171:U171,U176)","v":223000},{"$f":"SUM(V171:V171,V176)","v":5000},{"$f":"SUM(W171:W171,W176)","v":60000},{"$f":"SUM(X171:X171,X176)","v":60000},{"$f":"SUM(Y171:Y171,Y176)","v":120000},{"$f":"SUM(Z171:Z171,Z176)","v":5000},{"$f":"SUM(AA171:AA171,AA176)","v":8000},{"$f":"SUM(AB171:AB171,AB176)","v":29310},{"$f":"SUM(AC171:AC171,AC176)","v":0},{"$f":"SUM(AD171:AD171,AD176)","v":0},5100,11200,10610,0,2400,null,"k",6.0935550935550933E-2]
["k162",162,null,"i) Különféle egyéb ráfordítások (163..166)",null,null,null,null,null,null,null,null,null,null,null,null,null,null,null,{"$f":"SUM(T172:T175)","v":0},{"$f":"SUM(U172:U175)","v":0},{"$f":"SUM(V172:V175)","v":0},{"$f":"SUM(W172:W175)","v":0},{"$f":"SUM(X172:X175)","v":0},{"$f":"SUM(Y172:Y175)","v":0},{"$f":"SUM(Z172:Z175)","v":0},{"$f":"SUM(AA172:AA175)","v":0},{"$f":"SUM(AB172:AB175)","v":0},{"$f":"SUM(AC172:AC175)","v":0},{"$f":"SUM(AD172:AD175)","v":0},0,0,0,0,0,null,"k",""]
["k163",163,null,"Adók, illetékek, hozzájárulások",null,null,null,null,null,null,null,null,null,null,null,null,null,null,null,{"$f":"SUM(U172:AA172)","v":0},{"$f":"SUMIF('Terv-segédlet'!$B:$B,$A172,'Terv-segédlet'!E:E)","v":0},{"$f":"SUMIF('Terv-segédlet'!$B:$B,$A172,'Terv-segédlet'!F:F)","v":0},{"$f":"SUMIF('Terv-segédlet'!$B:$B,$A172,'Terv-segédlet'!G:G)","v":0},{"$f":"SUMIF('Terv-segédlet'!$B:$B,$A172,'Terv-segédlet'!H:H)","v":0},{"$f":"SUMIF('Terv-segédlet'!$B:$B,$A172,'Terv-segédlet'!I:I)","v":0},{"$f":"SUMIF('Terv-segédlet'!$B:$B,$A172,'Terv-segédlet'!J:J)","v":0},{"$f":"SUMIF('Terv-segédlet'!$B:$B,$A172,'Terv-segédlet'!K:K)","v":0},{"$f":"SUM(AC172:AI172)","v":0},{"$f":"SUMIF(V!$A:$A,$A172,V!$L:$L)+SUMIF(bank!$A:$A,AC$9&$A172,bank!$N:$N)","v":0},{"$f":"SUMIF(Gy!$A:$A,$A172,Gy!$L:$L)+SUMIF(bank!$A:$A,AD$9&$A172,bank!$N:$N)","v":0},{"$f":"SUMIF(K!$A:$A,$A172,K!$L:$L)+SUMIF(bank!$A:$A,AE$9&$A172,bank!$N:$N)","v":0},{"$f":"SUMIF(Mk!$A:$A,$A172,Mk!$L:$L)+SUMIF(bank!$A:$A,AF$9&$A172,bank!$N:$N)","v":0},{"$f":"SUMIF(M!$A:$A,$A172,M!$L:$L)+SUMIF(bank!$A:$A,AG$9&$A172,bank!$N:$N)","v":0},{"$f":"SUMIF(P!$A:$A,$A172,P!$L:$L)+SUMIF(bank!$A:$A,AH$9&$A172,bank!$N:$N)","v":0},{"$f":"SUMIF(Zs!$A:$A,$A172,Zs!$L:$L)+SUMIF(bank!$A:$A,AI$9&$A172,bank!$N:$N)","v":0},"*","k","","pl. helyi adók"]
["k164",164,null,"Káreseménnyel kapcsolatos fizetések, fizetendő összege, káresemények ráfordítása",null,null,null,null,null,null,null,null,null,null,null,null,null,null,null,0,{"$f":"SUMIF('Terv-segédlet'!$B:$B,$A173,'Terv-segédlet'!E:E)","v":0},{"$f":"SUMIF('Terv-segédlet'!$B:$B,$A173,'Terv-segédlet'!F:F)","v":0},{"$f":"SUMIF('Terv-segédlet'!$B:$B,$A173,'Terv-segédlet'!G:G)","v":0},{"$f":"SUMIF('Terv-segédlet'!$B:$B,$A173,'Terv-segédlet'!H:H)","v":0},{"$f":"SUMIF('Terv-segédlet'!$B:$B,$A173,'Terv-segédlet'!I:I)","v":0},{"$f":"SUMIF('Terv-segédlet'!$B:$B,$A173,'Terv-segédlet'!J:J)","v":0},{"$f":"SUMIF('Terv-segédlet'!$B:$B,$A173,'Terv-segédlet'!K:K)","v":0},0,{"$f":"SUMIF(V!$A:$A,$A173,V!$L:$L)+SUMIF(bank!$A:$A,AC$9&$A173,bank!$N:$N)","v":0},{"$f":"SUMIF(Gy!$A:$A,$A173,Gy!$L:$L)+SUMIF(bank!$A:$A,AD$9&$A173,bank!$N:$N)","v":0},{"$f":"SUMIF(K!$A:$A,$A173,K!$L:$L)+SUMIF(bank!$A:$A,AE$9&$A173,bank!$N:$N)","v":0},{"$f":"SUMIF(Mk!$A:$A,$A173,Mk!$L:$L)+SUMIF(bank!$A:$A,AF$9&$A173,bank!$N:$N)","v":0},{"$f":"SUMIF(M!$A:$A,$A173,M!$L:$L)+SUMIF(bank!$A:$A,AG$9&$A173,bank!$N:$N)","v":0},{"$f":"SUMIF(P!$A:$A,$A173,P!$L:$L)+SUMIF(bank!$A:$A,AH$9&$A173,bank!$N:$N)","v":0},{"$f":"SUMIF(Zs!$A:$A,$A173,Zs!$L:$L)+SUMIF(bank!$A:$A,AI$9&$A173,bank!$N:$N)","v":0},"*","k","","fizetett kártérítési kötelezettség"]
["k165",165,null,"Bírságok, kötbérek, késedelmi kamatok, kártérítések",null,null,null,null,null,null,null,null,null,null,null,null,null,null,null,0,{"$f":"SUMIF('Terv-segédlet'!$B:$B,$A174,'Terv-segédlet'!E:E)","v":0},{"$f":"SUMIF('Terv-segédlet'!$B:$B,$A174,'Terv-segédlet'!F:F)","v":0},{"$f":"SUMIF('Terv-segédlet'!$B:$B,$A174,'Terv-segédlet'!G:G)","v":0},{"$f":"SUMIF('Terv-segédlet'!$B:$B,$A174,'Terv-segédlet'!H:H)","v":0},{"$f":"SUMIF('Terv-segédlet'!$B:$B,$A174,'Terv-segédlet'!I:I)","v":0},{"$f":"SUMIF('Terv-segédlet'!$B:$B,$A174,'Terv-segédlet'!J:J)","v":0},{"$f":"SUMIF('Terv-segédlet'!$B:$B,$A174,'Terv-segédlet'!K:K)","v":0},0,{"$f":"SUMIF(V!$A:$A,$A174,V!$L:$L)+SUMIF(bank!$A:$A,AC$9&$A174,bank!$N:$N)","v":0},{"$f":"SUMIF(Gy!$A:$A,$A174,Gy!$L:$L)+SUMIF(bank!$A:$A,AD$9&$A174,bank!$N:$N)","v":0},{"$f":"SUMIF(K!$A:$A,$A174,K!$L:$L)+SUMIF(bank!$A:$A,AE$9&$A174,bank!$N:$N)","v":0},{"$f":"SUMIF(Mk!$A:$A,$A174,Mk!$L:$L)+SUMIF(bank!$A:$A,AF$9&$A174,bank!$N:$N)","v":0},{"$f":"SUMIF(M!$A:$A,$A174,M!$L:$L)+SUMIF(bank!$A:$A,AG$9&$A174,bank!$N:$N)","v":0},{"$f":"SUMIF(P!$A:$A,$A174,P!$L:$L)+SUMIF(bank!$A:$A,AH$9&$A174,bank!$N:$N)","v":0},{"$f":"SUMIF(Zs!$A:$A,$A174,Zs!$L:$L)+SUMIF(bank!$A:$A,AI$9&$A174,bank!$N:$N)","v":0},"*","k","","késedelmi kamat, bírság, kötbér, stb."]
["k166",166,null,"Más különféle egyéb ráfordítások",null,null,null,null,null,null,null,null,null,null,null,null,null,null,null,0,{"$f":"SUMIF('Terv-segédlet'!$B:$B,$A175,'Terv-segédlet'!E:E)","v":0},{"$f":"SUMIF('Terv-segédlet'!$B:$B,$A175,'Terv-segédlet'!F:F)","v":0},{"$f":"SUMIF('Terv-segédlet'!$B:$B,$A175,'Terv-segédlet'!G:G)","v":0},{"$f":"SUMIF('Terv-segédlet'!$B:$B,$A175,'Terv-segédlet'!H:H)","v":0},{"$f":"SUMIF('Terv-segédlet'!$B:$B,$A175,'Terv-segédlet'!I:I)","v":0},{"$f":"SUMIF('Terv-segédlet'!$B:$B,$A175,'Terv-segédlet'!J:J)","v":0},{"$f":"SUMIF('Terv-segédlet'!$B:$B,$A175,'Terv-segédlet'!K:K)","v":0},0,{"$f":"SUMIF(V!$A:$A,$A175,V!$L:$L)+SUMIF(bank!$A:$A,AC$9&$A175,bank!$N:$N)","v":0},{"$f":"SUMIF(Gy!$A:$A,$A175,Gy!$L:$L)+SUMIF(bank!$A:$A,AD$9&$A175,bank!$N:$N)","v":0},{"$f":"SUMIF(K!$A:$A,$A175,K!$L:$L)+SUMIF(bank!$A:$A,AE$9&$A175,bank!$N:$N)","v":0},{"$f":"SUMIF(Mk!$A:$A,$A175,Mk!$L:$L)+SUMIF(bank!$A:$A,AF$9&$A175,bank!$N:$N)","v":0},{"$f":"SUMIF(M!$A:$A,$A175,M!$L:$L)+SUMIF(bank!$A:$A,AG$9&$A175,bank!$N:$N)","v":0},{"$f":"SUMIF(P!$A:$A,$A175,P!$L:$L)+SUMIF(bank!$A:$A,AH$9&$A175,bank!$N:$N)","v":0},{"$f":"SUMIF(Zs!$A:$A,$A175,Zs!$L:$L)+SUMIF(bank!$A:$A,AI$9&$A175,bank!$N:$N)","v":0},"*","k","","pl. kerekítés"]
["k167",167,null,"ii) Adott, átadott támogatások (168+174+179)",null,null,null,null,null,null,null,null,null,null,null,null,null,null,null,{"$f":"SUM(T177,T183,T188)","v":481000},{"$f":"SUM(U177,U183,U188)","v":223000},{"$f":"SUM(V177,V183,V188)","v":5000},{"$f":"SUM(W177,W183,W188)","v":60000},{"$f":"SUM(X177,X183,X188)","v":60000},{"$f":"SUM(Y177,Y183,Y188)","v":120000},{"$f":"SUM(Z177,Z183,Z188)","v":5000},{"$f":"SUM(AA177,AA183,AA188)","v":8000},{"$f":"SUM(AB177,AB183,AB188)","v":29310},{"$f":"SUM(AC177,AC183,AC188)","v":0},{"$f":"SUM(AD177,AD183,AD188)","v":0},5100,11200,10610,0,2400,null,"k",6.0935550935550933E-2]
["k168",168,null,"a ) Egyházi támogatás (169+173)",null,null,null,null,null,null,null,null,null,null,null,null,null,null,null,{"$f":"SUM(T182,T178)","v":143000},{"$f":"SUM(U182,U178)","v":143000},{"$f":"SUM(V182,V178)","v":0},{"$f":"SUM(W182,W178)","v":0},{"$f":"SUM(X182,X178)","v":0},{"$f":"SUM(Y182,Y178)","v":0},{"$f":"SUM(Z182,Z178)","v":0},{"$f":"SUM(AA182,AA178)","v":0},{"$f":"SUM(AB182,AB178)","v":0},{"$f":"SUM(AC182,AC178)","v":0},{"$f":"SUM(AD182,AD178)","v":0},0,0,0,0,0,null,"k",0]
["k169",169,null,"aa) Belföldi egyházi jogi személynek (170..172)",null,null,null,null,null,null,null,null,null,null,null,null,null,null,null,{"$f":"SUM(T179:T181)","v":143000},{"$f":"SUM(U179:U181)","v":143000},{"$f":"SUM(V179:V181)","v":0},{"$f":"SUM(W179:W181)","v":0},{"$f":"SUM(X179:X181)","v":0},{"$f":"SUM(Y179:Y181)","v":0},{"$f":"SUM(Z179:Z181)","v":0},{"$f":"SUM(AA179:AA181)","v":0},{"$f":"SUM(AB179:AB181)","v":0},{"$f":"SUM(AC179:AC181)","v":0},{"$f":"SUM(AD179:AD181)","v":0},0,0,0,0,0,null,"k",0]
["k170",170,null,"-Egyházmegyei járulék",null,null,null,null,null,null,null,null,null,null,null,null,null,null,null,{"$f":"SUM(U179:AA179)","v":131000},{"$f":"SUMIF('Terv-segédlet'!$B:$B,$A179,'Terv-segédlet'!E:E)","v":131000},{"$f":"SUMIF('Terv-segédlet'!$B:$B,$A179,'Terv-segédlet'!F:F)","v":0},{"$f":"SUMIF('Terv-segédlet'!$B:$B,$A179,'Terv-segédlet'!G:G)","v":0},{"$f":"SUMIF('Terv-segédlet'!$B:$B,$A179,'Terv-segédlet'!H:H)","v":0},{"$f":"SUMIF('Terv-segédlet'!$B:$B,$A179,'Terv-segédlet'!I:I)","v":0},{"$f":"SUMIF('Terv-segédlet'!$B:$B,$A179,'Terv-segédlet'!J:J)","v":0},{"$f":"SUMIF('Terv-segédlet'!$B:$B,$A179,'Terv-segédlet'!K:K)","v":0},{"$f":"SUM(AC179:AI179)","v":0},{"$f":"SUMIF(V!$A:$A,$A179,V!$L:$L)+SUMIF(bank!$A:$A,AC$9&$A179,bank!$N:$N)","v":0},{"$f":"SUMIF(Gy!$A:$A,$A179,Gy!$L:$L)+SUMIF(bank!$A:$A,AD$9&$A179,bank!$N:$N)","v":0},{"$f":"SUMIF(K!$A:$A,$A179,K!$L:$L)+SUMIF(bank!$A:$A,AE$9&$A179,bank!$N:$N)","v":0},{"$f":"SUMIF(Mk!$A:$A,$A179,Mk!$L:$L)+SUMIF(bank!$A:$A,AF$9&$A179,bank!$N:$N)","v":0},{"$f":"SUMIF(M!$A:$A,$A179,M!$L:$L)+SUMIF(bank!$A:$A,AG$9&$A179,bank!$N:$N)","v":0},{"$f":"SUMIF(P!$A:$A,$A179,P!$L:$L)+SUMIF(bank!$A:$A,AH$9&$A179,bank!$N:$N)","v":0},{"$f":"SUMIF(Zs!$A:$A,$A179,Zs!$L:$L)+SUMIF(bank!$A:$A,AI$9&$A179,bank!$N:$N)","v":0},"*","k",0,"egyházmegyének befizetett egházfenntartói járulék"]
["k171",171,null,"-Saját fenntartású intézménynek adott támogatás",null,null,null,null,null,null,null,null,null,null,null,null,null,null,null,0,{"$f":"SUMIF('Terv-segédlet'!$B:$B,$A180,'Terv-segédlet'!E:E)","v":0},{"$f":"SUMIF('Terv-segédlet'!$B:$B,$A180,'Terv-segédlet'!F:F)","v":0},{"$f":"SUMIF('Terv-segédlet'!$B:$B,$A180,'Terv-segédlet'!G:G)","v":0},{"$f":"SUMIF('Terv-segédlet'!$B:$B,$A180,'Terv-segédlet'!H:H)","v":0},{"$f":"SUMIF('Terv-segédlet'!$B:$B,$A180,'Terv-segédlet'!I:I)","v":0},{"$f":"SUMIF('Terv-segédlet'!$B:$B,$A180,'Terv-segédlet'!J:J)","v":0},{"$f":"SUMIF('Terv-segédlet'!$B:$B,$A180,'Terv-segédlet'!K:K)","v":0},0,{"$f":"SUMIF(V!$A:$A,$A180,V!$L:$L)+SUMIF(bank!$A:$A,AC$9&$A180,bank!$N:$N)","v":0},{"$f":"SUMIF(Gy!$A:$A,$A180,Gy!$L:$L)+SUMIF(bank!$A:$A,AD$9&$A180,bank!$N:$N)","v":0},{"$f":"SUMIF(K!$A:$A,$A180,K!$L:$L)+SUMIF(bank!$A:$A,AE$9&$A180,bank!$N:$N)","v":0},{"$f":"SUMIF(Mk!$A:$A,$A180,Mk!$L:$L)+SUMIF(bank!$A:$A,AF$9&$A180,bank!$N:$N)","v":0},{"$f":"SUMIF(M!$A:$A,$A180,M!$L:$L)+SUMIF(bank!$A:$A,AG$9&$A180,bank!$N:$N)","v":0},{"$f":"SUMIF(P!$A:$A,$A180,P!$L:$L)+SUMIF(bank!$A:$A,AH$9&$A180,bank!$N:$N)","v":0},{"$f":"SUMIF(Zs!$A:$A,$A180,Zs!$L:$L)+SUMIF(bank!$A:$A,AI$9&$A180,bank!$N:$N)","v":0},"*","k","","saját fenntartású intézménynek támogatás címén átadott saját bevétel"]
["k172",172,null,"-Más egyházi jogi személynek adott támogatás",null,null,null,null,null,null,null,null,null,null,null,null,null,null,null,12000,{"$f":"SUMIF('Terv-segédlet'!$B:$B,$A181,'Terv-segédlet'!E:E)","v":12000},{"$f":"SUMIF('Terv-segédlet'!$B:$B,$A181,'Terv-segédlet'!F:F)","v":0},{"$f":"SUMIF('Terv-segédlet'!$B:$B,$A181,'Terv-segédlet'!G:G)","v":0},{"$f":"SUMIF('Terv-segédlet'!$B:$B,$A181,'Terv-segédlet'!H:H)","v":0},{"$f":"SUMIF('Terv-segédlet'!$B:$B,$A181,'Terv-segédlet'!I:I)","v":0},{"$f":"SUMIF('Terv-segédlet'!$B:$B,$A181,'Terv-segédlet'!J:J)","v":0},{"$f":"SUMIF('Terv-segédlet'!$B:$B,$A181,'Terv-segédlet'!K:K)","v":0},0,{"$f":"SUMIF(V!$A:$A,$A181,V!$L:$L)+SUMIF(bank!$A:$A,AC$9&$A181,bank!$N:$N)","v":0},{"$f":"SUMIF(Gy!$A:$A,$A181,Gy!$L:$L)+SUMIF(bank!$A:$A,AD$9&$A181,bank!$N:$N)","v":0},{"$f":"SUMIF(K!$A:$A,$A181,K!$L:$L)+SUMIF(bank!$A:$A,AE$9&$A181,bank!$N:$N)","v":0},{"$f":"SUMIF(Mk!$A:$A,$A181,Mk!$L:$L)+SUMIF(bank!$A:$A,AF$9&$A181,bank!$N:$N)","v":0},{"$f":"SUMIF(M!$A:$A,$A181,M!$L:$L)+SUMIF(bank!$A:$A,AG$9&$A181,bank!$N:$N)","v":0},{"$f":"SUMIF(P!$A:$A,$A181,P!$L:$L)+SUMIF(bank!$A:$A,AH$9&$A181,bank!$N:$N)","v":0},{"$f":"SUMIF(Zs!$A:$A,$A181,Zs!$L:$L)+SUMIF(bank!$A:$A,AI$9&$A181,bank!$N:$N)","v":0},"*","k",0,"más egyházmegyének, egyházközségnek, egyházi intézménynek, országos egyháznak adott támogatás"]
["k173",173,null,"ab) Külföldi egyháznak",null,null,null,null,null,null,null,null,null,null,null,null,null,null,null,0,{"$f":"SUMIF('Terv-segédlet'!$B:$B,$A182,'Terv-segédlet'!E:E)","v":0},{"$f":"SUMIF('Terv-segédlet'!$B:$B,$A182,'Terv-segédlet'!F:F)","v":0},{"$f":"SUMIF('Terv-segédlet'!$B:$B,$A182,'Terv-segédlet'!G:G)","v":0},{"$f":"SUMIF('Terv-segédlet'!$B:$B,$A182,'Terv-segédlet'!H:H)","v":0},{"$f":"SUMIF('Terv-segédlet'!$B:$B,$A182,'Terv-segédlet'!I:I)","v":0},{"$f":"SUMIF('Terv-segédlet'!$B:$B,$A182,'Terv-segédlet'!J:J)","v":0},{"$f":"SUMIF('Terv-segédlet'!$B:$B,$A182,'Terv-segédlet'!K:K)","v":0},0,{"$f":"SUMIF(V!$A:$A,$A182,V!$L:$L)+SUMIF(bank!$A:$A,AC$9&$A182,bank!$N:$N)","v":0},{"$f":"SUMIF(Gy!$A:$A,$A182,Gy!$L:$L)+SUMIF(bank!$A:$A,AD$9&$A182,bank!$N:$N)","v":0},{"$f":"SUMIF(K!$A:$A,$A182,K!$L:$L)+SUMIF(bank!$A:$A,AE$9&$A182,bank!$N:$N)","v":0},{"$f":"SUMIF(Mk!$A:$A,$A182,Mk!$L:$L)+SUMIF(bank!$A:$A,AF$9&$A182,bank!$N:$N)","v":0},{"$f":"SUMIF(M!$A:$A,$A182,M!$L:$L)+SUMIF(bank!$A:$A,AG$9&$A182,bank!$N:$N)","v":0},{"$f":"SUMIF(P!$A:$A,$A182,P!$L:$L)+SUMIF(bank!$A:$A,AH$9&$A182,bank!$N:$N)","v":0},{"$f":"SUMIF(Zs!$A:$A,$A182,Zs!$L:$L)+SUMIF(bank!$A:$A,AI$9&$A182,bank!$N:$N)","v":0},"*","k","","külföldi testvérgyülekezetnek, GAW, LVSZ, stb. adott támogatás"]
["k174",174,null,"b) Központi költségvetés (175..178)",null,null,null,null,null,null,null,null,null,null,null,null,null,null,null,{"$f":"SUM(T184:T187)","v":0},{"$f":"SUM(U184:U187)","v":0},{"$f":"SUM(V184:V187)","v":0},{"$f":"SUM(W184:W187)","v":0},{"$f":"SUM(X184:X187)","v":0},{"$f":"SUM(Y184:Y187)","v":0},{"$f":"SUM(Z184:Z187)","v":0},{"$f":"SUM(AA184:AA187)","v":0},{"$f":"SUM(AB184:AB187)","v":0},{"$f":"SUM(AC184:AC187)","v":0},{"$f":"SUM(AD184:AD187)","v":0},0,0,0,0,0,null,"k",""]
["k175",175,null,"-Köznevelési támogatás átadása",null,null,null,null,null,null,null,null,null,null,null,null,null,null,null,{"$f":"SUM(U184:AA184)","v":0},{"$f":"SUMIF('Terv-segédlet'!$B:$B,$A184,'Terv-segédlet'!E:E)","v":0},{"$f":"SUMIF('Terv-segédlet'!$B:$B,$A184,'Terv-segédlet'!F:F)","v":0},{"$f":"SUMIF('Terv-segédlet'!$B:$B,$A184,'Terv-segédlet'!G:G)","v":0},{"$f":"SUMIF('Terv-segédlet'!$B:$B,$A184,'Terv-segédlet'!H:H)","v":0},{"$f":"SUMIF('Terv-segédlet'!$B:$B,$A184,'Terv-segédlet'!I:I)","v":0},{"$f":"SUMIF('Terv-segédlet'!$B:$B,$A184,'Terv-segédlet'!J:J)","v":0},{"$f":"SUMIF('Terv-segédlet'!$B:$B,$A184,'Terv-segédlet'!K:K)","v":0},{"$f":"SUM(AC184:AI184)","v":0},{"$f":"SUMIF(V!$A:$A,$A184,V!$L:$L)+SUMIF(bank!$A:$A,AC$9&$A184,bank!$N:$N)","v":0},{"$f":"SUMIF(Gy!$A:$A,$A184,Gy!$L:$L)+SUMIF(bank!$A:$A,AD$9&$A184,bank!$N:$N)","v":0},{"$f":"SUMIF(K!$A:$A,$A184,K!$L:$L)+SUMIF(bank!$A:$A,AE$9&$A184,bank!$N:$N)","v":0},{"$f":"SUMIF(Mk!$A:$A,$A184,Mk!$L:$L)+SUMIF(bank!$A:$A,AF$9&$A184,bank!$N:$N)","v":0},{"$f":"SUMIF(M!$A:$A,$A184,M!$L:$L)+SUMIF(bank!$A:$A,AG$9&$A184,bank!$N:$N)","v":0},{"$f":"SUMIF(P!$A:$A,$A184,P!$L:$L)+SUMIF(bank!$A:$A,AH$9&$A184,bank!$N:$N)","v":0},{"$f":"SUMIF(Zs!$A:$A,$A184,Zs!$L:$L)+SUMIF(bank!$A:$A,AI$9&$A184,bank!$N:$N)","v":0},"*","k","","saját fenntartású köznevelési intézménynek továbbadott állami támogatás"]
["k176",176,null,"-Szociális támogatás átadása",null,null,null,null,null,null,null,null,null,null,null,null,null,null,null,0,{"$f":"SUMIF('Terv-segédlet'!$B:$B,$A185,'Terv-segédlet'!E:E)","v":0},{"$f":"SUMIF('Terv-segédlet'!$B:$B,$A185,'Terv-segédlet'!F:F)","v":0},{"$f":"SUMIF('Terv-segédlet'!$B:$B,$A185,'Terv-segédlet'!G:G)","v":0},{"$f":"SUMIF('Terv-segédlet'!$B:$B,$A185,'Terv-segédlet'!H:H)","v":0},{"$f":"SUMIF('Terv-segédlet'!$B:$B,$A185,'Terv-segédlet'!I:I)","v":0},{"$f":"SUMIF('Terv-segédlet'!$B:$B,$A185,'Terv-segédlet'!J:J)","v":0},{"$f":"SUMIF('Terv-segédlet'!$B:$B,$A185,'Terv-segédlet'!K:K)","v":0},0,{"$f":"SUMIF(V!$A:$A,$A185,V!$L:$L)+SUMIF(bank!$A:$A,AC$9&$A185,bank!$N:$N)","v":0},{"$f":"SUMIF(Gy!$A:$A,$A185,Gy!$L:$L)+SUMIF(bank!$A:$A,AD$9&$A185,bank!$N:$N)","v":0},{"$f":"SUMIF(K!$A:$A,$A185,K!$L:$L)+SUMIF(bank!$A:$A,AE$9&$A185,bank!$N:$N)","v":0},{"$f":"SUMIF(Mk!$A:$A,$A185,Mk!$L:$L)+SUMIF(bank!$A:$A,AF$9&$A185,bank!$N:$N)","v":0},{"$f":"SUMIF(M!$A:$A,$A185,M!$L:$L)+SUMIF(bank!$A:$A,AG$9&$A185,bank!$N:$N)","v":0},{"$f":"SUMIF(P!$A:$A,$A185,P!$L:$L)+SUMIF(bank!$A:$A,AH$9&$A185,bank!$N:$N)","v":0},{"$f":"SUMIF(Zs!$A:$A,$A185,Zs!$L:$L)+SUMIF(bank!$A:$A,AI$9&$A185,bank!$N:$N)","v":0},"*","k","","saját fenntartású szociális intézménynek továbbadott állami támogatás"]
["k177",177,null,"-Hitoktatási, munkaügyi költségvetési támogatás átadása",null,null,null,null,null,null,null,null,null,null,null,null,null,null,null,0,{"$f":"SUMIF('Terv-segédlet'!$B:$B,$A186,'Terv-segédlet'!E:E)","v":0},{"$f":"SUMIF('Terv-segédlet'!$B:$B,$A186,'Terv-segédlet'!F:F)","v":0},{"$f":"SUMIF('Terv-segédlet'!$B:$B,$A186,'Terv-segédlet'!G:G)","v":0},{"$f":"SUMIF('Terv-segédlet'!$B:$B,$A186,'Terv-segédlet'!H:H)","v":0},{"$f":"SUMIF('Terv-segédlet'!$B:$B,$A186,'Terv-segédlet'!I:I)","v":0},{"$f":"SUMIF('Terv-segédlet'!$B:$B,$A186,'Terv-segédlet'!J:J)","v":0},{"$f":"SUMIF('Terv-segédlet'!$B:$B,$A186,'Terv-segédlet'!K:K)","v":0},0,{"$f":"SUMIF(V!$A:$A,$A186,V!$L:$L)+SUMIF(bank!$A:$A,AC$9&$A186,bank!$N:$N)","v":0},{"$f":"SUMIF(Gy!$A:$A,$A186,Gy!$L:$L)+SUMIF(bank!$A:$A,AD$9&$A186,bank!$N:$N)","v":0},{"$f":"SUMIF(K!$A:$A,$A186,K!$L:$L)+SUMIF(bank!$A:$A,AE$9&$A186,bank!$N:$N)","v":0},{"$f":"SUMIF(Mk!$A:$A,$A186,Mk!$L:$L)+SUMIF(bank!$A:$A,AF$9&$A186,bank!$N:$N)","v":0},{"$f":"SUMIF(M!$A:$A,$A186,M!$L:$L)+SUMIF(bank!$A:$A,AG$9&$A186,bank!$N:$N)","v":0},{"$f":"SUMIF(P!$A:$A,$A186,P!$L:$L)+SUMIF(bank!$A:$A,AH$9&$A186,bank!$N:$N)","v":0},{"$f":"SUMIF(Zs!$A:$A,$A186,Zs!$L:$L)+SUMIF(bank!$A:$A,AI$9&$A186,bank!$N:$N)","v":0},"*","k","","támogatásként továbbadott hitoktatási támogatás, munkaügyi támogatás"]
["k178",178,null,"-Egyéb központi költségvetési támogatás átadása",null,null,null,null,null,null,null,null,null,null,null,null,null,null,null,0,{"$f":"SUMIF('Terv-segédlet'!$B:$B,$A187,'Terv-segédlet'!E:E)","v":0},{"$f":"SUMIF('Terv-segédlet'!$B:$B,$A187,'Terv-segédlet'!F:F)","v":0},{"$f":"SUMIF('Terv-segédlet'!$B:$B,$A187,'Terv-segédlet'!G:G)","v":0},{"$f":"SUMIF('Terv-segédlet'!$B:$B,$A187,'Terv-segédlet'!H:H)","v":0},{"$f":"SUMIF('Terv-segédlet'!$B:$B,$A187,'Terv-segédlet'!I:I)","v":0},{"$f":"SUMIF('Terv-segédlet'!$B:$B,$A187,'Terv-segédlet'!J:J)","v":0},{"$f":"SUMIF('Terv-segédlet'!$B:$B,$A187,'Terv-segédlet'!K:K)","v":0},0,{"$f":"SUMIF(V!$A:$A,$A187,V!$L:$L)+SUMIF(bank!$A:$A,AC$9&$A187,bank!$N:$N)","v":0},{"$f":"SUMIF(Gy!$A:$A,$A187,Gy!$L:$L)+SUMIF(bank!$A:$A,AD$9&$A187,bank!$N:$N)","v":0},{"$f":"SUMIF(K!$A:$A,$A187,K!$L:$L)+SUMIF(bank!$A:$A,AE$9&$A187,bank!$N:$N)","v":0},{"$f":"SUMIF(Mk!$A:$A,$A187,Mk!$L:$L)+SUMIF(bank!$A:$A,AF$9&$A187,bank!$N:$N)","v":0},{"$f":"SUMIF(M!$A:$A,$A187,M!$L:$L)+SUMIF(bank!$A:$A,AG$9&$A187,bank!$N:$N)","v":0},{"$f":"SUMIF(P!$A:$A,$A187,P!$L:$L)+SUMIF(bank!$A:$A,AH$9&$A187,bank!$N:$N)","v":0},{"$f":"SUMIF(Zs!$A:$A,$A187,Zs!$L:$L)+SUMIF(bank!$A:$A,AI$9&$A187,bank!$N:$N)","v":0},"*","k","","támogatásként továbbadott egyéb állami támogatás"]
["k179",179,null,"c) Egyéb támogatások (180+183)",null,null,null,null,null,null,null,null,null,null,null,null,null,null,null,{"$f":"SUM(T189,T192)","v":338000},{"$f":"SUM(U189,U192)","v":80000},{"$f":"SUM(V189,V192)","v":5000},{"$f":"SUM(W189,W192)","v":60000},{"$f":"SUM(X189,X192)","v":60000},{"$f":"SUM(Y189,Y192)","v":120000},{"$f":"SUM(Z189,Z192)","v":5000},{"$f":"SUM(AA189,AA192)","v":8000},{"$f":"SUM(AB189,AB192)","v":29310},{"$f":"SUM(AC189,AC192)","v":0},{"$f":"SUM(AD189,AD192)","v":0},5100,11200,10610,0,2400,null,"k",8.6715976331360953E-2]
["k180",180,null,"ca) Gazdálkodó szerveknek (181..182)",null,null,null,null,null,null,null,null,null,null,null,null,null,null,null,{"$f":"SUM(T190:T191)","v":0},{"$f":"SUM(U190:U191)","v":0},{"$f":"SUM(V190:V191)","v":0},{"$f":"SUM(W190:W191)","v":0},{"$f":"SUM(X190:X191)","v":0},{"$f":"SUM(Y190:Y191)","v":0},{"$f":"SUM(Z190:Z191)","v":0},{"$f":"SUM(AA190:AA191)","v":0},{"$f":"SUM(AB190:AB191)","v":0},{"$f":"SUM(AC190:AC191)","v":0},{"$f":"SUM(AD190:AD191)","v":0},0,0,0,0,0,null,"k",""]
["k181",181,null,"-Saját alapítványnak",null,null,null,null,null,null,null,null,null,null,null,null,null,null,null,{"$f":"SUM(U190:AA190)","v":0},{"$f":"SUMIF('Terv-segédlet'!$B:$B,$A190,'Terv-segédlet'!E:E)","v":0},{"$f":"SUMIF('Terv-segédlet'!$B:$B,$A190,'Terv-segédlet'!F:F)","v":0},{"$f":"SUMIF('Terv-segédlet'!$B:$B,$A190,'Terv-segédlet'!G:G)","v":0},{"$f":"SUMIF('Terv-segédlet'!$B:$B,$A190,'Terv-segédlet'!H:H)","v":0},{"$f":"SUMIF('Terv-segédlet'!$B:$B,$A190,'Terv-segédlet'!I:I)","v":0},{"$f":"SUMIF('Terv-segédlet'!$B:$B,$A190,'Terv-segédlet'!J:J)","v":0},{"$f":"SUMIF('Terv-segédlet'!$B:$B,$A190,'Terv-segédlet'!K:K)","v":0},{"$f":"SUM(AC190:AI190)","v":0},{"$f":"SUMIF(V!$A:$A,$A190,V!$L:$L)+SUMIF(bank!$A:$A,AC$9&$A190,bank!$N:$N)","v":0},{"$f":"SUMIF(Gy!$A:$A,$A190,Gy!$L:$L)+SUMIF(bank!$A:$A,AD$9&$A190,bank!$N:$N)","v":0},{"$f":"SUMIF(K!$A:$A,$A190,K!$L:$L)+SUMIF(bank!$A:$A,AE$9&$A190,bank!$N:$N)","v":0},{"$f":"SUMIF(Mk!$A:$A,$A190,Mk!$L:$L)+SUMIF(bank!$A:$A,AF$9&$A190,bank!$N:$N)","v":0},{"$f":"SUMIF(M!$A:$A,$A190,M!$L:$L)+SUMIF(bank!$A:$A,AG$9&$A190,bank!$N:$N)","v":0},{"$f":"SUMIF(P!$A:$A,$A190,P!$L:$L)+SUMIF(bank!$A:$A,AH$9&$A190,bank!$N:$N)","v":0},{"$f":"SUMIF(Zs!$A:$A,$A190,Zs!$L:$L)+SUMIF(bank!$A:$A,AI$9&$A190,bank!$N:$N)","v":0},"*","k","","egyházközség által létrehozott saját alapítványnak adott támogatás"]
["k182",182,null,"-Egyéb","Értékesített, átruházott (engedményezett) követelések könyv szerinti értéke",null,null,null,null,null,null,null,null,null,null,null,null,null,null,0,{"$f":"SUMIF('Terv-segédlet'!$B:$B,$A191,'Terv-segédlet'!E:E)","v":0},{"$f":"SUMIF('Terv-segédlet'!$B:$B,$A191,'Terv-segédlet'!F:F)","v":0},{"$f":"SUMIF('Terv-segédlet'!$B:$B,$A191,'Terv-segédlet'!G:G)","v":0},{"$f":"SUMIF('Terv-segédlet'!$B:$B,$A191,'Terv-segédlet'!H:H)","v":0},{"$f":"SUMIF('Terv-segédlet'!$B:$B,$A191,'Terv-segédlet'!I:I)","v":0},{"$f":"SUMIF('Terv-segédlet'!$B:$B,$A191,'Terv-segédlet'!J:J)","v":0},{"$f":"SUMIF('Terv-segédlet'!$B:$B,$A191,'Terv-segédlet'!K:K)","v":0},0,{"$f":"SUMIF(V!$A:$A,$A191,V!$L:$L)+SUMIF(bank!$A:$A,AC$9&$A191,bank!$N:$N)","v":0},{"$f":"SUMIF(Gy!$A:$A,$A191,Gy!$L:$L)+SUMIF(bank!$A:$A,AD$9&$A191,bank!$N:$N)","v":0},{"$f":"SUMIF(K!$A:$A,$A191,K!$L:$L)+SUMIF(bank!$A:$A,AE$9&$A191,bank!$N:$N)","v":0},{"$f":"SUMIF(Mk!$A:$A,$A191,Mk!$L:$L)+SUMIF(bank!$A:$A,AF$9&$A191,bank!$N:$N)","v":0},{"$f":"SUMIF(M!$A:$A,$A191,M!$L:$L)+SUMIF(bank!$A:$A,AG$9&$A191,bank!$N:$N)","v":0},{"$f":"SUMIF(P!$A:$A,$A191,P!$L:$L)+SUMIF(bank!$A:$A,AH$9&$A191,bank!$N:$N)","v":0},{"$f":"SUMIF(Zs!$A:$A,$A191,Zs!$L:$L)+SUMIF(bank!$A:$A,AI$9&$A191,bank!$N:$N)","v":0},"*","k","","vállalkozásoknak, egyéb alapítványoknak, társadalmi szervezeteknek adott támogatás"]
["k183",183,null,"cb) Továbbítandó egyéb támogatások, bevételek átadása","Közoktatási normatív támogatás visszatérítése",null,null,null,null,null,null,null,null,null,null,null,null,null,null,338000,{"$f":"SUMIF('Terv-segédlet'!$B:$B,$A192,'Terv-segédlet'!E:E)","v":80000},{"$f":"SUMIF('Terv-segédlet'!$B:$B,$A192,'Terv-segédlet'!F:F)","v":5000},{"$f":"SUMIF('Terv-segédlet'!$B:$B,$A192,'Terv-segédlet'!G:G)","v":60000},{"$f":"SUMIF('Terv-segédlet'!$B:$B,$A192,'Terv-segédlet'!H:H)","v":60000},{"$f":"SUMIF('Terv-segédlet'!$B:$B,$A192,'Terv-segédlet'!I:I)","v":120000},{"$f":"SUMIF('Terv-segédlet'!$B:$B,$A192,'Terv-segédlet'!J:J)","v":5000},{"$f":"SUMIF('Terv-segédlet'!$B:$B,$A192,'Terv-segédlet'!K:K)","v":8000},29310,{"$f":"SUMIF(V!$A:$A,$A192,V!$L:$L)+SUMIF(bank!$A:$A,AC$9&$A192,bank!$N:$N)","v":0},{"$f":"SUMIF(Gy!$A:$A,$A192,Gy!$L:$L)+SUMIF(bank!$A:$A,AD$9&$A192,bank!$N:$N)","v":0},{"$f":"SUMIF(K!$A:$A,$A192,K!$L:$L)+SUMIF(bank!$A:$A,AE$9&$A192,bank!$N:$N)","v":5100},{"$f":"SUMIF(Mk!$A:$A,$A192,Mk!$L:$L)+SUMIF(bank!$A:$A,AF$9&$A192,bank!$N:$N)","v":11200},{"$f":"SUMIF(M!$A:$A,$A192,M!$L:$L)+SUMIF(bank!$A:$A,AG$9&$A192,bank!$N:$N)","v":10610},{"$f":"SUMIF(P!$A:$A,$A192,P!$L:$L)+SUMIF(bank!$A:$A,AH$9&$A192,bank!$N:$N)","v":0},{"$f":"SUMIF(Zs!$A:$A,$A192,Zs!$L:$L)+SUMIF(bank!$A:$A,AI$9&$A192,bank!$N:$N)","v":2400},"*","k",8.6715976331360953E-2,"kötelező offertórium, Gusztáv Adolf segély, szupplikáció, továbbítandó egyéb adományok"]
["k184",184,null,"10. Pénzügyi műveletek ráfordítása (185..187)",null,null,null,null,null,null,null,null,null,null,null,null,null,null,null,{"$f":"SUM(T194:T196)","v":0},{"$f":"SUM(U194:U196)","v":0},{"$f":"SUM(V194:V196)","v":0},{"$f":"SUM(W194:W196)","v":0},{"$f":"SUM(X194:X196)","v":0},{"$f":"SUM(Y194:Y196)","v":0},{"$f":"SUM(Z194:Z196)","v":0},{"$f":"SUM(AA194:AA196)","v":0},{"$f":"SUM(AB194:AB196)","v":0},{"$f":"SUM(AC194:AC196)","v":0},{"$f":"SUM(AD194:AD196)","v":0},0,0,0,0,0,null,"k",""]
["k185",185,null,null,"Befektetett pénzügyi eszközök árfolyamveszteségek",null,null,null,null,null,null,null,null,null,null,null,null,null,null,{"$f":"SUM(U194:AA194)","v":0},{"$f":"SUMIF('Terv-segédlet'!$B:$B,$A194,'Terv-segédlet'!E:E)","v":0},{"$f":"SUMIF('Terv-segédlet'!$B:$B,$A194,'Terv-segédlet'!F:F)","v":0},{"$f":"SUMIF('Terv-segédlet'!$B:$B,$A194,'Terv-segédlet'!G:G)","v":0},{"$f":"SUMIF('Terv-segédlet'!$B:$B,$A194,'Terv-segédlet'!H:H)","v":0},{"$f":"SUMIF('Terv-segédlet'!$B:$B,$A194,'Terv-segédlet'!I:I)","v":0},{"$f":"SUMIF('Terv-segédlet'!$B:$B,$A194,'Terv-segédlet'!J:J)","v":0},{"$f":"SUMIF('Terv-segédlet'!$B:$B,$A194,'Terv-segédlet'!K:K)","v":0},{"$f":"SUM(AC194:AI194)","v":0},{"$f":"SUMIF(V!$A:$A,$A194,V!$L:$L)+SUMIF(bank!$A:$A,AC$9&$A194,bank!$N:$N)","v":0},{"$f":"SUMIF(Gy!$A:$A,$A194,Gy!$L:$L)+SUMIF(bank!$A:$A,AD$9&$A194,bank!$N:$N)","v":0},{"$f":"SUMIF(K!$A:$A,$A194,K!$L:$L)+SUMIF(bank!$A:$A,AE$9&$A194,bank!$N:$N)","v":0},{"$f":"SUMIF(Mk!$A:$A,$A194,Mk!$L:$L)+SUMIF(bank!$A:$A,AF$9&$A194,bank!$N:$N)","v":0},{"$f":"SUMIF(M!$A:$A,$A194,M!$L:$L)+SUMIF(bank!$A:$A,AG$9&$A194,bank!$N:$N)","v":0},{"$f":"SUMIF(P!$A:$A,$A194,P!$L:$L)+SUMIF(bank!$A:$A,AH$9&$A194,bank!$N:$N)","v":0},{"$f":"SUMIF(Zs!$A:$A,$A194,Zs!$L:$L)+SUMIF(bank!$A:$A,AI$9&$A194,bank!$N:$N)","v":0},"*","k","","éven túl befektetett pénzügyi ezsközök árfolyamvesztesége"]
["k186",186,null,null,"Fizetendő kamatok és kamatjellegű ráfordítások",null,null,null,null,null,null,null,null,null,null,null,null,null,null,0,{"$f":"SUMIF('Terv-segédlet'!$B:$B,$A195,'Terv-segédlet'!E:E)","v":0},{"$f":"SUMIF('Terv-segédlet'!$B:$B,$A195,'Terv-segédlet'!F:F)","v":0},{"$f":"SUMIF('Terv-segédlet'!$B:$B,$A195,'Terv-segédlet'!G:G)","v":0},{"$f":"SUMIF('Terv-segédlet'!$B:$B,$A195,'Terv-segédlet'!H:H)","v":0},{"$f":"SUMIF('Terv-segédlet'!$B:$B,$A195,'Terv-segédlet'!I:I)","v":0},{"$f":"SUMIF('Terv-segédlet'!$B:$B,$A195,'Terv-segédlet'!J:J)","v":0},{"$f":"SUMIF('Terv-segédlet'!$B:$B,$A195,'Terv-segédlet'!K:K)","v":0},0,{"$f":"SUMIF(V!$A:$A,$A195,V!$L:$L)+SUMIF(bank!$A:$A,AC$9&$A195,bank!$N:$N)","v":0},{"$f":"SUMIF(Gy!$A:$A,$A195,Gy!$L:$L)+SUMIF(bank!$A:$A,AD$9&$A195,bank!$N:$N)","v":0},{"$f":"SUMIF(K!$A:$A,$A195,K!$L:$L)+SUMIF(bank!$A:$A,AE$9&$A195,bank!$N:$N)","v":0},{"$f":"SUMIF(Mk!$A:$A,$A195,Mk!$L:$L)+SUMIF(bank!$A:$A,AF$9&$A195,bank!$N:$N)","v":0},{"$f":"SUMIF(M!$A:$A,$A195,M!$L:$L)+SUMIF(bank!$A:$A,AG$9&$A195,bank!$N:$N)","v":0},{"$f":"SUMIF(P!$A:$A,$A195,P!$L:$L)+SUMIF(bank!$A:$A,AH$9&$A195,bank!$N:$N)","v":0},{"$f":"SUMIF(Zs!$A:$A,$A195,Zs!$L:$L)+SUMIF(bank!$A:$A,AI$9&$A195,bank!$N:$N)","v":0},"*","k","","hitel, kölcsön, egyéb idegen forrás után fizetett kamatok"]
["k187",187,null,null,"Pénzügyi műveletek egyéb ráfordítása",null,null,null,null,null,null,null,null,null,null,null,null,null,null,0,{"$f":"SUMIF('Terv-segédlet'!$B:$B,$A196,'Terv-segédlet'!E:E)","v":0},{"$f":"SUMIF('Terv-segédlet'!$B:$B,$A196,'Terv-segédlet'!F:F)","v":0},{"$f":"SUMIF('Terv-segédlet'!$B:$B,$A196,'Terv-segédlet'!G:G)","v":0},{"$f":"SUMIF('Terv-segédlet'!$B:$B,$A196,'Terv-segédlet'!H:H)","v":0},{"$f":"SUMIF('Terv-segédlet'!$B:$B,$A196,'Terv-segédlet'!I:I)","v":0},{"$f":"SUMIF('Terv-segédlet'!$B:$B,$A196,'Terv-segédlet'!J:J)","v":0},{"$f":"SUMIF('Terv-segédlet'!$B:$B,$A196,'Terv-segédlet'!K:K)","v":0},0,{"$f":"SUMIF(V!$A:$A,$A196,V!$L:$L)+SUMIF(bank!$A:$A,AC$9&$A196,bank!$N:$N)","v":0},{"$f":"SUMIF(Gy!$A:$A,$A196,Gy!$L:$L)+SUMIF(bank!$A:$A,AD$9&$A196,bank!$N:$N)","v":0},{"$f":"SUMIF(K!$A:$A,$A196,K!$L:$L)+SUMIF(bank!$A:$A,AE$9&$A196,bank!$N:$N)","v":0},{"$f":"SUMIF(Mk!$A:$A,$A196,Mk!$L:$L)+SUMIF(bank!$A:$A,AF$9&$A196,bank!$N:$N)","v":0},{"$f":"SUMIF(M!$A:$A,$A196,M!$L:$L)+SUMIF(bank!$A:$A,AG$9&$A196,bank!$N:$N)","v":0},{"$f":"SUMIF(P!$A:$A,$A196,P!$L:$L)+SUMIF(bank!$A:$A,AH$9&$A196,bank!$N:$N)","v":0},{"$f":"SUMIF(Zs!$A:$A,$A196,Zs!$L:$L)+SUMIF(bank!$A:$A,AI$9&$A196,bank!$N:$N)","v":0},"*","k","","árfolyamdifferencia"]
["k188",188,null,"IV. Ráfordítást jelentő eszközváltozások (189..191)",null,null,null,null,null,null,null,null,null,null,null,null,null,null,null,{"$f":"SUM(T198:T200)","v":0},{"$f":"SUM(U198:U200)","v":0},{"$f":"SUM(V198:V200)","v":0},{"$f":"SUM(W198:W200)","v":0},{"$f":"SUM(X198:X200)","v":0},{"$f":"SUM(Y198:Y200)","v":0},{"$f":"SUM(Z198:Z200)","v":0},{"$f":"SUM(AA198:AA200)","v":0},{"$f":"SUM(AB198:AB200)","v":0},{"$f":"SUM(AC198:AC200)","v":0},{"$f":"SUM(AD198:AD200)","v":0},0,0,0,0,0,null,"k",""]
["k189",189,null,"Nem pénzben kiegyenlített, nem beruházási célú beszerzések",null,null,null,null,null,null,null,null,null,null,null,null,null,null,null,{"$f":"SUM(U198:AA198)","v":0},{"$f":"SUMIF('Terv-segédlet'!$B:$B,$A198,'Terv-segédlet'!E:E)","v":0},{"$f":"SUMIF('Terv-segédlet'!$B:$B,$A198,'Terv-segédlet'!F:F)","v":0},{"$f":"SUMIF('Terv-segédlet'!$B:$B,$A198,'Terv-segédlet'!G:G)","v":0},{"$f":"SUMIF('Terv-segédlet'!$B:$B,$A198,'Terv-segédlet'!H:H)","v":0},{"$f":"SUMIF('Terv-segédlet'!$B:$B,$A198,'Terv-segédlet'!I:I)","v":0},{"$f":"SUMIF('Terv-segédlet'!$B:$B,$A198,'Terv-segédlet'!J:J)","v":0},{"$f":"SUMIF('Terv-segédlet'!$B:$B,$A198,'Terv-segédlet'!K:K)","v":0},{"$f":"SUM(AC198:AI198)","v":0},{"$f":"SUMIF(V!$A:$A,$A198,V!$L:$L)+SUMIF(bank!$A:$A,AC$9&$A198,bank!$N:$N)","v":0},{"$f":"SUMIF(Gy!$A:$A,$A198,Gy!$L:$L)+SUMIF(bank!$A:$A,AD$9&$A198,bank!$N:$N)","v":0},{"$f":"SUMIF(K!$A:$A,$A198,K!$L:$L)+SUMIF(bank!$A:$A,AE$9&$A198,bank!$N:$N)","v":0},{"$f":"SUMIF(Mk!$A:$A,$A198,Mk!$L:$L)+SUMIF(bank!$A:$A,AF$9&$A198,bank!$N:$N)","v":0},{"$f":"SUMIF(M!$A:$A,$A198,M!$L:$L)+SUMIF(bank!$A:$A,AG$9&$A198,bank!$N:$N)","v":0},{"$f":"SUMIF(P!$A:$A,$A198,P!$L:$L)+SUMIF(bank!$A:$A,AH$9&$A198,bank!$N:$N)","v":0},{"$f":"SUMIF(Zs!$A:$A,$A198,Zs!$L:$L)+SUMIF(bank!$A:$A,AI$9&$A198,bank!$N:$N)","v":0},"*","k","","eszközcsere"]
["k190",190,null,"Természetben adott juttatások",null,null,null,null,null,null,null,null,null,null,null,null,null,null,null,0,{"$f":"SUMIF('Terv-segédlet'!$B:$B,$A199,'Terv-segédlet'!E:E)","v":0},{"$f":"SUMIF('Terv-segédlet'!$B:$B,$A199,'Terv-segédlet'!F:F)","v":0},{"$f":"SUMIF('Terv-segédlet'!$B:$B,$A199,'Terv-segédlet'!G:G)","v":0},{"$f":"SUMIF('Terv-segédlet'!$B:$B,$A199,'Terv-segédlet'!H:H)","v":0},{"$f":"SUMIF('Terv-segédlet'!$B:$B,$A199,'Terv-segédlet'!I:I)","v":0},{"$f":"SUMIF('Terv-segédlet'!$B:$B,$A199,'Terv-segédlet'!J:J)","v":0},{"$f":"SUMIF('Terv-segédlet'!$B:$B,$A199,'Terv-segédlet'!K:K)","v":0},0,{"$f":"SUMIF(V!$A:$A,$A199,V!$L:$L)+SUMIF(bank!$A:$A,AC$9&$A199,bank!$N:$N)","v":0},{"$f":"SUMIF(Gy!$A:$A,$A199,Gy!$L:$L)+SUMIF(bank!$A:$A,AD$9&$A199,bank!$N:$N)","v":0},{"$f":"SUMIF(K!$A:$A,$A199,K!$L:$L)+SUMIF(bank!$A:$A,AE$9&$A199,bank!$N:$N)","v":0},{"$f":"SUMIF(Mk!$A:$A,$A199,Mk!$L:$L)+SUMIF(bank!$A:$A,AF$9&$A199,bank!$N:$N)","v":0},{"$f":"SUMIF(M!$A:$A,$A199,M!$L:$L)+SUMIF(bank!$A:$A,AG$9&$A199,bank!$N:$N)","v":0},{"$f":"SUMIF(P!$A:$A,$A199,P!$L:$L)+SUMIF(bank!$A:$A,AH$9&$A199,bank!$N:$N)","v":0},{"$f":"SUMIF(Zs!$A:$A,$A199,Zs!$L:$L)+SUMIF(bank!$A:$A,AI$9&$A199,bank!$N:$N)","v":0},"*","k","","pl. saját termelésű készletből adott ajándék"]
["k191",191,null,"Nem pénzben kiegyenlített ráfordítások",null,null,null,null,null,null,null,null,null,null,null,null,null,null,null,0,{"$f":"SUMIF('Terv-segédlet'!$B:$B,$A200,'Terv-segédlet'!E:E)","v":0},{"$f":"SUMIF('Terv-segédlet'!$B:$B,$A200,'Terv-segédlet'!F:F)","v":0},{"$f":"SUMIF('Terv-segédlet'!$B:$B,$A200,'Terv-segédlet'!G:G)","v":0},{"$f":"SUMIF('Terv-segédlet'!$B:$B,$A200,'Terv-segédlet'!H:H)","v":0},{"$f":"SUMIF('Terv-segédlet'!$B:$B,$A200,'Terv-segédlet'!I:I)","v":0},{"$f":"SUMIF('Terv-segédlet'!$B:$B,$A200,'Terv-segédlet'!J:J)","v":0},{"$f":"SUMIF('Terv-segédlet'!$B:$B,$A200,'Terv-segédlet'!K:K)","v":0},0,{"$f":"SUMIF(V!$A:$A,$A200,V!$L:$L)+SUMIF(bank!$A:$A,AC$9&$A200,bank!$N:$N)","v":0},{"$f":"SUMIF(Gy!$A:$A,$A200,Gy!$L:$L)+SUMIF(bank!$A:$A,AD$9&$A200,bank!$N:$N)","v":0},{"$f":"SUMIF(K!$A:$A,$A200,K!$L:$L)+SUMIF(bank!$A:$A,AE$9&$A200,bank!$N:$N)","v":0},{"$f":"SUMIF(Mk!$A:$A,$A200,Mk!$L:$L)+SUMIF(bank!$A:$A,AF$9&$A200,bank!$N:$N)","v":0},{"$f":"SUMIF(M!$A:$A,$A200,M!$L:$L)+SUMIF(bank!$A:$A,AG$9&$A200,bank!$N:$N)","v":0},{"$f":"SUMIF(P!$A:$A,$A200,P!$L:$L)+SUMIF(bank!$A:$A,AH$9&$A200,bank!$N:$N)","v":0},{"$f":"SUMIF(Zs!$A:$A,$A200,Zs!$L:$L)+SUMIF(bank!$A:$A,AI$9&$A200,bank!$N:$N)","v":0},"*","k","","kompenzálással, beszámítással rendezett kiadások, eladott eszközök könyv szerinti értéke"]
["k192",192,null," ebből fenntartói nyugdíjjárulék - támogatással fedezett",null,null,null,null,null,null,null,null,null,null,null,null,null,null,null,0,{"$f":"SUMIF('Terv-segédlet'!$B:$B,$A201,'Terv-segédlet'!E:E)","v":0},{"$f":"SUMIF('Terv-segédlet'!$B:$B,$A201,'Terv-segédlet'!F:F)","v":0},{"$f":"SUMIF('Terv-segédlet'!$B:$B,$A201,'Terv-segédlet'!G:G)","v":0},{"$f":"SUMIF('Terv-segédlet'!$B:$B,$A201,'Terv-segédlet'!H:H)","v":0},{"$f":"SUMIF('Terv-segédlet'!$B:$B,$A201,'Terv-segédlet'!I:I)","v":0},{"$f":"SUMIF('Terv-segédlet'!$B:$B,$A201,'Terv-segédlet'!J:J)","v":0},{"$f":"SUMIF('Terv-segédlet'!$B:$B,$A201,'Terv-segédlet'!K:K)","v":0},0,{"$f":"SUMIF(V!$A:$A,$A201,V!$L:$L)+SUMIF(bank!$A:$A,AC$9&$A201,bank!$N:$N)","v":0},{"$f":"SUMIF(Gy!$A:$A,$A201,Gy!$L:$L)+SUMIF(bank!$A:$A,AD$9&$A201,bank!$N:$N)","v":0},{"$f":"SUMIF(K!$A:$A,$A201,K!$L:$L)+SUMIF(bank!$A:$A,AE$9&$A201,bank!$N:$N)","v":0},{"$f":"SUMIF(Mk!$A:$A,$A201,Mk!$L:$L)+SUMIF(bank!$A:$A,AF$9&$A201,bank!$N:$N)","v":0},{"$f":"SUMIF(M!$A:$A,$A201,M!$L:$L)+SUMIF(bank!$A:$A,AG$9&$A201,bank!$N:$N)","v":0},{"$f":"SUMIF(P!$A:$A,$A201,P!$L:$L)+SUMIF(bank!$A:$A,AH$9&$A201,bank!$N:$N)","v":0},{"$f":"SUMIF(Zs!$A:$A,$A201,Zs!$L:$L)+SUMIF(bank!$A:$A,AI$9&$A201,bank!$N:$N)","v":0},"*","k","","támogatásból fedezett, be nem fizetett fenntartók járulék"]
["k193",{"$f":"+B201+1","v":193},null,"ebből előfinanszírozott GAW támogatás",null,null,null,null,null,null,null,null,null,null,null,null,null,null,null,0,{"$f":"SUMIF('Terv-segédlet'!$B:$B,$A202,'Terv-segédlet'!E:E)","v":0},{"$f":"SUMIF('Terv-segédlet'!$B:$B,$A202,'Terv-segédlet'!F:F)","v":0},{"$f":"SUMIF('Terv-segédlet'!$B:$B,$A202,'Terv-segédlet'!G:G)","v":0},{"$f":"SUMIF('Terv-segédlet'!$B:$B,$A202,'Terv-segédlet'!H:H)","v":0},{"$f":"SUMIF('Terv-segédlet'!$B:$B,$A202,'Terv-segédlet'!I:I)","v":0},{"$f":"SUMIF('Terv-segédlet'!$B:$B,$A202,'Terv-segédlet'!J:J)","v":0},{"$f":"SUMIF('Terv-segédlet'!$B:$B,$A202,'Terv-segédlet'!K:K)","v":0},0,{"$f":"SUMIF(V!$A:$A,$A202,V!$L:$L)+SUMIF(bank!$A:$A,AC$9&$A202,bank!$N:$N)","v":0},{"$f":"SUMIF(Gy!$A:$A,$A202,Gy!$L:$L)+SUMIF(bank!$A:$A,AD$9&$A202,bank!$N:$N)","v":0},{"$f":"SUMIF(K!$A:$A,$A202,K!$L:$L)+SUMIF(bank!$A:$A,AE$9&$A202,bank!$N:$N)","v":0},{"$f":"SUMIF(Mk!$A:$A,$A202,Mk!$L:$L)+SUMIF(bank!$A:$A,AF$9&$A202,bank!$N:$N)","v":0},{"$f":"SUMIF(M!$A:$A,$A202,M!$L:$L)+SUMIF(bank!$A:$A,AG$9&$A202,bank!$N:$N)","v":0},{"$f":"SUMIF(P!$A:$A,$A202,P!$L:$L)+SUMIF(bank!$A:$A,AH$9&$A202,bank!$N:$N)","v":0},{"$f":"SUMIF(Zs!$A:$A,$A202,Zs!$L:$L)+SUMIF(bank!$A:$A,AI$9&$A202,bank!$N:$N)","v":0},"*","k","","előfinanszírozás kiegyenlített része GAW támogatásból"]
["k194",194,null,"V. Ráfordítást jelentő elszámolások (195+202)",null,null,null,null,null,null,null,null,null,null,null,null,null,null,null,{"$f":"T204+T211","v":0},{"$f":"U204+U211","v":0},0,0,0,0,0,0,{"$f":"AB204+AB211","v":0},0,{"$f":"AD204+AD211","v":0},0,0,0,0,0,null,"k","","eladott tárgyi eszközök könyv szerinti értéke"]
["k195",195,null,"Értékcsökkenési leírás, terven felüli értékcsökkenés ( 196+199)",null,null,null,null,null,null,null,null,null,null,null,null,null,null,null,{"$f":"SUM(T205,T208)","v":0},{"$f":"SUM(U205,U208)","v":0},{"$f":"SUM(V205,V208)","v":0},{"$f":"SUM(W205,W208)","v":0},{"$f":"SUM(X205,X208)","v":0},{"$f":"SUM(Y205,Y208)","v":0},{"$f":"SUM(Z205,Z208)","v":0},{"$f":"SUM(AA205,AA208)","v":0},{"$f":"SUM(AB205,AB208)","v":0},{"$f":"SUM(AC205,AC208)","v":0},{"$f":"SUM(AD205,AD208)","v":0},0,0,0,0,0,null,"k",""]
["k196",196,null,null,"Immateriális javak terv szerinti és terven felüli értékcsökkenése (197..198)",null,null,null,null,null,null,null,null,null,null,null,null,null,null,{"$f":"SUM(T206:T207)","v":0},{"$f":"SUM(U206:U207)","v":0},{"$f":"SUM(V206:V207)","v":0},{"$f":"SUM(W206:W207)","v":0},{"$f":"SUM(X206:X207)","v":0},{"$f":"SUM(Y206:Y207)","v":0},{"$f":"SUM(Z206:Z207)","v":0},{"$f":"SUM(AA206:AA207)","v":0},{"$f":"SUM(AB206:AB207)","v":0},{"$f":"SUM(AC206:AC207)","v":0},{"$f":"SUM(AD206:AD207)","v":0},0,0,0,0,0,null,"k",""]
["k197",197,null,null,null,"Immateriális javak terv szerinti és terven felüli értékcsökkenése",null,null,null,null,null,null,null,null,null,null,null,null,null,{"$f":"SUM(U206:AA206)","v":0},{"$f":"SUMIF('Terv-segédlet'!$B:$B,$A206,'Terv-segédlet'!E:E)","v":0},{"$f":"SUMIF('Terv-segédlet'!$B:$B,$A206,'Terv-segédlet'!F:F)","v":0},{"$f":"SUMIF('Terv-segédlet'!$B:$B,$A206,'Terv-segédlet'!G:G)","v":0},{"$f":"SUMIF('Terv-segédlet'!$B:$B,$A206,'Terv-segédlet'!H:H)","v":0},{"$f":"SUMIF('Terv-segédlet'!$B:$B,$A206,'Terv-segédlet'!I:I)","v":0},{"$f":"SUMIF('Terv-segédlet'!$B:$B,$A206,'Terv-segédlet'!J:J)","v":0},{"$f":"SUMIF('Terv-segédlet'!$B:$B,$A206,'Terv-segédlet'!K:K)","v":0},{"$f":"SUM(AC206:AI206)","v":0},{"$f":"SUMIF(V!$A:$A,$A206,V!$L:$L)+SUMIF(bank!$A:$A,AC$9&$A206,bank!$N:$N)","v":0},{"$f":"SUMIF(Gy!$A:$A,$A206,Gy!$L:$L)+SUMIF(bank!$A:$A,AD$9&$A206,bank!$N:$N)","v":0},{"$f":"SUMIF(K!$A:$A,$A206,K!$L:$L)+SUMIF(bank!$A:$A,AE$9&$A206,bank!$N:$N)","v":0},{"$f":"SUMIF(Mk!$A:$A,$A206,Mk!$L:$L)+SUMIF(bank!$A:$A,AF$9&$A206,bank!$N:$N)","v":0},{"$f":"SUMIF(M!$A:$A,$A206,M!$L:$L)+SUMIF(bank!$A:$A,AG$9&$A206,bank!$N:$N)","v":0},{"$f":"SUMIF(P!$A:$A,$A206,P!$L:$L)+SUMIF(bank!$A:$A,AH$9&$A206,bank!$N:$N)","v":0},{"$f":"SUMIF(Zs!$A:$A,$A206,Zs!$L:$L)+SUMIF(bank!$A:$A,AI$9&$A206,bank!$N:$N)","v":0},"*","k","","vagyoni értékű jogok, szellemi termékek %-os értékcsökkenése"]
["k198",198,null,null,null,"100 eFt alatti immateriális javak terv szerinti értékcsökkenése",null,null,null,null,null,null,null,null,null,null,null,null,null,0,{"$f":"SUMIF('Terv-segédlet'!$B:$B,$A207,'Terv-segédlet'!E:E)","v":0},{"$f":"SUMIF('Terv-segédlet'!$B:$B,$A207,'Terv-segédlet'!F:F)","v":0},{"$f":"SUMIF('Terv-segédlet'!$B:$B,$A207,'Terv-segédlet'!G:G)","v":0},{"$f":"SUMIF('Terv-segédlet'!$B:$B,$A207,'Terv-segédlet'!H:H)","v":0},{"$f":"SUMIF('Terv-segédlet'!$B:$B,$A207,'Terv-segédlet'!I:I)","v":0},{"$f":"SUMIF('Terv-segédlet'!$B:$B,$A207,'Terv-segédlet'!J:J)","v":0},{"$f":"SUMIF('Terv-segédlet'!$B:$B,$A207,'Terv-segédlet'!K:K)","v":0},0,{"$f":"SUMIF(V!$A:$A,$A207,V!$L:$L)+SUMIF(bank!$A:$A,AC$9&$A207,bank!$N:$N)","v":0},{"$f":"SUMIF(Gy!$A:$A,$A207,Gy!$L:$L)+SUMIF(bank!$A:$A,AD$9&$A207,bank!$N:$N)","v":0},{"$f":"SUMIF(K!$A:$A,$A207,K!$L:$L)+SUMIF(bank!$A:$A,AE$9&$A207,bank!$N:$N)","v":0},{"$f":"SUMIF(Mk!$A:$A,$A207,Mk!$L:$L)+SUMIF(bank!$A:$A,AF$9&$A207,bank!$N:$N)","v":0},{"$f":"SUMIF(M!$A:$A,$A207,M!$L:$L)+SUMIF(bank!$A:$A,AG$9&$A207,bank!$N:$N)","v":0},{"$f":"SUMIF(P!$A:$A,$A207,P!$L:$L)+SUMIF(bank!$A:$A,AH$9&$A207,bank!$N:$N)","v":0},{"$f":"SUMIF(Zs!$A:$A,$A207,Zs!$L:$L)+SUMIF(bank!$A:$A,AI$9&$A207,bank!$N:$N)","v":0},"*","k",{"$f":"IF(AND(OR(T207<>0,AB207<>0),T207<>0),ABS(AB207/T207),\"\")","v":""},"100 eFt alatti vagyoni értékű jogok, szellemi termékek egy összegű értékcsökkenése (beszerzés évében egy összegben)"]
["k199",199,null,null,"Tárgyi eszközök terv szerinti és terven felüli értékcsökkenési leírása (200..201)",null,null,null,null,null,null,null,null,null,null,null,null,null,null,{"$f":"SUM(T209:T210)","v":0},{"$f":"SUM(U209:U210)","v":0},{"$f":"SUM(V209:V210)","v":0},{"$f":"SUM(W209:W210)","v":0},{"$f":"SUM(X209:X210)","v":0},{"$f":"SUM(Y209:Y210)","v":0},{"$f":"SUM(Z209:Z210)","v":0},{"$f":"SUM(AA209:AA210)","v":0},{"$f":"SUM(AB209:AB210)","v":0},{"$f":"SUM(AC209:AC210)","v":0},{"$f":"SUM(AD209:AD210)","v":0},0,0,0,0,0,null,"k",""]
["k200",200,null,null,null,"Tárgyi eszközök terv szerinti és terven felüli értékcsökkenési leírása",null,null,null,null,null,null,null,null,null,null,null,null,null,{"$f":"SUM(U209:AA209)","v":0},{"$f":"SUMIF('Terv-segédlet'!$B:$B,$A209,'Terv-segédlet'!E:E)","v":0},{"$f":"SUMIF('Terv-segédlet'!$B:$B,$A209,'Terv-segédlet'!F:F)","v":0},{"$f":"SUMIF('Terv-segédlet'!$B:$B,$A209,'Terv-segédlet'!G:G)","v":0},{"$f":"SUMIF('Terv-segédlet'!$B:$B,$A209,'Terv-segédlet'!H:H)","v":0},{"$f":"SUMIF('Terv-segédlet'!$B:$B,$A209,'Terv-segédlet'!I:I)","v":0},{"$f":"SUMIF('Terv-segédlet'!$B:$B,$A209,'Terv-segédlet'!J:J)","v":0},{"$f":"SUMIF('Terv-segédlet'!$B:$B,$A209,'Terv-segédlet'!K:K)","v":0},{"$f":"SUM(AC209:AI209)","v":0},{"$f":"SUMIF(V!$A:$A,$A209,V!$L:$L)+SUMIF(bank!$A:$A,AC$9&$A209,bank!$N:$N)","v":0},{"$f":"SUMIF(Gy!$A:$A,$A209,Gy!$L:$L)+SUMIF(bank!$A:$A,AD$9&$A209,bank!$N:$N)","v":0},{"$f":"SUMIF(K!$A:$A,$A209,K!$L:$L)+SUMIF(bank!$A:$A,AE$9&$A209,bank!$N:$N)","v":0},{"$f":"SUMIF(Mk!$A:$A,$A209,Mk!$L:$L)+SUMIF(bank!$A:$A,AF$9&$A209,bank!$N:$N)","v":0},{"$f":"SUMIF(M!$A:$A,$A209,M!$L:$L)+SUMIF(bank!$A:$A,AG$9&$A209,bank!$N:$N)","v":0},{"$f":"SUMIF(P!$A:$A,$A209,P!$L:$L)+SUMIF(bank!$A:$A,AH$9&$A209,bank!$N:$N)","v":0},{"$f":"SUMIF(Zs!$A:$A,$A209,Zs!$L:$L)+SUMIF(bank!$A:$A,AI$9&$A209,bank!$N:$N)","v":0},"*","k","","ingatlanok, gépek, járművek %-os értékcsökkenése"]
["k201",201,null,null,null,"100 eFt alatti tárgyi eszközök terv szerinti értékcsökkenési leírása",null,null,null,null,null,null,null,null,null,null,null,null,null,0,{"$f":"SUMIF('Terv-segédlet'!$B:$B,$A210,'Terv-segédlet'!E:E)","v":0},{"$f":"SUMIF('Terv-segédlet'!$B:$B,$A210,'Terv-segédlet'!F:F)","v":0},{"$f":"SUMIF('Terv-segédlet'!$B:$B,$A210,'Terv-segédlet'!G:G)","v":0},{"$f":"SUMIF('Terv-segédlet'!$B:$B,$A210,'Terv-segédlet'!H:H)","v":0},{"$f":"SUMIF('Terv-segédlet'!$B:$B,$A210,'Terv-segédlet'!I:I)","v":0},{"$f":"SUMIF('Terv-segédlet'!$B:$B,$A210,'Terv-segédlet'!J:J)","v":0},{"$f":"SUMIF('Terv-segédlet'!$B:$B,$A210,'Terv-segédlet'!K:K)","v":0},0,{"$f":"SUMIF(V!$A:$A,$A210,V!$L:$L)+SUMIF(bank!$A:$A,AC$9&$A210,bank!$N:$N)","v":0},{"$f":"SUMIF(Gy!$A:$A,$A210,Gy!$L:$L)+SUMIF(bank!$A:$A,AD$9&$A210,bank!$N:$N)","v":0},{"$f":"SUMIF(K!$A:$A,$A210,K!$L:$L)+SUMIF(bank!$A:$A,AE$9&$A210,bank!$N:$N)","v":0},{"$f":"SUMIF(Mk!$A:$A,$A210,Mk!$L:$L)+SUMIF(bank!$A:$A,AF$9&$A210,bank!$N:$N)","v":0},{"$f":"SUMIF(M!$A:$A,$A210,M!$L:$L)+SUMIF(bank!$A:$A,AG$9&$A210,bank!$N:$N)","v":0},{"$f":"SUMIF(P!$A:$A,$A210,P!$L:$L)+SUMIF(bank!$A:$A,AH$9&$A210,bank!$N:$N)","v":0},{"$f":"SUMIF(Zs!$A:$A,$A210,Zs!$L:$L)+SUMIF(bank!$A:$A,AI$9&$A210,bank!$N:$N)","v":0},"*","k","","100 eFt alatti gépek, járművek egy összegű értékcsökkenése (beszerzés évében egy összegben)"]
["k202",202,null,"Értékvesztés",null,null,null,null,null,null,null,null,null,null,null,null,null,null,null,0,{"$f":"SUMIF('Terv-segédlet'!$B:$B,$A211,'Terv-segédlet'!E:E)","v":0},{"$f":"SUMIF('Terv-segédlet'!$B:$B,$A211,'Terv-segédlet'!F:F)","v":0},{"$f":"SUMIF('Terv-segédlet'!$B:$B,$A211,'Terv-segédlet'!G:G)","v":0},{"$f":"SUMIF('Terv-segédlet'!$B:$B,$A211,'Terv-segédlet'!H:H)","v":0},{"$f":"SUMIF('Terv-segédlet'!$B:$B,$A211,'Terv-segédlet'!I:I)","v":0},{"$f":"SUMIF('Terv-segédlet'!$B:$B,$A211,'Terv-segédlet'!J:J)","v":0},{"$f":"SUMIF('Terv-segédlet'!$B:$B,$A211,'Terv-segédlet'!K:K)","v":0},0,{"$f":"SUMIF(V!$A:$A,$A211,V!$L:$L)+SUMIF(bank!$A:$A,AC$9&$A211,bank!$N:$N)","v":0},{"$f":"SUMIF(Gy!$A:$A,$A211,Gy!$L:$L)+SUMIF(bank!$A:$A,AD$9&$A211,bank!$N:$N)","v":0},{"$f":"SUMIF(K!$A:$A,$A211,K!$L:$L)+SUMIF(bank!$A:$A,AE$9&$A211,bank!$N:$N)","v":0},{"$f":"SUMIF(Mk!$A:$A,$A211,Mk!$L:$L)+SUMIF(bank!$A:$A,AF$9&$A211,bank!$N:$N)","v":0},{"$f":"SUMIF(M!$A:$A,$A211,M!$L:$L)+SUMIF(bank!$A:$A,AG$9&$A211,bank!$N:$N)","v":0},{"$f":"SUMIF(P!$A:$A,$A211,P!$L:$L)+SUMIF(bank!$A:$A,AH$9&$A211,bank!$N:$N)","v":0},{"$f":"SUMIF(Zs!$A:$A,$A211,Zs!$L:$L)+SUMIF(bank!$A:$A,AI$9&$A211,bank!$N:$N)","v":0},"*","k",""]
["k203",203,null,"VI. Ráfordításként nem érvényesíthető kiadások (204+210)",null,null,null,null,null,null,null,null,null,null,null,null,null,null,null,{"$f":"SUM(T213,T219)","v":0},{"$f":"SUM(U213,U219)","v":0},0,0,0,0,0,0,{"$f":"SUM(AB213,AB219)","v":0},0,{"$f":"SUM(AD213,AD219)","v":0},0,0,0,0,0,null,"k","","tárgyévben beruházásra, felújításra kifizetett összeg - bontva"]
["k204",204,null,"Beruházási, felújítási kiadások (205..209)",null,null,null,null,null,null,null,null,null,null,null,null,null,null,null,{"$f":"SUM(T214:T218)","v":0},{"$f":"SUM(U214:U218)","v":0},{"$f":"SUM(V214:V218)","v":0},{"$f":"SUM(W214:W218)","v":0},{"$f":"SUM(X214:X218)","v":0},{"$f":"SUM(Y214:Y218)","v":0},{"$f":"SUM(Z214:Z218)","v":0},{"$f":"SUM(AA214:AA218)","v":0},{"$f":"SUM(AB214:AB218)","v":0},{"$f":"SUM(AC214:AC218)","v":0},{"$f":"SUM(AD214:AD218)","v":0},0,0,0,0,0,null,"k",""]
["k205",205,null,"Lelkészlakás",null,"Üzemanyagok költsége",null,null,null,null,null,null,null,null,null,null,null,null,null,{"$f":"SUM(U214:AA214)","v":0},{"$f":"SUMIF('Terv-segédlet'!$B:$B,$A214,'Terv-segédlet'!E:E)","v":0},{"$f":"SUMIF('Terv-segédlet'!$B:$B,$A214,'Terv-segédlet'!F:F)","v":0},{"$f":"SUMIF('Terv-segédlet'!$B:$B,$A214,'Terv-segédlet'!G:G)","v":0},{"$f":"SUMIF('Terv-segédlet'!$B:$B,$A214,'Terv-segédlet'!H:H)","v":0},{"$f":"SUMIF('Terv-segédlet'!$B:$B,$A214,'Terv-segédlet'!I:I)","v":0},{"$f":"SUMIF('Terv-segédlet'!$B:$B,$A214,'Terv-segédlet'!J:J)","v":0},{"$f":"SUMIF('Terv-segédlet'!$B:$B,$A214,'Terv-segédlet'!K:K)","v":0},{"$f":"SUM(AC214:AI214)","v":0},{"$f":"SUMIF(V!$A:$A,$A214,V!$L:$L)+SUMIF(bank!$A:$A,AC$9&$A214,bank!$N:$N)","v":0},{"$f":"SUMIF(Gy!$A:$A,$A214,Gy!$L:$L)+SUMIF(bank!$A:$A,AD$9&$A214,bank!$N:$N)","v":0},{"$f":"SUMIF(K!$A:$A,$A214,K!$L:$L)+SUMIF(bank!$A:$A,AE$9&$A214,bank!$N:$N)","v":0},{"$f":"SUMIF(Mk!$A:$A,$A214,Mk!$L:$L)+SUMIF(bank!$A:$A,AF$9&$A214,bank!$N:$N)","v":0},{"$f":"SUMIF(M!$A:$A,$A214,M!$L:$L)+SUMIF(bank!$A:$A,AG$9&$A214,bank!$N:$N)","v":0},{"$f":"SUMIF(P!$A:$A,$A214,P!$L:$L)+SUMIF(bank!$A:$A,AH$9&$A214,bank!$N:$N)","v":0},{"$f":"SUMIF(Zs!$A:$A,$A214,Zs!$L:$L)+SUMIF(bank!$A:$A,AI$9&$A214,bank!$N:$N)","v":0},"*","k",""]
["k206",206,null,"Egyéb lakás",null,null,null,null,null,null,null,null,null,null,null,null,null,null,null,0,{"$f":"SUMIF('Terv-segédlet'!$B:$B,$A215,'Terv-segédlet'!E:E)","v":0},{"$f":"SUMIF('Terv-segédlet'!$B:$B,$A215,'Terv-segédlet'!F:F)","v":0},{"$f":"SUMIF('Terv-segédlet'!$B:$B,$A215,'Terv-segédlet'!G:G)","v":0},{"$f":"SUMIF('Terv-segédlet'!$B:$B,$A215,'Terv-segédlet'!H:H)","v":0},{"$f":"SUMIF('Terv-segédlet'!$B:$B,$A215,'Terv-segédlet'!I:I)","v":0},{"$f":"SUMIF('Terv-segédlet'!$B:$B,$A215,'Terv-segédlet'!J:J)","v":0},{"$f":"SUMIF('Terv-segédlet'!$B:$B,$A215,'Terv-segédlet'!K:K)","v":0},0,{"$f":"SUMIF(V!$A:$A,$A215,V!$L:$L)+SUMIF(bank!$A:$A,AC$9&$A215,bank!$N:$N)","v":0},{"$f":"SUMIF(Gy!$A:$A,$A215,Gy!$L:$L)+SUMIF(bank!$A:$A,AD$9&$A215,bank!$N:$N)","v":0},{"$f":"SUMIF(K!$A:$A,$A215,K!$L:$L)+SUMIF(bank!$A:$A,AE$9&$A215,bank!$N:$N)","v":0},{"$f":"SUMIF(Mk!$A:$A,$A215,Mk!$L:$L)+SUMIF(bank!$A:$A,AF$9&$A215,bank!$N:$N)","v":0},{"$f":"SUMIF(M!$A:$A,$A215,M!$L:$L)+SUMIF(bank!$A:$A,AG$9&$A215,bank!$N:$N)","v":0},{"$f":"SUMIF(P!$A:$A,$A215,P!$L:$L)+SUMIF(bank!$A:$A,AH$9&$A215,bank!$N:$N)","v":0},{"$f":"SUMIF(Zs!$A:$A,$A215,Zs!$L:$L)+SUMIF(bank!$A:$A,AI$9&$A215,bank!$N:$N)","v":0},"*","k",""]
["k207",207,null,"Más gyülekezeti helyiség",null,"Kenő-, hajtó- és tüzelőanyagok költsége",null,null,null,null,null,null,null,null,null,null,null,null,null,0,{"$f":"SUMIF('Terv-segédlet'!$B:$B,$A216,'Terv-segédlet'!E:E)","v":0},{"$f":"SUMIF('Terv-segédlet'!$B:$B,$A216,'Terv-segédlet'!F:F)","v":0},{"$f":"SUMIF('Terv-segédlet'!$B:$B,$A216,'Terv-segédlet'!G:G)","v":0},{"$f":"SUMIF('Terv-segédlet'!$B:$B,$A216,'Terv-segédlet'!H:H)","v":0},{"$f":"SUMIF('Terv-segédlet'!$B:$B,$A216,'Terv-segédlet'!I:I)","v":0},{"$f":"SUMIF('Terv-segédlet'!$B:$B,$A216,'Terv-segédlet'!J:J)","v":0},{"$f":"SUMIF('Terv-segédlet'!$B:$B,$A216,'Terv-segédlet'!K:K)","v":0},0,{"$f":"SUMIF(V!$A:$A,$A216,V!$L:$L)+SUMIF(bank!$A:$A,AC$9&$A216,bank!$N:$N)","v":0},{"$f":"SUMIF(Gy!$A:$A,$A216,Gy!$L:$L)+SUMIF(bank!$A:$A,AD$9&$A216,bank!$N:$N)","v":0},{"$f":"SUMIF(K!$A:$A,$A216,K!$L:$L)+SUMIF(bank!$A:$A,AE$9&$A216,bank!$N:$N)","v":0},{"$f":"SUMIF(Mk!$A:$A,$A216,Mk!$L:$L)+SUMIF(bank!$A:$A,AF$9&$A216,bank!$N:$N)","v":0},{"$f":"SUMIF(M!$A:$A,$A216,M!$L:$L)+SUMIF(bank!$A:$A,AG$9&$A216,bank!$N:$N)","v":0},{"$f":"SUMIF(P!$A:$A,$A216,P!$L:$L)+SUMIF(bank!$A:$A,AH$9&$A216,bank!$N:$N)","v":0},{"$f":"SUMIF(Zs!$A:$A,$A216,Zs!$L:$L)+SUMIF(bank!$A:$A,AI$9&$A216,bank!$N:$N)","v":0},"*","k",""]
["k208",208,null,"Gépjárművek",null,"Könyvtári, tanulói könyvek",null,null,null,null,null,null,null,null,null,null,null,null,null,0,{"$f":"SUMIF('Terv-segédlet'!$B:$B,$A217,'Terv-segédlet'!E:E)","v":0},{"$f":"SUMIF('Terv-segédlet'!$B:$B,$A217,'Terv-segédlet'!F:F)","v":0},{"$f":"SUMIF('Terv-segédlet'!$B:$B,$A217,'Terv-segédlet'!G:G)","v":0},{"$f":"SUMIF('Terv-segédlet'!$B:$B,$A217,'Terv-segédlet'!H:H)","v":0},{"$f":"SUMIF('Terv-segédlet'!$B:$B,$A217,'Terv-segédlet'!I:I)","v":0},{"$f":"SUMIF('Terv-segédlet'!$B:$B,$A217,'Terv-segédlet'!J:J)","v":0},{"$f":"SUMIF('Terv-segédlet'!$B:$B,$A217,'Terv-segédlet'!K:K)","v":0},0,{"$f":"SUMIF(V!$A:$A,$A217,V!$L:$L)+SUMIF(bank!$A:$A,AC$9&$A217,bank!$N:$N)","v":0},{"$f":"SUMIF(Gy!$A:$A,$A217,Gy!$L:$L)+SUMIF(bank!$A:$A,AD$9&$A217,bank!$N:$N)","v":0},{"$f":"SUMIF(K!$A:$A,$A217,K!$L:$L)+SUMIF(bank!$A:$A,AE$9&$A217,bank!$N:$N)","v":0},{"$f":"SUMIF(Mk!$A:$A,$A217,Mk!$L:$L)+SUMIF(bank!$A:$A,AF$9&$A217,bank!$N:$N)","v":0},{"$f":"SUMIF(M!$A:$A,$A217,M!$L:$L)+SUMIF(bank!$A:$A,AG$9&$A217,bank!$N:$N)","v":0},{"$f":"SUMIF(P!$A:$A,$A217,P!$L:$L)+SUMIF(bank!$A:$A,AH$9&$A217,bank!$N:$N)","v":0},{"$f":"SUMIF(Zs!$A:$A,$A217,Zs!$L:$L)+SUMIF(bank!$A:$A,AI$9&$A217,bank!$N:$N)","v":0},"*","k",""]
["k209",209,null,"Egyéb",null,"Takarító- és tisztítószerek költsége",null,null,null,null,null,null,null,null,null,null,null,null,null,0,{"$f":"SUMIF('Terv-segédlet'!$B:$B,$A218,'Terv-segédlet'!E:E)","v":0},{"$f":"SUMIF('Terv-segédlet'!$B:$B,$A218,'Terv-segédlet'!F:F)","v":0},{"$f":"SUMIF('Terv-segédlet'!$B:$B,$A218,'Terv-segédlet'!G:G)","v":0},{"$f":"SUMIF('Terv-segédlet'!$B:$B,$A218,'Terv-segédlet'!H:H)","v":0},{"$f":"SUMIF('Terv-segédlet'!$B:$B,$A218,'Terv-segédlet'!I:I)","v":0},{"$f":"SUMIF('Terv-segédlet'!$B:$B,$A218,'Terv-segédlet'!J:J)","v":0},{"$f":"SUMIF('Terv-segédlet'!$B:$B,$A218,'Terv-segédlet'!K:K)","v":0},0,{"$f":"SUMIF(V!$A:$A,$A218,V!$L:$L)+SUMIF(bank!$A:$A,AC$9&$A218,bank!$N:$N)","v":0},{"$f":"SUMIF(Gy!$A:$A,$A218,Gy!$L:$L)+SUMIF(bank!$A:$A,AD$9&$A218,bank!$N:$N)","v":0},{"$f":"SUMIF(K!$A:$A,$A218,K!$L:$L)+SUMIF(bank!$A:$A,AE$9&$A218,bank!$N:$N)","v":0},{"$f":"SUMIF(Mk!$A:$A,$A218,Mk!$L:$L)+SUMIF(bank!$A:$A,AF$9&$A218,bank!$N:$N)","v":0},{"$f":"SUMIF(M!$A:$A,$A218,M!$L:$L)+SUMIF(bank!$A:$A,AG$9&$A218,bank!$N:$N)","v":0},{"$f":"SUMIF(P!$A:$A,$A218,P!$L:$L)+SUMIF(bank!$A:$A,AH$9&$A218,bank!$N:$N)","v":0},{"$f":"SUMIF(Zs!$A:$A,$A218,Zs!$L:$L)+SUMIF(bank!$A:$A,AI$9&$A218,bank!$N:$N)","v":0},"*","k",""]
["k210",210,null,"Egyéb kiadások",null,null,null,null,null,null,null,null,null,null,null,null,null,null,null,0,{"$f":"SUMIF('Terv-segédlet'!$B:$B,$A219,'Terv-segédlet'!E:E)","v":0},{"$f":"SUMIF('Terv-segédlet'!$B:$B,$A219,'Terv-segédlet'!F:F)","v":0},{"$f":"SUMIF('Terv-segédlet'!$B:$B,$A219,'Terv-segédlet'!G:G)","v":0},{"$f":"SUMIF('Terv-segédlet'!$B:$B,$A219,'Terv-segédlet'!H:H)","v":0},{"$f":"SUMIF('Terv-segédlet'!$B:$B,$A219,'Terv-segédlet'!I:I)","v":0},{"$f":"SUMIF('Terv-segédlet'!$B:$B,$A219,'Terv-segédlet'!J:J)","v":0},{"$f":"SUMIF('Terv-segédlet'!$B:$B,$A219,'Terv-segédlet'!K:K)","v":0},0,{"$f":"SUMIF(V!$A:$A,$A219,V!$L:$L)+SUMIF(bank!$A:$A,AC$9&$A219,bank!$N:$N)","v":0},{"$f":"SUMIF(Gy!$A:$A,$A219,Gy!$L:$L)+SUMIF(bank!$A:$A,AD$9&$A219,bank!$N:$N)","v":0},{"$f":"SUMIF(K!$A:$A,$A219,K!$L:$L)+SUMIF(bank!$A:$A,AE$9&$A219,bank!$N:$N)","v":0},{"$f":"SUMIF(Mk!$A:$A,$A219,Mk!$L:$L)+SUMIF(bank!$A:$A,AF$9&$A219,bank!$N:$N)","v":0},{"$f":"SUMIF(M!$A:$A,$A219,M!$L:$L)+SUMIF(bank!$A:$A,AG$9&$A219,bank!$N:$N)","v":0},{"$f":"SUMIF(P!$A:$A,$A219,P!$L:$L)+SUMIF(bank!$A:$A,AH$9&$A219,bank!$N:$N)","v":0},{"$f":"SUMIF(Zs!$A:$A,$A219,Zs!$L:$L)+SUMIF(bank!$A:$A,AI$9&$A219,bank!$N:$N)","v":0},"*","k",""]
["k211",211,null,"B. VÉGLEGES PÉNZKIADÁSOK, ELSZÁMOLT RÁFORDÍTÁSOK (III.+IV.+V.+VI.)",null,null,null,null,null,null,null,null,null,null,null,null,null,null,null,{"$f":"T76+T197+T203+T212","v":12086324.94117647},{"$f":"U76+U197+U203+U212","v":5679434.9411764704},{"$f":"V76+V197+V203+V212","v":45260},131690,5252570,801370,30000,146000,{"$f":"AB76+AB197+AB203+AB212","v":465433},{"$f":"AC76+AC197+AC203+AC212","v":329568},{"$f":"AD76+AD197+AD203+AD212","v":0},5150,11250,35015,0,84450,null,"k",3.850905897907253E-2]
["k212",212,null,"C. TÁRGYÉVI PÉNZÜGYI EREDMÉNY (I.-III.-VI.)",null,null,null,null,null,null,null,null,null,null,null,null,null,null,null,{"$f":"T10-T76-T212","v":441175.05882352963},{"$f":"U10-U76-U212","v":-5085434.9411764704},{"$f":"V10-V76-V212","v":328740},729810,2306430,1564630,246500,350500,{"$f":"AB10-AB76-AB212","v":-346131},{"$f":"AC10-AC76-AC212","v":-326583},{"$f":"AD10-AD76-AD212","v":16},-4826,19950,49151,58,-83897,null,"k",0.78456611061155357]
["k213",213,null,"D. NEM PÉNZBEN REALIZÁLT EREDMÉNY (II.-(IV.+V.))",null,null,null,null,null,null,null,null,null,null,null,null,null,null,null,{"$f":"T68-(T197+T203)","v":0},{"$f":"U68-(U197+U203)","v":0},{"$f":"V68-(V197+V203)","v":0},0,0,0,0,0,{"$f":"AB68-(AB197+AB203)","v":0},{"$f":"AC68-(AC197+AC203)","v":0},{"$f":"AD68-(AD197+AD203)","v":0},0,0,0,0,0,null,"k",""]
["k214",214,null,"E. ADÓZÁS ELŐTTI EREDMÉNY ((I.+II.)-(III.+IV.+V.))",null,null,null,null,null,null,null,null,null,null,null,null,null,null,null,{"$f":"T75-(T76+T197+T203)","v":441175.05882352963},{"$f":"U75-(U76+U197+U203)","v":-5085434.9411764704},{"$f":"V75-(V76+V197+V203)","v":328740},729810,2306430,1564630,246500,350500,{"$f":"AB75-(AB76+AB197+AB203)","v":-346131},{"$f":"AC75-(AC76+AC197+AC203)","v":-326583},{"$f":"AD75-(AD76+AD197+AD203)","v":16},-4826,19950,49151,58,-83897,null,"k",0.78456611061155357]
["k215",215,null,"VII. Fizetendő társasági adó",null,null,null,null,null,null,null,null,null,null,null,null,null,null,null,{"$f":"SUM(U224:AA224)","v":0},{"$f":"SUMIF('Terv-segédlet'!$B:$B,$A224,'Terv-segédlet'!E:E)","v":0},{"$f":"SUMIF('Terv-segédlet'!$B:$B,$A224,'Terv-segédlet'!F:F)","v":0},{"$f":"SUMIF('Terv-segédlet'!$B:$B,$A224,'Terv-segédlet'!G:G)","v":0},{"$f":"SUMIF('Terv-segédlet'!$B:$B,$A224,'Terv-segédlet'!H:H)","v":0},{"$f":"SUMIF('Terv-segédlet'!$B:$B,$A224,'Terv-segédlet'!I:I)","v":0},{"$f":"SUMIF('Terv-segédlet'!$B:$B,$A224,'Terv-segédlet'!J:J)","v":0},{"$f":"SUMIF('Terv-segédlet'!$B:$B,$A224,'Terv-segédlet'!K:K)","v":0},{"$f":"SUM(AC224:AI224)","v":0},{"$f":"SUMIF(V!$A:$A,$A224,V!$L:$L)+SUMIF(bank!$A:$A,AC$9&$A224,bank!$N:$N)","v":0},{"$f":"SUMIF(Gy!$A:$A,$A224,Gy!$L:$L)+SUMIF(bank!$A:$A,AD$9&$A224,bank!$N:$N)","v":0},{"$f":"SUMIF(K!$A:$A,$A224,K!$L:$L)+SUMIF(bank!$A:$A,AE$9&$A224,bank!$N:$N)","v":0},{"$f":"SUMIF(Mk!$A:$A,$A224,Mk!$L:$L)+SUMIF(bank!$A:$A,AF$9&$A224,bank!$N:$N)","v":0},{"$f":"SUMIF(M!$A:$A,$A224,M!$L:$L)+SUMIF(bank!$A:$A,AG$9&$A224,bank!$N:$N)","v":0},{"$f":"SUMIF(P!$A:$A,$A224,P!$L:$L)+SUMIF(bank!$A:$A,AH$9&$A224,bank!$N:$N)","v":0},{"$f":"SUMIF(Zs!$A:$A,$A224,Zs!$L:$L)+SUMIF(bank!$A:$A,AI$9&$A224,bank!$N:$N)","v":0},"*","k","","vállalkozási tevékenységből származó eredmény adóköteles része után fizetett társasági adó (TAO bevallás alapján)"]
["k216",216,null,"F. EGYSZERŰSÍTETT BESZÁMOLÓ ADÓZOTT EREDMÉNYE (E.-VII.)",null,null,null,null,null,null,null,null,null,null,null,null,null,null,null,{"$f":"T223-T224","v":441175.05882352963},{"$f":"U223-U224","v":-5085434.9411764704},{"$f":"V223-V224","v":328740},{"$f":"W223-W224","v":729810},{"$f":"X223-X224","v":2306430},{"$f":"Y223-Y224","v":1564630},{"$f":"Z223-Z224","v":246500},{"$f":"AA223-AA224","v":350500},{"$f":"AB223-AB224","v":-346131},{"$f":"AC223-AC224","v":-326583},{"$f":"AD223-AD224","v":16},-4826,19950,49151,58,-83897,null,"k",0.78456611061155357]
["k217",217,null,"G. Automatikusan számolt egyházközségi tájékoztató adatok",null,null,null,null,null,null,null,null,null,null,null,null,null,null,null,null,null,null,null,null,null,null,null,null,null,null,null,null,null,null,null,null,null,{"$f":"IF(AND(OR(T226<>0,AB226<>0),T226<>0),ABS(AB226/T226),\"\")","v":""}]
["k218",218,null,"Gyülekezeti tagoktól származó bevételek",null,null,null,null,null,null,null,null,null,null,null,null,null,null,null,{"$f":"T57","v":5260000},{"$f":"U57","v":467000},{"$f":"V57","v":188000},800000,1299000,1750000,270000,486000,{"$f":"AB57","v":32000},{"$f":"AC57","v":0},{"$f":"AD57","v":0},0,0,32000,0,0,null,null,6.0836501901140681E-3,"+K47"]
["k219",219,null,"Gazdálkodásból származó bevételek",null,null,null,null,null,null,null,null,null,null,null,null,null,null,null,{"$f":"T11+T64","v":929500},{"$f":"U11+U64","v":47000},{"$f":"V11+V64","v":181000},1500,200000,496000,1500,2500,{"$f":"AB11+AB64","v":65492},{"$f":"AC11+AC64","v":2985},{"$f":"AD11+AD64","v":16},324,20000,41556,58,553,null,null,7.045938676707908E-2,"+K2+K54"]
["k220",220,null,"Ingatlan értékesítés bevétele",null,null,null,null,null,null,null,null,null,null,null,null,null,null,null,{"$f":"T25","v":0},{"$f":"U25","v":0},0,0,0,0,0,0,{"$f":"AB25","v":0},0,{"$f":"AD25","v":0},0,0,0,0,0,null,null,"","+K16"]
["k221",221,null,"Működési támogatás jellegű bevételek",null,null,null,null,null,null,null,null,null,null,null,null,null,null,null,{"$f":"SUM(T35)","v":0},{"$f":"SUM(U35)","v":0},{"$f":"SUM(V35)","v":0},0,0,0,0,0,{"$f":"SUM(AB35)","v":0},{"$f":"SUM(AC35)","v":0},{"$f":"SUM(AD35)","v":0},0,0,0,0,0,null,null,"","+K26"]
["k222",222,null,"Lelkészi szolgálattal kapcsolatos elkülöníthető költségek",null,null,null,null,null,null,null,null,null,null,null,null,null,null,null,{"$f":"SUM(T142:T143,T150,T168)","v":3132174.9411764704},{"$f":"SUM(U142:U143,U150,U168)","v":3132174.9411764704},{"$f":"SUM(V142:V143,V150,V168)","v":0},0,0,0,0,0,{"$f":"SUM(AB142:AB143,AB150,AB168)","v":302679},{"$f":"SUM(AC142:AC143,AC150,AC168)","v":302679},{"$f":"SUM(AD142:AD143,AD150,AD168)","v":0},0,0,0,0,0,null,null,9.663540692472028E-2,"+K138+K139+K146+K164"]
["k223",223,null,"Nem lelkészi alkalmazottakkal kapcsolatos költségek",null,null,null,null,null,null,null,null,null,null,null,null,null,null,null,{"$f":"SUM(T144:T146,T151,T161,T165,T167)","v":251000},{"$f":"SUM(U144:U146,U151,U161,U165,U167)","v":140000},{"$f":"SUM(V144:V146,V151,V161,V165,V167)","v":14000},24000,26000,47000,0,0,{"$f":"SUM(AB144:AB146,AB151,AB161,AB165,AB167)","v":0},{"$f":"SUM(AC144:AC146,AC151,AC161,AC165,AC167)","v":0},{"$f":"SUM(AD144:AD146,AD151,AD161,AD165,AD167)","v":0},0,0,0,0,0,null,null,0,"+K140+K141+K142+K147+K161+K162+K165"]
["k224",224,null,"Fenntartói nyugdíjjárulék kiadás",null,null,null,null,null,null,null,null,null,null,null,null,null,null,null,{"$f":"T201+T168","v":252890},{"$f":"U201+U168","v":252890},0,0,0,0,0,0,{"$f":"AB201+AB168","v":40233},40233,{"$f":"AD201+AD168","v":0},0,0,0,0,0,null,null,0.15909288623512199,"+K164+K198"]
["k225",225,null,"Lelkészlakással kapcsolatos kiadások",null,null,null,null,null,null,null,null,null,null,null,null,null,null,null,{"$f":"SUM(T80,T84,T88,T95,T109,T115-T21)","v":252000},{"$f":"SUM(U80,U84,U88,U95,U109,U115-U21)","v":252000},{"$f":"SUM(V80,V84,V88,V95,V109,V115-V21)","v":0},0,0,0,0,0,{"$f":"SUM(AB80,AB84,AB88,AB95,AB109,AB115-AB21)","v":26323},{"$f":"SUM(AC80,AC84,AC88,AC95,AC109,AC115-AC21)","v":26323},{"$f":"SUM(AD80,AD84,AD88,AD95,AD109,AD115-AD21)","v":0},0,0,0,0,0,null,null,0.10445634920634921,"+K76+K80+K84+K91+K105+K111"]
["k226",226,null,"Gépjárművekkel kapcsolatos kiadások",null,null,null,null,null,null,null,null,null,null,null,null,null,null,null,{"$f":"SUM(T98,T100,T112,T118,T133)","v":485800},{"$f":"SUM(U98,U100,U112,U118,U133)","v":485800},{"$f":"SUM(V98,V100,V112,V118,V133)","v":0},0,0,0,0,0,{"$f":"SUM(AB98,AB100,AB112,AB118,AB133)","v":0},{"$f":"SUM(AC98,AC100,AC112,AC118,AC133)","v":0},{"$f":"SUM(AD98,AD100,AD112,AD118,AD133)","v":0},0,0,0,0,0,null,null,0,"+K94+K97+K98+K108+K114+K129"]
["k227",227,null,"H. Egyházközség által számolt egyházközségi tájékoztató adatok"]
["k228",228,null,"Gyülekezeti tagoktól származó bevételek",null,null,null,null,null,null,null,null,null,null,null,null,null,null,null,{"$f":"SUM(U237:AA237)","v":0},{"$f":"SUMIF('Terv-segédlet'!$B:$B,$A237,'Terv-segédlet'!E:E)","v":0},{"$f":"SUMIF('Terv-segédlet'!$B:$B,$A237,'Terv-segédlet'!F:F)","v":0},{"$f":"SUMIF('Terv-segédlet'!$B:$B,$A237,'Terv-segédlet'!G:G)","v":0},{"$f":"SUMIF('Terv-segédlet'!$B:$B,$A237,'Terv-segédlet'!H:H)","v":0},{"$f":"SUMIF('Terv-segédlet'!$B:$B,$A237,'Terv-segédlet'!I:I)","v":0},{"$f":"SUMIF('Terv-segédlet'!$B:$B,$A237,'Terv-segédlet'!J:J)","v":0},{"$f":"SUMIF('Terv-segédlet'!$B:$B,$A237,'Terv-segédlet'!K:K)","v":0},{"$f":"SUM(AC237:AI237)","v":0},{"$f":"SUMIF(V!$A:$A,$A237,V!$L:$L)+SUMIF(bank!$A:$A,AC$9&$A237,bank!$N:$N)","v":0},{"$f":"SUMIF(Gy!$A:$A,$A237,Gy!$L:$L)+SUMIF(bank!$A:$A,AD$9&$A237,bank!$N:$N)","v":0},{"$f":"SUMIF(K!$A:$A,$A237,K!$L:$L)+SUMIF(bank!$A:$A,AE$9&$A237,bank!$N:$N)","v":0},{"$f":"SUMIF(Mk!$A:$A,$A237,Mk!$L:$L)+SUMIF(bank!$A:$A,AF$9&$A237,bank!$N:$N)","v":0},{"$f":"SUMIF(M!$A:$A,$A237,M!$L:$L)+SUMIF(bank!$A:$A,AG$9&$A237,bank!$N:$N)","v":0},{"$f":"SUMIF(P!$A:$A,$A237,P!$L:$L)+SUMIF(bank!$A:$A,AH$9&$A237,bank!$N:$N)","v":0},{"$f":"SUMIF(Zs!$A:$A,$A237,Zs!$L:$L)+SUMIF(bank!$A:$A,AI$9&$A237,bank!$N:$N)","v":0},null,null,null,"Analitikus nyilvántartásokból egyházi jogi személy által kigyűjtött összeg"]
["k229",229,null,"Gazdálkodásból származó bevételek",null,null,null,null,null,null,null,null,null,null,null,null,null,null,null,0,{"$f":"SUMIF('Terv-segédlet'!$B:$B,$A238,'Terv-segédlet'!E:E)","v":0},{"$f":"SUMIF('Terv-segédlet'!$B:$B,$A238,'Terv-segédlet'!F:F)","v":0},{"$f":"SUMIF('Terv-segédlet'!$B:$B,$A238,'Terv-segédlet'!G:G)","v":0},{"$f":"SUMIF('Terv-segédlet'!$B:$B,$A238,'Terv-segédlet'!H:H)","v":0},{"$f":"SUMIF('Terv-segédlet'!$B:$B,$A238,'Terv-segédlet'!I:I)","v":0},{"$f":"SUMIF('Terv-segédlet'!$B:$B,$A238,'Terv-segédlet'!J:J)","v":0},{"$f":"SUMIF('Terv-segédlet'!$B:$B,$A238,'Terv-segédlet'!K:K)","v":0},0,{"$f":"SUMIF(V!$A:$A,$A238,V!$L:$L)+SUMIF(bank!$A:$A,AC$9&$A238,bank!$N:$N)","v":0},{"$f":"SUMIF(Gy!$A:$A,$A238,Gy!$L:$L)+SUMIF(bank!$A:$A,AD$9&$A238,bank!$N:$N)","v":0},{"$f":"SUMIF(K!$A:$A,$A238,K!$L:$L)+SUMIF(bank!$A:$A,AE$9&$A238,bank!$N:$N)","v":0},{"$f":"SUMIF(Mk!$A:$A,$A238,Mk!$L:$L)+SUMIF(bank!$A:$A,AF$9&$A238,bank!$N:$N)","v":0},{"$f":"SUMIF(M!$A:$A,$A238,M!$L:$L)+SUMIF(bank!$A:$A,AG$9&$A238,bank!$N:$N)","v":0},{"$f":"SUMIF(P!$A:$A,$A238,P!$L:$L)+SUMIF(bank!$A:$A,AH$9&$A238,bank!$N:$N)","v":0},{"$f":"SUMIF(Zs!$A:$A,$A238,Zs!$L:$L)+SUMIF(bank!$A:$A,AI$9&$A238,bank!$N:$N)","v":0},null,null,null,"Analitikus nyilvántartásokból egyházi jogi személy által kigyűjtött összeg"]
["k230",230,null,"Ingatlan értékesítés bevétele",null,null,null,null,null,null,null,null,null,null,null,null,null,null,null,0,{"$f":"SUMIF('Terv-segédlet'!$B:$B,$A239,'Terv-segédlet'!E:E)","v":0},{"$f":"SUMIF('Terv-segédlet'!$B:$B,$A239,'Terv-segédlet'!F:F)","v":0},{"$f":"SUMIF('Terv-segédlet'!$B:$B,$A239,'Terv-segédlet'!G:G)","v":0},{"$f":"SUMIF('Terv-segédlet'!$B:$B,$A239,'Terv-segédlet'!H:H)","v":0},{"$f":"SUMIF('Terv-segédlet'!$B:$B,$A239,'Terv-segédlet'!I:I)","v":0},{"$f":"SUMIF('Terv-segédlet'!$B:$B,$A239,'Terv-segédlet'!J:J)","v":0},{"$f":"SUMIF('Terv-segédlet'!$B:$B,$A239,'Terv-segédlet'!K:K)","v":0},0,{"$f":"SUMIF(V!$A:$A,$A239,V!$L:$L)+SUMIF(bank!$A:$A,AC$9&$A239,bank!$N:$N)","v":0},{"$f":"SUMIF(Gy!$A:$A,$A239,Gy!$L:$L)+SUMIF(bank!$A:$A,AD$9&$A239,bank!$N:$N)","v":0},{"$f":"SUMIF(K!$A:$A,$A239,K!$L:$L)+SUMIF(bank!$A:$A,AE$9&$A239,bank!$N:$N)","v":0},{"$f":"SUMIF(Mk!$A:$A,$A239,Mk!$L:$L)+SUMIF(bank!$A:$A,AF$9&$A239,bank!$N:$N)","v":0},{"$f":"SUMIF(M!$A:$A,$A239,M!$L:$L)+SUMIF(bank!$A:$A,AG$9&$A239,bank!$N:$N)","v":0},{"$f":"SUMIF(P!$A:$A,$A239,P!$L:$L)+SUMIF(bank!$A:$A,AH$9&$A239,bank!$N:$N)","v":0},{"$f":"SUMIF(Zs!$A:$A,$A239,Zs!$L:$L)+SUMIF(bank!$A:$A,AI$9&$A239,bank!$N:$N)","v":0},null,null,null,"Analitikus nyilvántartásokból egyházi jogi személy által kigyűjtött összeg"]
["k231",231,null,"Működési támogatás jellegű bevételek",null,null,null,null,null,null,null,null,null,null,null,null,null,null,null,0,{"$f":"SUMIF('Terv-segédlet'!$B:$B,$A240,'Terv-segédlet'!E:E)","v":0},{"$f":"SUMIF('Terv-segédlet'!$B:$B,$A240,'Terv-segédlet'!F:F)","v":0},{"$f":"SUMIF('Terv-segédlet'!$B:$B,$A240,'Terv-segédlet'!G:G)","v":0},{"$f":"SUMIF('Terv-segédlet'!$B:$B,$A240,'Terv-segédlet'!H:H)","v":0},{"$f":"SUMIF('Terv-segédlet'!$B:$B,$A240,'Terv-segédlet'!I:I)","v":0},{"$f":"SUMIF('Terv-segédlet'!$B:$B,$A240,'Terv-segédlet'!J:J)","v":0},{"$f":"SUMIF('Terv-segédlet'!$B:$B,$A240,'Terv-segédlet'!K:K)","v":0},0,{"$f":"SUMIF(V!$A:$A,$A240,V!$L:$L)+SUMIF(bank!$A:$A,AC$9&$A240,bank!$N:$N)","v":0},{"$f":"SUMIF(Gy!$A:$A,$A240,Gy!$L:$L)+SUMIF(bank!$A:$A,AD$9&$A240,bank!$N:$N)","v":0},{"$f":"SUMIF(K!$A:$A,$A240,K!$L:$L)+SUMIF(bank!$A:$A,AE$9&$A240,bank!$N:$N)","v":0},{"$f":"SUMIF(Mk!$A:$A,$A240,Mk!$L:$L)+SUMIF(bank!$A:$A,AF$9&$A240,bank!$N:$N)","v":0},{"$f":"SUMIF(M!$A:$A,$A240,M!$L:$L)+SUMIF(bank!$A:$A,AG$9&$A240,bank!$N:$N)","v":0},{"$f":"SUMIF(P!$A:$A,$A240,P!$L:$L)+SUMIF(bank!$A:$A,AH$9&$A240,bank!$N:$N)","v":0},{"$f":"SUMIF(Zs!$A:$A,$A240,Zs!$L:$L)+SUMIF(bank!$A:$A,AI$9&$A240,bank!$N:$N)","v":0},null,null,null,"Analitikus nyilvántartásokból egyházi jogi személy által kigyűjtött összeg"]
["k232",232,null,"Lelkészi szolgálattal kapcsolatos elkülöníthető költségek",null,null,null,null,null,null,null,null,null,null,null,null,null,null,null,0,{"$f":"SUMIF('Terv-segédlet'!$B:$B,$A241,'Terv-segédlet'!E:E)","v":0},{"$f":"SUMIF('Terv-segédlet'!$B:$B,$A241,'Terv-segédlet'!F:F)","v":0},{"$f":"SUMIF('Terv-segédlet'!$B:$B,$A241,'Terv-segédlet'!G:G)","v":0},{"$f":"SUMIF('Terv-segédlet'!$B:$B,$A241,'Terv-segédlet'!H:H)","v":0},{"$f":"SUMIF('Terv-segédlet'!$B:$B,$A241,'Terv-segédlet'!I:I)","v":0},{"$f":"SUMIF('Terv-segédlet'!$B:$B,$A241,'Terv-segédlet'!J:J)","v":0},{"$f":"SUMIF('Terv-segédlet'!$B:$B,$A241,'Terv-segédlet'!K:K)","v":0},0,{"$f":"SUMIF(V!$A:$A,$A241,V!$L:$L)+SUMIF(bank!$A:$A,AC$9&$A241,bank!$N:$N)","v":0},{"$f":"SUMIF(Gy!$A:$A,$A241,Gy!$L:$L)+SUMIF(bank!$A:$A,AD$9&$A241,bank!$N:$N)","v":0},{"$f":"SUMIF(K!$A:$A,$A241,K!$L:$L)+SUMIF(bank!$A:$A,AE$9&$A241,bank!$N:$N)","v":0},{"$f":"SUMIF(Mk!$A:$A,$A241,Mk!$L:$L)+SUMIF(bank!$A:$A,AF$9&$A241,bank!$N:$N)","v":0},{"$f":"SUMIF(M!$A:$A,$A241,M!$L:$L)+SUMIF(bank!$A:$A,AG$9&$A241,bank!$N:$N)","v":0},{"$f":"SUMIF(P!$A:$A,$A241,P!$L:$L)+SUMIF(bank!$A:$A,AH$9&$A241,bank!$N:$N)","v":0},{"$f":"SUMIF(Zs!$A:$A,$A241,Zs!$L:$L)+SUMIF(bank!$A:$A,AI$9&$A241,bank!$N:$N)","v":0},null,null,null,"Analitikus nyilvántartásokból egyházi jogi személy által kigyűjtött összeg"]
["k233",233,null,"Nem lelkészi alkalmazottakkal kapcsolatos költségek",null,null,null,null,null,null,null,null,null,null,null,null,null,null,null,0,{"$f":"SUMIF('Terv-segédlet'!$B:$B,$A242,'Terv-segédlet'!E:E)","v":0},{"$f":"SUMIF('Terv-segédlet'!$B:$B,$A242,'Terv-segédlet'!F:F)","v":0},{"$f":"SUMIF('Terv-segédlet'!$B:$B,$A242,'Terv-segédlet'!G:G)","v":0},{"$f":"SUMIF('Terv-segédlet'!$B:$B,$A242,'Terv-segédlet'!H:H)","v":0},{"$f":"SUMIF('Terv-segédlet'!$B:$B,$A242,'Terv-segédlet'!I:I)","v":0},{"$f":"SUMIF('Terv-segédlet'!$B:$B,$A242,'Terv-segédlet'!J:J)","v":0},{"$f":"SUMIF('Terv-segédlet'!$B:$B,$A242,'Terv-segédlet'!K:K)","v":0},0,{"$f":"SUMIF(V!$A:$A,$A242,V!$L:$L)+SUMIF(bank!$A:$A,AC$9&$A242,bank!$N:$N)","v":0},{"$f":"SUMIF(Gy!$A:$A,$A242,Gy!$L:$L)+SUMIF(bank!$A:$A,AD$9&$A242,bank!$N:$N)","v":0},{"$f":"SUMIF(K!$A:$A,$A242,K!$L:$L)+SUMIF(bank!$A:$A,AE$9&$A242,bank!$N:$N)","v":0},{"$f":"SUMIF(Mk!$A:$A,$A242,Mk!$L:$L)+SUMIF(bank!$A:$A,AF$9&$A242,bank!$N:$N)","v":0},{"$f":"SUMIF(M!$A:$A,$A242,M!$L:$L)+SUMIF(bank!$A:$A,AG$9&$A242,bank!$N:$N)","v":0},{"$f":"SUMIF(P!$A:$A,$A242,P!$L:$L)+SUMIF(bank!$A:$A,AH$9&$A242,bank!$N:$N)","v":0},{"$f":"SUMIF(Zs!$A:$A,$A242,Zs!$L:$L)+SUMIF(bank!$A:$A,AI$9&$A242,bank!$N:$N)","v":0},null,null,null,"Analitikus nyilvántartásokból egyházi jogi személy által kigyűjtött összeg"]
["k234",234,null,"Fenntartói nyugdíjjárulék kiadás",null,null,null,null,null,null,null,null,null,null,null,null,null,null,null,0,{"$f":"SUMIF('Terv-segédlet'!$B:$B,$A243,'Terv-segédlet'!E:E)","v":0},{"$f":"SUMIF('Terv-segédlet'!$B:$B,$A243,'Terv-segédlet'!F:F)","v":0},{"$f":"SUMIF('Terv-segédlet'!$B:$B,$A243,'Terv-segédlet'!G:G)","v":0},{"$f":"SUMIF('Terv-segédlet'!$B:$B,$A243,'Terv-segédlet'!H:H)","v":0},{"$f":"SUMIF('Terv-segédlet'!$B:$B,$A243,'Terv-segédlet'!I:I)","v":0},{"$f":"SUMIF('Terv-segédlet'!$B:$B,$A243,'Terv-segédlet'!J:J)","v":0},{"$f":"SUMIF('Terv-segédlet'!$B:$B,$A243,'Terv-segédlet'!K:K)","v":0},0,{"$f":"SUMIF(V!$A:$A,$A243,V!$L:$L)+SUMIF(bank!$A:$A,AC$9&$A243,bank!$N:$N)","v":0},{"$f":"SUMIF(Gy!$A:$A,$A243,Gy!$L:$L)+SUMIF(bank!$A:$A,AD$9&$A243,bank!$N:$N)","v":0},{"$f":"SUMIF(K!$A:$A,$A243,K!$L:$L)+SUMIF(bank!$A:$A,AE$9&$A243,bank!$N:$N)","v":0},{"$f":"SUMIF(Mk!$A:$A,$A243,Mk!$L:$L)+SUMIF(bank!$A:$A,AF$9&$A243,bank!$N:$N)","v":0},{"$f":"SUMIF(M!$A:$A,$A243,M!$L:$L)+SUMIF(bank!$A:$A,AG$9&$A243,bank!$N:$N)","v":0},{"$f":"SUMIF(P!$A:$A,$A243,P!$L:$L)+SUMIF(bank!$A:$A,AH$9&$A243,bank!$N:$N)","v":0},{"$f":"SUMIF(Zs!$A:$A,$A243,Zs!$L:$L)+SUMIF(bank!$A:$A,AI$9&$A243,bank!$N:$N)","v":0},null,null,null,"Analitikus nyilvántartásokból egyházi jogi személy által kigyűjtött összeg"]
["k235",235,null,"Lelkészlakással kapcsolatos kiadások",null,null,null,null,null,null,null,null,null,null,null,null,null,null,null,0,{"$f":"SUMIF('Terv-segédlet'!$B:$B,$A244,'Terv-segédlet'!E:E)","v":0},{"$f":"SUMIF('Terv-segédlet'!$B:$B,$A244,'Terv-segédlet'!F:F)","v":0},{"$f":"SUMIF('Terv-segédlet'!$B:$B,$A244,'Terv-segédlet'!G:G)","v":0},{"$f":"SUMIF('Terv-segédlet'!$B:$B,$A244,'Terv-segédlet'!H:H)","v":0},{"$f":"SUMIF('Terv-segédlet'!$B:$B,$A244,'Terv-segédlet'!I:I)","v":0},{"$f":"SUMIF('Terv-segédlet'!$B:$B,$A244,'Terv-segédlet'!J:J)","v":0},{"$f":"SUMIF('Terv-segédlet'!$B:$B,$A244,'Terv-segédlet'!K:K)","v":0},0,{"$f":"SUMIF(V!$A:$A,$A244,V!$L:$L)+SUMIF(bank!$A:$A,AC$9&$A244,bank!$N:$N)","v":0},{"$f":"SUMIF(Gy!$A:$A,$A244,Gy!$L:$L)+SUMIF(bank!$A:$A,AD$9&$A244,bank!$N:$N)","v":0},{"$f":"SUMIF(K!$A:$A,$A244,K!$L:$L)+SUMIF(bank!$A:$A,AE$9&$A244,bank!$N:$N)","v":0},{"$f":"SUMIF(Mk!$A:$A,$A244,Mk!$L:$L)+SUMIF(bank!$A:$A,AF$9&$A244,bank!$N:$N)","v":0},{"$f":"SUMIF(M!$A:$A,$A244,M!$L:$L)+SUMIF(bank!$A:$A,AG$9&$A244,bank!$N:$N)","v":0},{"$f":"SUMIF(P!$A:$A,$A244,P!$L:$L)+SUMIF(bank!$A:$A,AH$9&$A244,bank!$N:$N)","v":0},{"$f":"SUMIF(Zs!$A:$A,$A244,Zs!$L:$L)+SUMIF(bank!$A:$A,AI$9&$A244,bank!$N:$N)","v":0},null,null,null,"Analitikus nyilvántartásokból egyházi jogi személy által kigyűjtött összeg"]
["k236",236,null,"Gépjárművekkel kapcsolatos kiadások",null,null,null,null,null,null,null,null,null,null,null,null,null,null,null,0,{"$f":"SUMIF('Terv-segédlet'!$B:$B,$A245,'Terv-segédlet'!E:E)","v":0},{"$f":"SUMIF('Terv-segédlet'!$B:$B,$A245,'Terv-segédlet'!F:F)","v":0},{"$f":"SUMIF('Terv-segédlet'!$B:$B,$A245,'Terv-segédlet'!G:G)","v":0},{"$f":"SUMIF('Terv-segédlet'!$B:$B,$A245,'Terv-segédlet'!H:H)","v":0},{"$f":"SUMIF('Terv-segédlet'!$B:$B,$A245,'Terv-segédlet'!I:I)","v":0},{"$f":"SUMIF('Terv-segédlet'!$B:$B,$A245,'Terv-segédlet'!J:J)","v":0},{"$f":"SUMIF('Terv-segédlet'!$B:$B,$A245,'Terv-segédlet'!K:K)","v":0},0,{"$f":"SUMIF(V!$A:$A,$A245,V!$L:$L)+SUMIF(bank!$A:$A,AC$9&$A245,bank!$N:$N)","v":0},{"$f":"SUMIF(Gy!$A:$A,$A245,Gy!$L:$L)+SUMIF(bank!$A:$A,AD$9&$A245,bank!$N:$N)","v":0},{"$f":"SUMIF(K!$A:$A,$A245,K!$L:$L)+SUMIF(bank!$A:$A,AE$9&$A245,bank!$N:$N)","v":0},{"$f":"SUMIF(Mk!$A:$A,$A245,Mk!$L:$L)+SUMIF(bank!$A:$A,AF$9&$A245,bank!$N:$N)","v":0},{"$f":"SUMIF(M!$A:$A,$A245,M!$L:$L)+SUMIF(bank!$A:$A,AG$9&$A245,bank!$N:$N)","v":0},{"$f":"SUMIF(P!$A:$A,$A245,P!$L:$L)+SUMIF(bank!$A:$A,AH$9&$A245,bank!$N:$N)","v":0},{"$f":"SUMIF(Zs!$A:$A,$A245,Zs!$L:$L)+SUMIF(bank!$A:$A,AI$9&$A245,bank!$N:$N)","v":0},null,null,null,"Analitikus nyilvántartásokból egyházi jogi személy által kigyűjtött összeg"]
["k237",237,null,"Belmisszióval kapcsolatos kiadások",null,null,null,null,null,null,null,null,null,null,null,null,null,null,null,0,{"$f":"SUMIF('Terv-segédlet'!$B:$B,$A246,'Terv-segédlet'!E:E)","v":0},{"$f":"SUMIF('Terv-segédlet'!$B:$B,$A246,'Terv-segédlet'!F:F)","v":0},{"$f":"SUMIF('Terv-segédlet'!$B:$B,$A246,'Terv-segédlet'!G:G)","v":0},{"$f":"SUMIF('Terv-segédlet'!$B:$B,$A246,'Terv-segédlet'!H:H)","v":0},{"$f":"SUMIF('Terv-segédlet'!$B:$B,$A246,'Terv-segédlet'!I:I)","v":0},{"$f":"SUMIF('Terv-segédlet'!$B:$B,$A246,'Terv-segédlet'!J:J)","v":0},{"$f":"SUMIF('Terv-segédlet'!$B:$B,$A246,'Terv-segédlet'!K:K)","v":0},0,{"$f":"SUMIF(V!$A:$A,$A246,V!$L:$L)+SUMIF(bank!$A:$A,AC$9&$A246,bank!$N:$N)","v":0},{"$f":"SUMIF(Gy!$A:$A,$A246,Gy!$L:$L)+SUMIF(bank!$A:$A,AD$9&$A246,bank!$N:$N)","v":0},{"$f":"SUMIF(K!$A:$A,$A246,K!$L:$L)+SUMIF(bank!$A:$A,AE$9&$A246,bank!$N:$N)","v":0},{"$f":"SUMIF(Mk!$A:$A,$A246,Mk!$L:$L)+SUMIF(bank!$A:$A,AF$9&$A246,bank!$N:$N)","v":0},{"$f":"SUMIF(M!$A:$A,$A246,M!$L:$L)+SUMIF(bank!$A:$A,AG$9&$A246,bank!$N:$N)","v":0},{"$f":"SUMIF(P!$A:$A,$A246,P!$L:$L)+SUMIF(bank!$A:$A,AH$9&$A246,bank!$N:$N)","v":0},{"$f":"SUMIF(Zs!$A:$A,$A246,Zs!$L:$L)+SUMIF(bank!$A:$A,AI$9&$A246,bank!$N:$N)","v":0},null,null,null,"Analitikus nyilvántartásokból egyházi jogi személy által kigyűjtött összeg"]
["k238",238,null,"Ifjúsági táborok költsége",null,null,null,null,null,null,null,null,null,null,null,null,null,null,null,0,{"$f":"SUMIF('Terv-segédlet'!$B:$B,$A247,'Terv-segédlet'!E:E)","v":0},{"$f":"SUMIF('Terv-segédlet'!$B:$B,$A247,'Terv-segédlet'!F:F)","v":0},{"$f":"SUMIF('Terv-segédlet'!$B:$B,$A247,'Terv-segédlet'!G:G)","v":0},{"$f":"SUMIF('Terv-segédlet'!$B:$B,$A247,'Terv-segédlet'!H:H)","v":0},{"$f":"SUMIF('Terv-segédlet'!$B:$B,$A247,'Terv-segédlet'!I:I)","v":0},{"$f":"SUMIF('Terv-segédlet'!$B:$B,$A247,'Terv-segédlet'!J:J)","v":0},{"$f":"SUMIF('Terv-segédlet'!$B:$B,$A247,'Terv-segédlet'!K:K)","v":0},0,{"$f":"SUMIF(V!$A:$A,$A247,V!$L:$L)+SUMIF(bank!$A:$A,AC$9&$A247,bank!$N:$N)","v":0},{"$f":"SUMIF(Gy!$A:$A,$A247,Gy!$L:$L)+SUMIF(bank!$A:$A,AD$9&$A247,bank!$N:$N)","v":0},{"$f":"SUMIF(K!$A:$A,$A247,K!$L:$L)+SUMIF(bank!$A:$A,AE$9&$A247,bank!$N:$N)","v":0},{"$f":"SUMIF(Mk!$A:$A,$A247,Mk!$L:$L)+SUMIF(bank!$A:$A,AF$9&$A247,bank!$N:$N)","v":0},{"$f":"SUMIF(M!$A:$A,$A247,M!$L:$L)+SUMIF(bank!$A:$A,AG$9&$A247,bank!$N:$N)","v":0},{"$f":"SUMIF(P!$A:$A,$A247,P!$L:$L)+SUMIF(bank!$A:$A,AH$9&$A247,bank!$N:$N)","v":0},{"$f":"SUMIF(Zs!$A:$A,$A247,Zs!$L:$L)+SUMIF(bank!$A:$A,AI$9&$A247,bank!$N:$N)","v":0},null,null,null,"Analitikus nyilvántartásokból egyházi jogi személy által kigyűjtött összeg"]
["k239",239,null,"Temetőfenntartás költsége",null,null,null,null,null,null,null,null,null,null,null,null,null,null,null,0,{"$f":"SUMIF('Terv-segédlet'!$B:$B,$A248,'Terv-segédlet'!E:E)","v":0},{"$f":"SUMIF('Terv-segédlet'!$B:$B,$A248,'Terv-segédlet'!F:F)","v":0},{"$f":"SUMIF('Terv-segédlet'!$B:$B,$A248,'Terv-segédlet'!G:G)","v":0},{"$f":"SUMIF('Terv-segédlet'!$B:$B,$A248,'Terv-segédlet'!H:H)","v":0},{"$f":"SUMIF('Terv-segédlet'!$B:$B,$A248,'Terv-segédlet'!I:I)","v":0},{"$f":"SUMIF('Terv-segédlet'!$B:$B,$A248,'Terv-segédlet'!J:J)","v":0},{"$f":"SUMIF('Terv-segédlet'!$B:$B,$A248,'Terv-segédlet'!K:K)","v":0},0,{"$f":"SUMIF(V!$A:$A,$A248,V!$L:$L)+SUMIF(bank!$A:$A,AC$9&$A248,bank!$N:$N)","v":0},{"$f":"SUMIF(Gy!$A:$A,$A248,Gy!$L:$L)+SUMIF(bank!$A:$A,AD$9&$A248,bank!$N:$N)","v":0},{"$f":"SUMIF(K!$A:$A,$A248,K!$L:$L)+SUMIF(bank!$A:$A,AE$9&$A248,bank!$N:$N)","v":0},{"$f":"SUMIF(Mk!$A:$A,$A248,Mk!$L:$L)+SUMIF(bank!$A:$A,AF$9&$A248,bank!$N:$N)","v":0},{"$f":"SUMIF(M!$A:$A,$A248,M!$L:$L)+SUMIF(bank!$A:$A,AG$9&$A248,bank!$N:$N)","v":0},{"$f":"SUMIF(P!$A:$A,$A248,P!$L:$L)+SUMIF(bank!$A:$A,AH$9&$A248,bank!$N:$N)","v":0},{"$f":"SUMIF(Zs!$A:$A,$A248,Zs!$L:$L)+SUMIF(bank!$A:$A,AI$9&$A248,bank!$N:$N)","v":0},null,null,null,"Analitikus nyilvántartásokból egyházi jogi személy által kigyűjtött összeg"]
[null,"Egyszerűsített pénzforgalmi egyeztetés, egyéb tájékoztató adatok"]
["p001","1",null,"A. NYITÓ PÉNZESZKÖZ",null,null,null,null,null,null,null,null,null,null,null,null,null,null,null,null,null,null,null,null,null,null,null,{"$f":"SUM(AC250:AI250)","v":13980586},{"$f":"mérleg1!D4+mérleg1!D5","v":5350262},{"$f":"mérleg1!E4+mérleg1!E5","v":622960},{"$f":"mérleg1!F4+mérleg1!F5","v":546880},{"$f":"mérleg1!G4+mérleg1!G5","v":3353208},{"$f":"mérleg1!H4+mérleg1!H5","v":2786627},{"$f":"mérleg1!I4+mérleg1!I5","v":323361},{"$f":"mérleg1!J4+mérleg1!J5","v":997288},null,null,null,"előző időszak záró pénzkészlete"]
["p002","2",null,"I. Pénzügyileg rendezett bevételek",null,null,null,null,null,null,null,null,null,null,null,null,null,null,null,{"$f":"SUM(U251:AA251)","v":12527500},{"$f":"U10","v":594000},{"$f":"V10","v":374000},861500,7559000,2366000,276500,496500,{"$f":"AB10","v":119302},{"$f":"AC10","v":2985},{"$f":"AD10","v":16},324,31200,84166,58,553,null,null,null,"Költségvetés K1 sor összege"]
["p003","3",null,"F. Tájékoztató adatok - pénzbevételek",null,null,null,null,null,null,null,null,null,null,null,null,null,null,null,{"$f":"SUM(T253:T261)","v":3694893},{"$f":"SUM(U253:U261)","v":3694893},0,0,0,0,0,0,{"$f":"SUM(AB253:AB261)","v":99366},{"$f":"SUM(AC253:AC261)","v":69366},0,0,0,0,0,30000]
["p004","4",null,"- Lelkészi nyugdíjjárulék",null,null,null,null,null,null,null,null,null,null,null,null,null,null,null,{"$f":"SUM(U253:AA253)","v":431893},{"$f":"SUMIF('Terv-segédlet'!$B:$B,$A253,'Terv-segédlet'!E:E)","v":431893},{"$f":"SUMIF('Terv-segédlet'!$B:$B,$A253,'Terv-segédlet'!F:F)","v":0},{"$f":"SUMIF('Terv-segédlet'!$B:$B,$A253,'Terv-segédlet'!G:G)","v":0},{"$f":"SUMIF('Terv-segédlet'!$B:$B,$A253,'Terv-segédlet'!H:H)","v":0},{"$f":"SUMIF('Terv-segédlet'!$B:$B,$A253,'Terv-segédlet'!I:I)","v":0},{"$f":"SUMIF('Terv-segédlet'!$B:$B,$A253,'Terv-segédlet'!J:J)","v":0},{"$f":"SUMIF('Terv-segédlet'!$B:$B,$A253,'Terv-segédlet'!K:K)","v":0},{"$f":"SUM(AC253:AI253)","v":39366},{"$f":"SUMIF(V!$A:$A,$A253,V!$K:$K)+SUMIF(bank!$A:$A,AC$9&$A253,bank!$M:$M)","v":39366},{"$f":"SUMIF(V!$A:$A,$A253,V!$K:$K)+SUMIF(bank!$A:$A,AD$9&$A253,bank!$M:$M)","v":0},{"$f":"SUMIF(V!$A:$A,$A253,V!$K:$K)+SUMIF(bank!$A:$A,AE$9&$A253,bank!$M:$M)","v":0},{"$f":"SUMIF(V!$A:$A,$A253,V!$K:$K)+SUMIF(bank!$A:$A,AF$9&$A253,bank!$M:$M)","v":0},{"$f":"SUMIF(V!$A:$A,$A253,V!$K:$K)+SUMIF(bank!$A:$A,AG$9&$A253,bank!$M:$M)","v":0},{"$f":"SUMIF(V!$A:$A,$A253,V!$K:$K)+SUMIF(bank!$A:$A,AH$9&$A253,bank!$M:$M)","v":0},{"$f":"SUMIF(V!$A:$A,$A253,V!$K:$K)+SUMIF(bank!$A:$A,AI$9&$A253,bank!$M:$M)","v":0},"*","b",{"$f":"IF(AND(OR(T253<>0,AB253<>0),T253<>0),ABS(AB253/T253),\"\")","v":9.1147575904217015E-2},"lelkész által befizetett (bevételezett) lelkészi nyugdíjjárulék összege"]
["p005","5",null,"- Személyi jövedelemadó",null,null,null,null,null,null,null,null,null,null,null,null,null,null,null,{"$f":"SUM(U254:AA254)","v":0},{"$f":"SUMIF('Terv-segédlet'!$B:$B,$A254,'Terv-segédlet'!E:E)","v":0},{"$f":"SUMIF('Terv-segédlet'!$B:$B,$A254,'Terv-segédlet'!F:F)","v":0},{"$f":"SUMIF('Terv-segédlet'!$B:$B,$A254,'Terv-segédlet'!G:G)","v":0},{"$f":"SUMIF('Terv-segédlet'!$B:$B,$A254,'Terv-segédlet'!H:H)","v":0},{"$f":"SUMIF('Terv-segédlet'!$B:$B,$A254,'Terv-segédlet'!I:I)","v":0},{"$f":"SUMIF('Terv-segédlet'!$B:$B,$A254,'Terv-segédlet'!J:J)","v":0},{"$f":"SUMIF('Terv-segédlet'!$B:$B,$A254,'Terv-segédlet'!K:K)","v":0},{"$f":"SUM(AC254:AI254)","v":0},{"$f":"SUMIF(V!$A:$A,$A254,V!$K:$K)+SUMIF(bank!$A:$A,AC$9&$A254,bank!$M:$M)","v":0},{"$f":"SUMIF(V!$A:$A,$A254,V!$K:$K)+SUMIF(bank!$A:$A,AD$9&$A254,bank!$M:$M)","v":0},{"$f":"SUMIF(V!$A:$A,$A254,V!$K:$K)+SUMIF(bank!$A:$A,AE$9&$A254,bank!$M:$M)","v":0},{"$f":"SUMIF(V!$A:$A,$A254,V!$K:$K)+SUMIF(bank!$A:$A,AF$9&$A254,bank!$M:$M)","v":0},{"$f":"SUMIF(V!$A:$A,$A254,V!$K:$K)+SUMIF(bank!$A:$A,AG$9&$A254,bank!$M:$M)","v":0},{"$f":"SUMIF(V!$A:$A,$A254,V!$K:$K)+SUMIF(bank!$A:$A,AH$9&$A254,bank!$M:$M)","v":0},{"$f":"SUMIF(V!$A:$A,$A254,V!$K:$K)+SUMIF(bank!$A:$A,AI$9&$A254,bank!$M:$M)","v":0},"*","b",{"$f":"IF(AND(OR(T254<>0,AB254<>0),T254<>0),ABS(AB254/T254),\"\")","v":""},"lelkésztől vagy nem lelkész munkatárstól levont (bevételezett) személyi jövedelemadó"]
["p006","6",null,"- Alkalmazottak járulékai, egyéb levonások",null,null,null,null,null,null,null,null,null,null,null,null,null,null,null,0,{"$f":"SUMIF('Terv-segédlet'!$B:$B,$A255,'Terv-segédlet'!E:E)","v":0},{"$f":"SUMIF('Terv-segédlet'!$B:$B,$A255,'Terv-segédlet'!F:F)","v":0},{"$f":"SUMIF('Terv-segédlet'!$B:$B,$A255,'Terv-segédlet'!G:G)","v":0},{"$f":"SUMIF('Terv-segédlet'!$B:$B,$A255,'Terv-segédlet'!H:H)","v":0},{"$f":"SUMIF('Terv-segédlet'!$B:$B,$A255,'Terv-segédlet'!I:I)","v":0},{"$f":"SUMIF('Terv-segédlet'!$B:$B,$A255,'Terv-segédlet'!J:J)","v":0},{"$f":"SUMIF('Terv-segédlet'!$B:$B,$A255,'Terv-segédlet'!K:K)","v":0},0,{"$f":"SUMIF(V!$A:$A,$A255,V!$K:$K)+SUMIF(bank!$A:$A,AC$9&$A255,bank!$M:$M)","v":0},{"$f":"SUMIF(V!$A:$A,$A255,V!$K:$K)+SUMIF(bank!$A:$A,AD$9&$A255,bank!$M:$M)","v":0},{"$f":"SUMIF(V!$A:$A,$A255,V!$K:$K)+SUMIF(bank!$A:$A,AE$9&$A255,bank!$M:$M)","v":0},{"$f":"SUMIF(V!$A:$A,$A255,V!$K:$K)+SUMIF(bank!$A:$A,AF$9&$A255,bank!$M:$M)","v":0},{"$f":"SUMIF(V!$A:$A,$A255,V!$K:$K)+SUMIF(bank!$A:$A,AG$9&$A255,bank!$M:$M)","v":0},{"$f":"SUMIF(V!$A:$A,$A255,V!$K:$K)+SUMIF(bank!$A:$A,AH$9&$A255,bank!$M:$M)","v":0},{"$f":"SUMIF(V!$A:$A,$A255,V!$K:$K)+SUMIF(bank!$A:$A,AI$9&$A255,bank!$M:$M)","v":0},"*","b","","alkalmazottaktól levont (bevételezett) nyugdíjjárulék, egészségbiztosítási és MEP járulék, EHO, stb."]
["p007","7",null,"- Egyházközség más részétől (társ, leány)",null,null,null,null,null,null,null,null,null,null,null,null,null,null,null,3263000,{"$f":"SUMIF('Terv-segédlet'!$B:$B,$A256,'Terv-segédlet'!E:E)","v":3263000},{"$f":"SUMIF('Terv-segédlet'!$B:$B,$A256,'Terv-segédlet'!F:F)","v":0},{"$f":"SUMIF('Terv-segédlet'!$B:$B,$A256,'Terv-segédlet'!G:G)","v":0},{"$f":"SUMIF('Terv-segédlet'!$B:$B,$A256,'Terv-segédlet'!H:H)","v":0},{"$f":"SUMIF('Terv-segédlet'!$B:$B,$A256,'Terv-segédlet'!I:I)","v":0},{"$f":"SUMIF('Terv-segédlet'!$B:$B,$A256,'Terv-segédlet'!J:J)","v":0},{"$f":"SUMIF('Terv-segédlet'!$B:$B,$A256,'Terv-segédlet'!K:K)","v":0},30000,{"$f":"SUMIF(V!$A:$A,$A256,V!$K:$K)+SUMIF(bank!$A:$A,AC$9&$A256,bank!$M:$M)","v":30000},{"$f":"SUMIF(V!$A:$A,$A256,V!$K:$K)+SUMIF(bank!$A:$A,AD$9&$A256,bank!$M:$M)","v":0},{"$f":"SUMIF(V!$A:$A,$A256,V!$K:$K)+SUMIF(bank!$A:$A,AE$9&$A256,bank!$M:$M)","v":0},{"$f":"SUMIF(V!$A:$A,$A256,V!$K:$K)+SUMIF(bank!$A:$A,AF$9&$A256,bank!$M:$M)","v":0},{"$f":"SUMIF(V!$A:$A,$A256,V!$K:$K)+SUMIF(bank!$A:$A,AG$9&$A256,bank!$M:$M)","v":0},{"$f":"SUMIF(V!$A:$A,$A256,V!$K:$K)+SUMIF(bank!$A:$A,AH$9&$A256,bank!$M:$M)","v":0},{"$f":"SUMIF(V!$A:$A,$A256,V!$K:$K)+SUMIF(bank!$A:$A,AI$9&$A256,bank!$M:$M)","v":0},"*","b",9.1939932577382779E-3,"azonos adószám alatt nyilvántartott anya- vagy leánygyülekezetektől, társgyülekezetektől átvett pénz"]
["p008","8",null,"-Kölcsöntörlesztés",null,null,null,null,null,null,null,null,null,null,null,null,null,null,null,0,{"$f":"SUMIF('Terv-segédlet'!$B:$B,$A257,'Terv-segédlet'!E:E)","v":0},{"$f":"SUMIF('Terv-segédlet'!$B:$B,$A257,'Terv-segédlet'!F:F)","v":0},{"$f":"SUMIF('Terv-segédlet'!$B:$B,$A257,'Terv-segédlet'!G:G)","v":0},{"$f":"SUMIF('Terv-segédlet'!$B:$B,$A257,'Terv-segédlet'!H:H)","v":0},{"$f":"SUMIF('Terv-segédlet'!$B:$B,$A257,'Terv-segédlet'!I:I)","v":0},{"$f":"SUMIF('Terv-segédlet'!$B:$B,$A257,'Terv-segédlet'!J:J)","v":0},{"$f":"SUMIF('Terv-segédlet'!$B:$B,$A257,'Terv-segédlet'!K:K)","v":0},0,{"$f":"SUMIF(V!$A:$A,$A257,V!$K:$K)+SUMIF(bank!$A:$A,AC$9&$A257,bank!$M:$M)","v":0},{"$f":"SUMIF(V!$A:$A,$A257,V!$K:$K)+SUMIF(bank!$A:$A,AD$9&$A257,bank!$M:$M)","v":0},{"$f":"SUMIF(V!$A:$A,$A257,V!$K:$K)+SUMIF(bank!$A:$A,AE$9&$A257,bank!$M:$M)","v":0},{"$f":"SUMIF(V!$A:$A,$A257,V!$K:$K)+SUMIF(bank!$A:$A,AF$9&$A257,bank!$M:$M)","v":0},{"$f":"SUMIF(V!$A:$A,$A257,V!$K:$K)+SUMIF(bank!$A:$A,AG$9&$A257,bank!$M:$M)","v":0},{"$f":"SUMIF(V!$A:$A,$A257,V!$K:$K)+SUMIF(bank!$A:$A,AH$9&$A257,bank!$M:$M)","v":0},{"$f":"SUMIF(V!$A:$A,$A257,V!$K:$K)+SUMIF(bank!$A:$A,AI$9&$A257,bank!$M:$M)","v":0},"*","b","","korábban adott kölcsönre befizetett törlesztés"]
["p009","9",null,"-Kölcsönfelvétel, előfinanszírozás",null,null,null,null,null,null,null,null,null,null,null,null,null,null,null,0,{"$f":"SUMIF('Terv-segédlet'!$B:$B,$A258,'Terv-segédlet'!E:E)","v":0},{"$f":"SUMIF('Terv-segédlet'!$B:$B,$A258,'Terv-segédlet'!F:F)","v":0},{"$f":"SUMIF('Terv-segédlet'!$B:$B,$A258,'Terv-segédlet'!G:G)","v":0},{"$f":"SUMIF('Terv-segédlet'!$B:$B,$A258,'Terv-segédlet'!H:H)","v":0},{"$f":"SUMIF('Terv-segédlet'!$B:$B,$A258,'Terv-segédlet'!I:I)","v":0},{"$f":"SUMIF('Terv-segédlet'!$B:$B,$A258,'Terv-segédlet'!J:J)","v":0},{"$f":"SUMIF('Terv-segédlet'!$B:$B,$A258,'Terv-segédlet'!K:K)","v":0},0,{"$f":"SUMIF(V!$A:$A,$A258,V!$K:$K)+SUMIF(bank!$A:$A,AC$9&$A258,bank!$M:$M)","v":0},{"$f":"SUMIF(V!$A:$A,$A258,V!$K:$K)+SUMIF(bank!$A:$A,AD$9&$A258,bank!$M:$M)","v":0},{"$f":"SUMIF(V!$A:$A,$A258,V!$K:$K)+SUMIF(bank!$A:$A,AE$9&$A258,bank!$M:$M)","v":0},{"$f":"SUMIF(V!$A:$A,$A258,V!$K:$K)+SUMIF(bank!$A:$A,AF$9&$A258,bank!$M:$M)","v":0},{"$f":"SUMIF(V!$A:$A,$A258,V!$K:$K)+SUMIF(bank!$A:$A,AG$9&$A258,bank!$M:$M)","v":0},{"$f":"SUMIF(V!$A:$A,$A258,V!$K:$K)+SUMIF(bank!$A:$A,AH$9&$A258,bank!$M:$M)","v":0},{"$f":"SUMIF(V!$A:$A,$A258,V!$K:$K)+SUMIF(bank!$A:$A,AI$9&$A258,bank!$M:$M)","v":0},"*","b","","egyházközség által felvett kölcsön, kapott előfinanszírozás"]
["p010","10",null,"-Követelések törlesztése",null,null,null,null,null,null,null,null,null,null,null,null,null,null,null,0,{"$f":"SUMIF('Terv-segédlet'!$B:$B,$A259,'Terv-segédlet'!E:E)","v":0},{"$f":"SUMIF('Terv-segédlet'!$B:$B,$A259,'Terv-segédlet'!F:F)","v":0},{"$f":"SUMIF('Terv-segédlet'!$B:$B,$A259,'Terv-segédlet'!G:G)","v":0},{"$f":"SUMIF('Terv-segédlet'!$B:$B,$A259,'Terv-segédlet'!H:H)","v":0},{"$f":"SUMIF('Terv-segédlet'!$B:$B,$A259,'Terv-segédlet'!I:I)","v":0},{"$f":"SUMIF('Terv-segédlet'!$B:$B,$A259,'Terv-segédlet'!J:J)","v":0},{"$f":"SUMIF('Terv-segédlet'!$B:$B,$A259,'Terv-segédlet'!K:K)","v":0},0,{"$f":"SUMIF(V!$A:$A,$A259,V!$K:$K)+SUMIF(bank!$A:$A,AC$9&$A259,bank!$M:$M)","v":0},{"$f":"SUMIF(V!$A:$A,$A259,V!$K:$K)+SUMIF(bank!$A:$A,AD$9&$A259,bank!$M:$M)","v":0},{"$f":"SUMIF(V!$A:$A,$A259,V!$K:$K)+SUMIF(bank!$A:$A,AE$9&$A259,bank!$M:$M)","v":0},{"$f":"SUMIF(V!$A:$A,$A259,V!$K:$K)+SUMIF(bank!$A:$A,AF$9&$A259,bank!$M:$M)","v":0},{"$f":"SUMIF(V!$A:$A,$A259,V!$K:$K)+SUMIF(bank!$A:$A,AG$9&$A259,bank!$M:$M)","v":0},{"$f":"SUMIF(V!$A:$A,$A259,V!$K:$K)+SUMIF(bank!$A:$A,AH$9&$A259,bank!$M:$M)","v":0},{"$f":"SUMIF(V!$A:$A,$A259,V!$K:$K)+SUMIF(bank!$A:$A,AI$9&$A259,bank!$M:$M)","v":0},"*","b","","egyéb, korábban visszafizetési céllal átadott pénzeszköz megtérítése"]
["p011","11",null,"-Előleg",null,null,null,null,null,null,null,null,null,null,null,null,null,null,null,0,{"$f":"SUMIF('Terv-segédlet'!$B:$B,$A260,'Terv-segédlet'!E:E)","v":0},{"$f":"SUMIF('Terv-segédlet'!$B:$B,$A260,'Terv-segédlet'!F:F)","v":0},{"$f":"SUMIF('Terv-segédlet'!$B:$B,$A260,'Terv-segédlet'!G:G)","v":0},{"$f":"SUMIF('Terv-segédlet'!$B:$B,$A260,'Terv-segédlet'!H:H)","v":0},{"$f":"SUMIF('Terv-segédlet'!$B:$B,$A260,'Terv-segédlet'!I:I)","v":0},{"$f":"SUMIF('Terv-segédlet'!$B:$B,$A260,'Terv-segédlet'!J:J)","v":0},{"$f":"SUMIF('Terv-segédlet'!$B:$B,$A260,'Terv-segédlet'!K:K)","v":0},0,{"$f":"SUMIF(V!$A:$A,$A260,V!$K:$K)+SUMIF(bank!$A:$A,AC$9&$A260,bank!$M:$M)","v":0},{"$f":"SUMIF(V!$A:$A,$A260,V!$K:$K)+SUMIF(bank!$A:$A,AD$9&$A260,bank!$M:$M)","v":0},{"$f":"SUMIF(V!$A:$A,$A260,V!$K:$K)+SUMIF(bank!$A:$A,AE$9&$A260,bank!$M:$M)","v":0},{"$f":"SUMIF(V!$A:$A,$A260,V!$K:$K)+SUMIF(bank!$A:$A,AF$9&$A260,bank!$M:$M)","v":0},{"$f":"SUMIF(V!$A:$A,$A260,V!$K:$K)+SUMIF(bank!$A:$A,AG$9&$A260,bank!$M:$M)","v":0},{"$f":"SUMIF(V!$A:$A,$A260,V!$K:$K)+SUMIF(bank!$A:$A,AH$9&$A260,bank!$M:$M)","v":0},{"$f":"SUMIF(V!$A:$A,$A260,V!$K:$K)+SUMIF(bank!$A:$A,AI$9&$A260,bank!$M:$M)","v":0},"*","b","","kapott előlegek, vagy korábban adott előlegek visszafizetése"]
["p012","12",null,"- Egyéb átfutó tétel (Bank Pénztár közötti pénzmozgás)",null,null,null,null,null,null,null,null,null,null,null,null,null,null,null,0,{"$f":"SUMIF('Terv-segédlet'!$B:$B,$A261,'Terv-segédlet'!E:E)","v":0},{"$f":"SUMIF('Terv-segédlet'!$B:$B,$A261,'Terv-segédlet'!F:F)","v":0},{"$f":"SUMIF('Terv-segédlet'!$B:$B,$A261,'Terv-segédlet'!G:G)","v":0},{"$f":"SUMIF('Terv-segédlet'!$B:$B,$A261,'Terv-segédlet'!H:H)","v":0},{"$f":"SUMIF('Terv-segédlet'!$B:$B,$A261,'Terv-segédlet'!I:I)","v":0},{"$f":"SUMIF('Terv-segédlet'!$B:$B,$A261,'Terv-segédlet'!J:J)","v":0},{"$f":"SUMIF('Terv-segédlet'!$B:$B,$A261,'Terv-segédlet'!K:K)","v":0},30000,{"$f":"SUMIF(V!$A:$A,$A261,V!$K:$K)+SUMIF(bank!$A:$A,AC$9&$A261,bank!$M:$M)","v":0},{"$f":"SUMIF(V!$A:$A,$A261,V!$K:$K)+SUMIF(bank!$A:$A,AD$9&$A261,bank!$M:$M)","v":0},{"$f":"SUMIF(V!$A:$A,$A261,V!$K:$K)+SUMIF(bank!$A:$A,AE$9&$A261,bank!$M:$M)","v":0},{"$f":"SUMIF(V!$A:$A,$A261,V!$K:$K)+SUMIF(bank!$A:$A,AF$9&$A261,bank!$M:$M)","v":0},{"$f":"SUMIF(V!$A:$A,$A261,V!$K:$K)+SUMIF(bank!$A:$A,AG$9&$A261,bank!$M:$M)","v":0},{"$f":"SUMIF(V!$A:$A,$A261,V!$K:$K)+SUMIF(bank!$A:$A,AH$9&$A261,bank!$M:$M)","v":0},{"$f":"SUMIF(V!$A:$A,$A261,V!$K:$K)+SUMIF(bank!$A:$A,AI$9&$A261,bank!$M:$M)","v":30000},"*","b","","készpénzfelvétel, kp. Befizetése bankszámlára, lekötés elkülönített számlára"]
["p013","13",null,"PÉNZFORGALMI BEVÉTELEK",null,null,null,null,null,null,null,null,null,null,null,null,null,null,null,{"$f":"T251+T252","v":16222393},{"$f":"U251+U252","v":4288893},374000,861500,7559000,2366000,276500,496500,{"$f":"AB251+AB252","v":218668},{"$f":"AC251+AC252","v":72351},16,324,31200,84166,58,30553,null,"b",{"$f":"IF(AND(OR(T262<>0,AB262<>0),T262<>0),ABS(AB262/T262),\"\")","v":1.3479392343657314E-2},"pénztárkönyv és banki nyilvántartás bevételeinek összege"]
["p014","14",null,"III. Ráfordításként érvényesíthető kiadások",null,null,null,null,null,null,null,null,null,null,null,null,null,null,null,{"$f":"SUM(U263:AA263)","v":12086324.94117647},{"$f":"U76","v":5679434.9411764704},{"$f":"V76","v":45260},131690,5252570,801370,30000,146000,{"$f":"AB76","v":465433},{"$f":"AC76","v":329568},0,5150,11250,35015,0,84450,null,null,3.850905897907253E-2,"Költségvetés K72 sor összege"]
["p015","15",null,"F. Tájékoztató adatok - pénzkiadások",null,null,null,null,null,null,null,null,null,null,null,null,null,null,null,{"$f":"SUM(T265:T274)","v":3694893},{"$f":"SUM(U265:U274)","v":431893},168000,670000,469000,1300000,220000,436000,{"$f":"SUM(AB265:AB274)","v":69366},{"$f":"SUM(AC265:AC274)","v":39366},0,0,0,0,0,30000,null,"k",{"$f":"IF(AND(OR(T264<>0,AB264<>0),T264<>0),ABS(AB264/T264),\"\")","v":1.8773480043941731E-2}]
["p016","16",null,"- Lelkészi nyugdíjjárulék",null,null,null,null,null,null,null,null,null,null,null,null,null,null,null,{"$f":"SUM(U265:AA265)","v":431893},{"$f":"SUMIF('Terv-segédlet'!$B:$B,$A265,'Terv-segédlet'!E:E)","v":431893},{"$f":"SUMIF('Terv-segédlet'!$B:$B,$A265,'Terv-segédlet'!F:F)","v":0},{"$f":"SUMIF('Terv-segédlet'!$B:$B,$A265,'Terv-segédlet'!G:G)","v":0},{"$f":"SUMIF('Terv-segédlet'!$B:$B,$A265,'Terv-segédlet'!H:H)","v":0},{"$f":"SUMIF('Terv-segédlet'!$B:$B,$A265,'Terv-segédlet'!I:I)","v":0},{"$f":"SUMIF('Terv-segédlet'!$B:$B,$A265,'Terv-segédlet'!J:J)","v":0},{"$f":"SUMIF('Terv-segédlet'!$B:$B,$A265,'Terv-segédlet'!K:K)","v":0},{"$f":"SUM(AC265:AI265)","v":39366},{"$f":"SUMIF(V!$A:$A,$A265,V!$L:$L)+SUMIF(bank!$A:$A,AC$9&$A265,bank!$N:$N)","v":39366},{"$f":"SUMIF(Gy!$A:$A,$A265,Gy!$L:$L)+SUMIF(bank!$A:$A,AD$9&$A265,bank!$N:$N)","v":0},{"$f":"SUMIF(K!$A:$A,$A265,K!$L:$L)+SUMIF(bank!$A:$A,AE$9&$A265,bank!$N:$N)","v":0},{"$f":"SUMIF(Mk!$A:$A,$A265,Mk!$L:$L)+SUMIF(bank!$A:$A,AF$9&$A265,bank!$N:$N)","v":0},{"$f":"SUMIF(M!$A:$A,$A265,M!$L:$L)+SUMIF(bank!$A:$A,AG$9&$A265,bank!$N:$N)","v":0},{"$f":"SUMIF(P!$A:$A,$A265,P!$L:$L)+SUMIF(bank!$A:$A,AH$9&$A265,bank!$N:$N)","v":0},{"$f":"SUMIF(Zs!$A:$A,$A265,Zs!$L:$L)+SUMIF(bank!$A:$A,AI$9&$A265,bank!$N:$N)","v":0},"*","k",9.1147575904217015E-2,"Zelenka Pál Szolidaritási Alapnak átutalt, lelkésztől levont nyugdíjjárulék összege"]
["p017","17",null,"- Személyi jövedelemadó",null,null,null,null,null,null,null,null,null,null,null,null,null,null,null,0,{"$f":"SUMIF('Terv-segédlet'!$B:$B,$A266,'Terv-segédlet'!E:E)","v":0},{"$f":"SUMIF('Terv-segédlet'!$B:$B,$A266,'Terv-segédlet'!F:F)","v":0},{"$f":"SUMIF('Terv-segédlet'!$B:$B,$A266,'Terv-segédlet'!G:G)","v":0},{"$f":"SUMIF('Terv-segédlet'!$B:$B,$A266,'Terv-segédlet'!H:H)","v":0},{"$f":"SUMIF('Terv-segédlet'!$B:$B,$A266,'Terv-segédlet'!I:I)","v":0},{"$f":"SUMIF('Terv-segédlet'!$B:$B,$A266,'Terv-segédlet'!J:J)","v":0},{"$f":"SUMIF('Terv-segédlet'!$B:$B,$A266,'Terv-segédlet'!K:K)","v":0},0,{"$f":"SUMIF(V!$A:$A,$A266,V!$L:$L)+SUMIF(bank!$A:$A,AC$9&$A266,bank!$N:$N)","v":0},{"$f":"SUMIF(Gy!$A:$A,$A266,Gy!$L:$L)+SUMIF(bank!$A:$A,AD$9&$A266,bank!$N:$N)","v":0},{"$f":"SUMIF(K!$A:$A,$A266,K!$L:$L)+SUMIF(bank!$A:$A,AE$9&$A266,bank!$N:$N)","v":0},{"$f":"SUMIF(Mk!$A:$A,$A266,Mk!$L:$L)+SUMIF(bank!$A:$A,AF$9&$A266,bank!$N:$N)","v":0},{"$f":"SUMIF(M!$A:$A,$A266,M!$L:$L)+SUMIF(bank!$A:$A,AG$9&$A266,bank!$N:$N)","v":0},{"$f":"SUMIF(P!$A:$A,$A266,P!$L:$L)+SUMIF(bank!$A:$A,AH$9&$A266,bank!$N:$N)","v":0},{"$f":"SUMIF(Zs!$A:$A,$A266,Zs!$L:$L)+SUMIF(bank!$A:$A,AI$9&$A266,bank!$N:$N)","v":0},"*","k",{"$f":"IF(AND(OR(T266<>0,AB266<>0),T266<>0),ABS(AB266/T266),\"\")","v":""},"lelkésztől vagy nem lelkész munkatárstól levont személyi jövedelemadó befizetése adóhatóság részére "]
["p018","18",null,"- Alkalmazottak járulékai, egyéb levonások",null,null,null,null,null,null,null,null,null,null,null,null,null,null,null,0,{"$f":"SUMIF('Terv-segédlet'!$B:$B,$A267,'Terv-segédlet'!E:E)","v":0},{"$f":"SUMIF('Terv-segédlet'!$B:$B,$A267,'Terv-segédlet'!F:F)","v":0},{"$f":"SUMIF('Terv-segédlet'!$B:$B,$A267,'Terv-segédlet'!G:G)","v":0},{"$f":"SUMIF('Terv-segédlet'!$B:$B,$A267,'Terv-segédlet'!H:H)","v":0},{"$f":"SUMIF('Terv-segédlet'!$B:$B,$A267,'Terv-segédlet'!I:I)","v":0},{"$f":"SUMIF('Terv-segédlet'!$B:$B,$A267,'Terv-segédlet'!J:J)","v":0},{"$f":"SUMIF('Terv-segédlet'!$B:$B,$A267,'Terv-segédlet'!K:K)","v":0},0,{"$f":"SUMIF(V!$A:$A,$A267,V!$L:$L)+SUMIF(bank!$A:$A,AC$9&$A267,bank!$N:$N)","v":0},{"$f":"SUMIF(Gy!$A:$A,$A267,Gy!$L:$L)+SUMIF(bank!$A:$A,AD$9&$A267,bank!$N:$N)","v":0},{"$f":"SUMIF(K!$A:$A,$A267,K!$L:$L)+SUMIF(bank!$A:$A,AE$9&$A267,bank!$N:$N)","v":0},{"$f":"SUMIF(Mk!$A:$A,$A267,Mk!$L:$L)+SUMIF(bank!$A:$A,AF$9&$A267,bank!$N:$N)","v":0},{"$f":"SUMIF(M!$A:$A,$A267,M!$L:$L)+SUMIF(bank!$A:$A,AG$9&$A267,bank!$N:$N)","v":0},{"$f":"SUMIF(P!$A:$A,$A267,P!$L:$L)+SUMIF(bank!$A:$A,AH$9&$A267,bank!$N:$N)","v":0},{"$f":"SUMIF(Zs!$A:$A,$A267,Zs!$L:$L)+SUMIF(bank!$A:$A,AI$9&$A267,bank!$N:$N)","v":0},"*","k","","alkalmazottaktól levont nyugdíjjárulék, egészségbiztosítási és MEP járulék, EHO, stb. befizetése adóhatóság részére"]
["p019","19",null,"- Egyházközség más részének (társ, leány)",null,null,null,null,null,null,null,null,null,null,null,null,null,null,null,3263000,{"$f":"SUMIF('Terv-segédlet'!$B:$B,$A268,'Terv-segédlet'!E:E)","v":0},{"$f":"SUMIF('Terv-segédlet'!$B:$B,$A268,'Terv-segédlet'!F:F)","v":168000},{"$f":"SUMIF('Terv-segédlet'!$B:$B,$A268,'Terv-segédlet'!G:G)","v":670000},{"$f":"SUMIF('Terv-segédlet'!$B:$B,$A268,'Terv-segédlet'!H:H)","v":469000},{"$f":"SUMIF('Terv-segédlet'!$B:$B,$A268,'Terv-segédlet'!I:I)","v":1300000},{"$f":"SUMIF('Terv-segédlet'!$B:$B,$A268,'Terv-segédlet'!J:J)","v":220000},{"$f":"SUMIF('Terv-segédlet'!$B:$B,$A268,'Terv-segédlet'!K:K)","v":436000},30000,{"$f":"SUMIF(V!$A:$A,$A268,V!$L:$L)+SUMIF(bank!$A:$A,AC$9&$A268,bank!$N:$N)","v":0},{"$f":"SUMIF(Gy!$A:$A,$A268,Gy!$L:$L)+SUMIF(bank!$A:$A,AD$9&$A268,bank!$N:$N)","v":0},{"$f":"SUMIF(K!$A:$A,$A268,K!$L:$L)+SUMIF(bank!$A:$A,AE$9&$A268,bank!$N:$N)","v":0},{"$f":"SUMIF(Mk!$A:$A,$A268,Mk!$L:$L)+SUMIF(bank!$A:$A,AF$9&$A268,bank!$N:$N)","v":0},{"$f":"SUMIF(M!$A:$A,$A268,M!$L:$L)+SUMIF(bank!$A:$A,AG$9&$A268,bank!$N:$N)","v":0},{"$f":"SUMIF(P!$A:$A,$A268,P!$L:$L)+SUMIF(bank!$A:$A,AH$9&$A268,bank!$N:$N)","v":0},{"$f":"SUMIF(Zs!$A:$A,$A268,Zs!$L:$L)+SUMIF(bank!$A:$A,AI$9&$A268,bank!$N:$N)","v":30000},"*","k",9.1939932577382779E-3,"azonos adószám alatt nyilvántartott anya- vagy leánygyülekezeteknek, társgyülekezetek átvett pénz"]
["p020","20",null,"-Kölcsöntörlesztés, előfinanszírozás visszafizetés",null,null,null,null,null,null,null,null,null,null,null,null,null,null,null,0,{"$f":"SUMIF('Terv-segédlet'!$B:$B,$A269,'Terv-segédlet'!E:E)","v":0},{"$f":"SUMIF('Terv-segédlet'!$B:$B,$A269,'Terv-segédlet'!F:F)","v":0},{"$f":"SUMIF('Terv-segédlet'!$B:$B,$A269,'Terv-segédlet'!G:G)","v":0},{"$f":"SUMIF('Terv-segédlet'!$B:$B,$A269,'Terv-segédlet'!H:H)","v":0},{"$f":"SUMIF('Terv-segédlet'!$B:$B,$A269,'Terv-segédlet'!I:I)","v":0},{"$f":"SUMIF('Terv-segédlet'!$B:$B,$A269,'Terv-segédlet'!J:J)","v":0},{"$f":"SUMIF('Terv-segédlet'!$B:$B,$A269,'Terv-segédlet'!K:K)","v":0},0,{"$f":"SUMIF(V!$A:$A,$A269,V!$L:$L)+SUMIF(bank!$A:$A,AC$9&$A269,bank!$N:$N)","v":0},{"$f":"SUMIF(Gy!$A:$A,$A269,Gy!$L:$L)+SUMIF(bank!$A:$A,AD$9&$A269,bank!$N:$N)","v":0},{"$f":"SUMIF(K!$A:$A,$A269,K!$L:$L)+SUMIF(bank!$A:$A,AE$9&$A269,bank!$N:$N)","v":0},{"$f":"SUMIF(Mk!$A:$A,$A269,Mk!$L:$L)+SUMIF(bank!$A:$A,AF$9&$A269,bank!$N:$N)","v":0},{"$f":"SUMIF(M!$A:$A,$A269,M!$L:$L)+SUMIF(bank!$A:$A,AG$9&$A269,bank!$N:$N)","v":0},{"$f":"SUMIF(P!$A:$A,$A269,P!$L:$L)+SUMIF(bank!$A:$A,AH$9&$A269,bank!$N:$N)","v":0},{"$f":"SUMIF(Zs!$A:$A,$A269,Zs!$L:$L)+SUMIF(bank!$A:$A,AI$9&$A269,bank!$N:$N)","v":0},"*","k","","kapott kölcsön, előfinanszírozás törlesztése"]
["p021","21",null,"-Kölcsön folyósítás",null,null,null,null,null,null,null,null,null,null,null,null,null,null,null,0,{"$f":"SUMIF('Terv-segédlet'!$B:$B,$A270,'Terv-segédlet'!E:E)","v":0},{"$f":"SUMIF('Terv-segédlet'!$B:$B,$A270,'Terv-segédlet'!F:F)","v":0},{"$f":"SUMIF('Terv-segédlet'!$B:$B,$A270,'Terv-segédlet'!G:G)","v":0},{"$f":"SUMIF('Terv-segédlet'!$B:$B,$A270,'Terv-segédlet'!H:H)","v":0},{"$f":"SUMIF('Terv-segédlet'!$B:$B,$A270,'Terv-segédlet'!I:I)","v":0},{"$f":"SUMIF('Terv-segédlet'!$B:$B,$A270,'Terv-segédlet'!J:J)","v":0},{"$f":"SUMIF('Terv-segédlet'!$B:$B,$A270,'Terv-segédlet'!K:K)","v":0},0,{"$f":"SUMIF(V!$A:$A,$A270,V!$L:$L)+SUMIF(bank!$A:$A,AC$9&$A270,bank!$N:$N)","v":0},{"$f":"SUMIF(Gy!$A:$A,$A270,Gy!$L:$L)+SUMIF(bank!$A:$A,AD$9&$A270,bank!$N:$N)","v":0},{"$f":"SUMIF(K!$A:$A,$A270,K!$L:$L)+SUMIF(bank!$A:$A,AE$9&$A270,bank!$N:$N)","v":0},{"$f":"SUMIF(Mk!$A:$A,$A270,Mk!$L:$L)+SUMIF(bank!$A:$A,AF$9&$A270,bank!$N:$N)","v":0},{"$f":"SUMIF(M!$A:$A,$A270,M!$L:$L)+SUMIF(bank!$A:$A,AG$9&$A270,bank!$N:$N)","v":0},{"$f":"SUMIF(P!$A:$A,$A270,P!$L:$L)+SUMIF(bank!$A:$A,AH$9&$A270,bank!$N:$N)","v":0},{"$f":"SUMIF(Zs!$A:$A,$A270,Zs!$L:$L)+SUMIF(bank!$A:$A,AI$9&$A270,bank!$N:$N)","v":0},"*","k","","adott kölcsön"]
["p022","22",null,"-Kötelezettségek törlesztése",null,null,null,null,null,null,null,null,null,null,null,null,null,null,null,0,{"$f":"SUMIF('Terv-segédlet'!$B:$B,$A271,'Terv-segédlet'!E:E)","v":0},{"$f":"SUMIF('Terv-segédlet'!$B:$B,$A271,'Terv-segédlet'!F:F)","v":0},{"$f":"SUMIF('Terv-segédlet'!$B:$B,$A271,'Terv-segédlet'!G:G)","v":0},{"$f":"SUMIF('Terv-segédlet'!$B:$B,$A271,'Terv-segédlet'!H:H)","v":0},{"$f":"SUMIF('Terv-segédlet'!$B:$B,$A271,'Terv-segédlet'!I:I)","v":0},{"$f":"SUMIF('Terv-segédlet'!$B:$B,$A271,'Terv-segédlet'!J:J)","v":0},{"$f":"SUMIF('Terv-segédlet'!$B:$B,$A271,'Terv-segédlet'!K:K)","v":0},0,{"$f":"SUMIF(V!$A:$A,$A271,V!$L:$L)+SUMIF(bank!$A:$A,AC$9&$A271,bank!$N:$N)","v":0},{"$f":"SUMIF(Gy!$A:$A,$A271,Gy!$L:$L)+SUMIF(bank!$A:$A,AD$9&$A271,bank!$N:$N)","v":0},{"$f":"SUMIF(K!$A:$A,$A271,K!$L:$L)+SUMIF(bank!$A:$A,AE$9&$A271,bank!$N:$N)","v":0},{"$f":"SUMIF(Mk!$A:$A,$A271,Mk!$L:$L)+SUMIF(bank!$A:$A,AF$9&$A271,bank!$N:$N)","v":0},{"$f":"SUMIF(M!$A:$A,$A271,M!$L:$L)+SUMIF(bank!$A:$A,AG$9&$A271,bank!$N:$N)","v":0},{"$f":"SUMIF(P!$A:$A,$A271,P!$L:$L)+SUMIF(bank!$A:$A,AH$9&$A271,bank!$N:$N)","v":0},{"$f":"SUMIF(Zs!$A:$A,$A271,Zs!$L:$L)+SUMIF(bank!$A:$A,AI$9&$A271,bank!$N:$N)","v":0},"*","k","","egyéb, korábban visszafizetési céllal kapott pénzeszköz visszatérítése"]
["p023","23",null,"-Előleg",null,null,null,null,null,null,null,null,null,null,null,null,null,null,null,0,{"$f":"SUMIF('Terv-segédlet'!$B:$B,$A272,'Terv-segédlet'!E:E)","v":0},{"$f":"SUMIF('Terv-segédlet'!$B:$B,$A272,'Terv-segédlet'!F:F)","v":0},{"$f":"SUMIF('Terv-segédlet'!$B:$B,$A272,'Terv-segédlet'!G:G)","v":0},{"$f":"SUMIF('Terv-segédlet'!$B:$B,$A272,'Terv-segédlet'!H:H)","v":0},{"$f":"SUMIF('Terv-segédlet'!$B:$B,$A272,'Terv-segédlet'!I:I)","v":0},{"$f":"SUMIF('Terv-segédlet'!$B:$B,$A272,'Terv-segédlet'!J:J)","v":0},{"$f":"SUMIF('Terv-segédlet'!$B:$B,$A272,'Terv-segédlet'!K:K)","v":0},0,{"$f":"SUMIF(V!$A:$A,$A272,V!$L:$L)+SUMIF(bank!$A:$A,AC$9&$A272,bank!$N:$N)","v":0},{"$f":"SUMIF(Gy!$A:$A,$A272,Gy!$L:$L)+SUMIF(bank!$A:$A,AD$9&$A272,bank!$N:$N)","v":0},{"$f":"SUMIF(K!$A:$A,$A272,K!$L:$L)+SUMIF(bank!$A:$A,AE$9&$A272,bank!$N:$N)","v":0},{"$f":"SUMIF(Mk!$A:$A,$A272,Mk!$L:$L)+SUMIF(bank!$A:$A,AF$9&$A272,bank!$N:$N)","v":0},{"$f":"SUMIF(M!$A:$A,$A272,M!$L:$L)+SUMIF(bank!$A:$A,AG$9&$A272,bank!$N:$N)","v":0},{"$f":"SUMIF(P!$A:$A,$A272,P!$L:$L)+SUMIF(bank!$A:$A,AH$9&$A272,bank!$N:$N)","v":0},{"$f":"SUMIF(Zs!$A:$A,$A272,Zs!$L:$L)+SUMIF(bank!$A:$A,AI$9&$A272,bank!$N:$N)","v":0},"*","k","","adott előlegek, vagy korábban előlegként adott pénzeszközök visszavizetése"]
["p024","24",null,"- Egyéb átfutó tétel (Bank Pénztár közötti pénzmozgás)",null,null,null,null,null,null,null,null,null,null,null,null,null,null,null,null,null,null,null,null,null,null,null,null,null,null,null,null,null,null,null,null,"k","","készpénzbefizetés, kp. felvétele bankszámláról, lekötés elkülönített számlára"]
["p025","25",null,"- Beruházási kiadások (új létesítmény, felújítás, eszközbeszerzés, gépjármű)",null,null,null,null,null,null,null,null,null,null,null,null,null,null,null,null,null,null,null,null,null,null,null,null,null,null,null,null,null,null,null,null,"k","","beruházási, felújítási célú kifizetések (kifizetéskor nem költség, tárgyévben vagy később értékcsökkenés alapját képezi )"]
["p026","26",null,"PÉNZFORGALMI KIADÁSOK",null,null,null,null,null,null,null,null,null,null,null,null,null,null,null,{"$f":"T263+T264","v":15781217.94117647},{"$f":"U263+U264","v":6111327.9411764704},213260,801690,5721570,2101370,250000,582000,{"$f":"AB263+AB264","v":534799},{"$f":"AC263+AC264","v":368934},0,5150,11250,35015,0,114450,null,null,null,"pénztárkönyv és banki nyilvántartás kiadásainak összege"]
["p027","27",null,"G. ZÁRÓ PÉNZESZKÖZ",null,null,null,null,null,null,null,null,null,null,null,null,null,null,null,{"$f":"T250+T262-T275","v":441175.05882352963},{"$f":"U250+U262-U275","v":-1822434.9411764704},160740,59810,1837430,264630,26500,-85500,{"$f":"AB250+AB262-AB275","v":13664455},{"$f":"AC250+AC262-AC275","v":5053679},{"$f":"AD250+AD262-AD275","v":622976},542054,3373158,2835778,323419,913391]
["p028","28",null,"Záró pénzeszközök Mérlegben",null,null,null,null,null,null,null,null,null,null,null,null,null,null,null,{"$f":"SUM(U277:AA277)","v":0},{"$f":"SUM(U278:U285)","v":0},0,0,0,0,0,0,{"$f":"SUM(AB278:AB285)","v":14658115},{"$f":"SUM(AC278:AC285)","v":5051011},622994,542054,4369468,2835778,323419,913391]
["p029","29",null,"- Készpénz",null,null,null,null,null,null,null,null,null,null,null,null,null,null,null,null,null,null,null,null,null,null,null,{"$f":"SUM(AC278:AI278)","v":836643},{"$f":"mérleg1!D13","v":209597},{"$f":"mérleg1!E13","v":44592},{"$f":"mérleg1!F13","v":44554},{"$f":"mérleg1!G13","v":48825},{"$f":"mérleg1!H13","v":279585},{"$f":"mérleg1!I13","v":34415},{"$f":"mérleg1!J13","v":175075}]
["p030","30",null,"- Folyószámla",null,null,null,null,null,null,null,null,null,null,null,null,null,null,null,null,null,null,null,null,null,null,null,{"$f":"SUM(AC279:AI279)","v":5077295},{"$f":"mérleg1!D22","v":2685250},{"$f":"mérleg1!E22","v":370239},{"$f":"mérleg1!F22","v":129367},{"$f":"mérleg1!G22","v":1162016},{"$f":"mérleg1!H22","v":379497},{"$f":"mérleg1!I22","v":246819},{"$f":"mérleg1!J22","v":104107}]
["p031","31",null,"- Folyószámla"]
["p032","32",null,"- Folyószámla"]
["p033","33",null,"- Betét, elkülönített betét",null,null,null,null,null,null,null,null,null,null,null,null,null,null,null,null,null,null,null,null,null,null,null,{"$f":"SUM(AC282:AI282)","v":8744177},{"$f":"mérleg1!D30","v":2156164},{"$f":"mérleg1!E30","v":208163},{"$f":"mérleg1!F30","v":368133},{"$f":"mérleg1!G30","v":3158627},{"$f":"mérleg1!H30","v":2176696},{"$f":"mérleg1!I30","v":42185},{"$f":"mérleg1!J30","v":634209}]
["p034","34",null,"- Betét, elkülönített betét"]
["p035","35",null,"- Betét, elkülönített betét"]
["p036","36",null,"- Betét, elkülönített betét"]
["p037","37",null,"Eltérés (27-28)",null,null,null,null,null,null,null,null,null,null,null,null,null,null,null,{"$f":"T276-T277","v":441175.05882352963},{"$f":"U276-U277","v":-1822434.9411764704},160740,59810,1837430,264630,26500,-85500,{"$f":"AB276-AB277","v":-993660},{"$f":"AC276-AC277","v":2668},-18,0,-996310,0,0,0]
["p038","38",null,"II. Követelések ",null,null,null,null,null,null,null,null,null,null,null,null,null,null,null,{"$f":"SUM(T288:T291)","v":0},{"$f":"SUM(U288:U291)","v":0},0,0,0,0,0,0,{"$f":"SUM(AB288:AB291)","v":0},{"$f":"SUM(AC288:AC291)","v":0},0,0,0,0,0,0]
["p039","39",null,"Számlakövetelés"]
["p040","40",null,"Adó és járulékkövetelés"]
["p041","41",null,"Kölcsönből eredő követelés"]
["p042","42",null,"Egyéb követelés",null,null,null,null,null,null,null,null,null,null,null,null,null,null,null,{"$f":"SUM(T292:T294)","v":0},{"$f":"SUM(U292:U294)","v":0},0,0,0,0,0,0,{"$f":"SUM(AB292:AB294)","v":0},{"$f":"SUM(AC292:AC294)","v":0},0,0,0,0,0,0]
["p043","43",null,"   - magánszeméllyel szemben"]
["p044","44",null,"   - gazdálkodó szervezetekkel szemben"]
["p045","45",null,"   - intézményekkel szemben"]
["p046","46",null,"F. Kötelezettségek",null,null,null,null,null,null,null,null,null,null,null,null,null,null,null,{"$f":"SUM(T296:T299)","v":0},{"$f":"SUM(U296:U299)","v":0},0,0,0,0,0,0,{"$f":"SUM(AB296:AB299)","v":0},{"$f":"SUM(AC296:AC299)","v":0},0,0,0,0,0,0]
["p047","47",null,"Számlakötelezettség"]
["p048","48",null,"Adó és járulékkötelezettség"]
["p049","49",null,"Kölcsönből, előfinanszírozásból eredő kötelezettség"]
["p050","50",null,"Egyéb kötelezettség",null,null,null,null,null,null,null,null,null,null,null,null,null,null,null,{"$f":"SUM(T300:T302)","v":0},{"$f":"SUM(U300:U302)","v":0},0,0,0,0,0,0,{"$f":"SUM(AB300:AB302)","v":0},{"$f":"SUM(AC300:AC302)","v":0},0,0,0,0,0,0]
["p051","51",null,"   - magánszeméllyel szemben"]
["p052","52",null,"   - gazdálkodó szervezetekkel szemben"]
["p053","53",null,"   - intézményekkel szemben"]

{"sheet":"V","index":2,"n_rows":3,"n_cols":12,"rows_kept":3,"cut":false,"hidden":false,"merged":[]}
[null,null,null,null,null,"Készpénz:",{"$f":"mérleg1!D13","v":209597},"VADOSFA",null,null,"pénztár"]
[]
[null,null,null,null,"sor-szám","dátum","biz.sorszám","megnevezés","egyéb megjegyzés","további megjegyzések","bevétel","kiadás"]

{"sheet":"Gy","index":3,"n_rows":3,"n_cols":12,"rows_kept":3,"cut":false,"hidden":false,"merged":[]}
[null,null,null,null,null,"Készpénz:",{"$f":"mérleg1!E13","v":44592},"Gyóró",null,null,"pénztár"]
[]
[null,null,null,null,"sor-szám","dátum","biz.sorszám","megnevezés","egyéb megjegyzés","további megjegyzések","bevétel","kiadás"]

{"sheet":"K","index":4,"n_rows":3,"n_cols":12,"rows_kept":3,"cut":false,"hidden":false,"merged":[]}
[null,null,null,null,null,"Készpénz:",{"$f":"mérleg1!F13","v":44554},"Kisfalud",null,null,"pénztár"]
[]
[null,null,null,null,"sor-szám","dátum","biz.sorszám","megnevezés","egyéb megjegyzés","további megjegyzések","bevétel","kiadás"]

{"sheet":"Mk","index":5,"n_rows":7,"n_cols":12,"rows_kept":7,"cut":false,"hidden":false,"merged":[]}
[null,null,null,null,null,"Készpénz:",{"$f":"mérleg1!G13","v":48825},"Magyarkeresztúr",null,null,"pénztár"]
[]
[null,null,null,null,"sor-szám","dátum","biz.sorszám","megnevezés","egyéb megjegyzés","további megjegyzések","bevétel","kiadás"]
[null,null,null,null,1,"2016-01-04","PA3902957","Vízdíj lakásban",null,null,null,1845]
["k004",null,"k004","INGATLAN BÉRBEADÁS ÁRBEVÉTELE / részleges ingatlan bérbeadás (lakás, egyéb ingatlan, földterület, stb.) (nem vállalkozási tevékenység)",2,"2016-01-09","BG455638","lakbér",null,null,20000]
["k054",null,"k054","DC) TOVÁBBÍTANDÓ EGYÉB TÁMOGATÁSOKDC) TOVÁBBÍTANDÓ EGYÉB TÁMOGATÁSOK, BEVÉTELEKDC) TOVÁBBÍTANDÓ EGYÉB TÁMOGATÁSOK, BEVÉTELEK / kötelező offertórium, Gusztáv Adolf segély, szupplikáció, továbbítandó egyéb adományok",3,"2016-01-10","BG455639","templomépítési offertórium",null,null,11200]
[null,null,null,null,4,"2016-02-08","PA3902958","vízdíj lakásban",null,null,null,1845]

{"sheet":"M","index":6,"n_rows":9,"n_cols":20,"rows_kept":9,"cut":false,"hidden":false,"merged":[]}
[null,null,null,null,null,"Készpénz:",{"$f":"mérleg1!H13","v":279585},"Mihályi",null,null,"pénztár"]
[]
[null,null,null,null,"sor-szám","dátum","biz.sorszám","megnevezés","egyéb megjegyzés","további megjegyzések","bevétel","kiadás"]
["k073","M","k073","MÁS GYÜLEKEZETI HELYISÉGGYÓGYSZEREK KÖLTSÉGE / egyéb gyülekezeti ingatlan gáz és egyéb fűtőanyag költsége (tepmlom, gyülkezeti terem, üzlethelység, stb.)","1.","2016-01-04","PA 3307558","Gázdíj",null,null,null,12178,null,null,null,null,null,null,null,4]
["k166","M","k166","MÁS KÜLÖNFÉLE EGYÉB RÁFORDÍTÁSOK / pl. kerekítés","2.","2016-01-04","PA 3307558","Kerekítés",null,null,null,2,null,null,null,null,null,null,null,5]
["k054","M","k054","DC) TOVÁBBÍTANDÓ EGYÉB TÁMOGATÁSOKDC) TOVÁBBÍTANDÓ EGYÉB TÁMOGATÁSOK, BEVÉTELEKDC) TOVÁBBÍTANDÓ EGYÉB TÁMOGATÁSOK, BEVÉTELEK / kötelező offertórium, Gusztáv Adolf segély, szupplikáció, továbbítandó egyéb adományok","3.","2016-01-10","BG 455961","Templomépítési offertórium",null,null,10610,null,null,null,null,null,null,null,null,6]
["k004","M","k004","INGATLAN BÉRBEADÁS ÁRBEVÉTELE / részleges ingatlan bérbeadás (lakás, egyéb ingatlan, földterület, stb.) (nem vállalkozási tevékenység)","4.","2016-01-25","BG 455962","Lakbér 2016.febr.hó",null,null,40000,null,null,null,null,null,null,null,null,7]
["k073","M","k073","MÁS GYÜLEKEZETI HELYISÉGGYÓGYSZEREK KÖLTSÉGE / egyéb gyülekezeti ingatlan gáz és egyéb fűtőanyag költsége (tepmlom, gyülkezeti terem, üzlethelység, stb.)","5.","2016-02-02","PA 3307559","Gázdíj",null,null,null,12177,null,null,null,null,null,null,null,8]
["k166","M","k166","MÁS KÜLÖNFÉLE EGYÉB RÁFORDÍTÁSOK / pl. kerekítés","6.","2016-02-02","PA 3307559","Kerekítés",null,null,null,-2,null,null,null,null,null,null,null,9]

{"sheet":"P","index":7,"n_rows":3,"n_cols":12,"rows_kept":3,"cut":false,"hidden":false,"merged":[]}
[null,null,null,null,null,"Készpénz:",{"$f":"mérleg1!I13","v":34415},"Potyond",null,null,"pénztár"]
[]
[null,null,null,null,"sor-szám","dátum","biz.sorszám","megnevezés","egyéb megjegyzés","további megjegyzések","bevétel","kiadás"]

{"sheet":"Zs","index":8,"n_rows":3,"n_cols":12,"rows_kept":3,"cut":false,"hidden":false,"merged":[]}
[null,null,null,null,null,"Készpénz:",{"$f":"mérleg1!J13","v":175075},"Zsebeháza",null,null,"pénztár"]
[]
[null,null,null,null,"sor-szám","dátum","biz.sorszám","megnevezés","egyéb megjegyzés","további megjegyzések","bevétel","kiadás"]

{"sheet":"bank","index":9,"n_rows":47,"n_cols":20,"rows_kept":47,"cut":false,"hidden":false,"merged":[]}
[null,null,null,null,null,null,null,"BANK",{"$f":"'Terv-segédlet'!A1","v":2016},null,"pénztár"]
[]
[null,null,null,null,"sor-szám","dátum","Tak.Szöv.","megnevezés","számla/betét száma","megjegyzések","bevétel","kiadás","bevétel","kiadás",11,12,"Tranzakció típusa","Átutaló neve / számlaszáma","Kedvezményezett neve / számlaszáma"]
["Vp016","V","p016","- LELKÉSZI NYUGDÍJJÁRULÉK / Zelenka Pál Szolidaritási Alapnak átutalt, lelkésztől levont nyugdíjjárulék összege",1,"2016-01-04","Rajkai Tak.Szöv.",".","F/V59500186-11094690","16/01/01-i Nyugdíj jár.. Mihácsi Lajos nyugdíjjár.",null,null,null,19683,"11        5950018611094690        HUFEgyéb szerv. pénzfor59500186 Csornai kirendeltsé2016010420160104          298748600          283710500Vadosfai Evangélikus Egyházk.                     Kossuth utca 13 9346 Vadosfa                                                                                                                                                                                                                                                                                                                                                                                                                                                                                                                                                                                                                                                                                                                                            ","120131  FYXR-9328      -000000001968300HUF                                                                                                                                            Vadosfai Evangélikus Egyházk.                                                                                                               595001861109469000000000          16/01/01-i Nyugdíj jár.. Mihácsi Lajos nyugdíjjár.                                                                                                                                                                                                                                      evangélikus nyugdíjosztály                                                                                                                  117070242050080100000000          NOTPRO        117070242050080100000000                           595001861109469000000000    00000000196830020160104       ","IG2 átutalási megbízás (rendszeres)","Vadosfai Evangélikus Egyházk. / 595001861109469000000000","evangélikus nyugdíjosztály / 117070242050080100000000",4]
["Vk159","V","k159","-FENNTARTÓI NYUGDÍJJÁRULÉK  (ZELENKA PÁL SZA) / Zelenka P. alapba megfizetett fenntartói járulék (gyülekezetet terhelő) összege",2,"2016-01-04","Rajkai Tak.Szöv.",".","F/V59500186-11094690","16/01/01-i Fenntartói Szol.Alap. Fenntartói Szol. Alap VADOSFA",null,null,null,19158,"11        5950018611094690        HUFEgyéb szerv. pénzfor59500186 Csornai kirendeltsé2016010420160104          298748600          283710500Vadosfai Evangélikus Egyházk.                     Kossuth utca 13 9346 Vadosfa                                                                                                                                                                                                                                                                                                                                                                                                                                                                                                                                                                                                                                                                                                                                            ","120131  FYXR-9329      -000000001915800HUF                                                                                                                                            Vadosfai Evangélikus Egyházk.                                                                                                               595001861109469000000000          16/01/01-i Fenntartói Szol.Alap. Fenntartói Szol. Alap VADOSFA                                                                                                                                                                                                                          Magyar Evangélikus Egyház                                                                                                                   117070242050080100000000          NOTPRO        117070242050080100000000                           595001861109469000000000    00000000191580020160104       ","IG2 átutalási megbízás (rendszeres)","Vadosfai Evangélikus Egyházk. / 595001861109469000000000","Magyar Evangélikus Egyház / 117070242050080100000000",5]
["Vk133","V","k133","- LELKÉSZEK ILLETMÉNYE EGYHÁZI SZOLGÁLATÉRT / lelkészi illetmény",3,"2016-01-04","Rajkai Tak.Szöv.",".","F/V59500186-11094690","16/01/01-i Mihácsi Lajos. lelkészi illetmény",null,null,null,111540,"11        5950018611094690        HUFEgyéb szerv. pénzfor59500186 Csornai kirendeltsé2016010420160104          298748600          283710500Vadosfai Evangélikus Egyházk.                     Kossuth utca 13 9346 Vadosfa                                                                                                                                                                                                                                                                                                                                                                                                                                                                                                                                                                                                                                                                                                                                            ","120131  FYXR-9330      -000000011154000HUF                                                                                                                                            Vadosfai Evangélikus Egyházk.                                                                                                               595001861109469000000000          16/01/01-i Mihácsi Lajos. lelkészi illetmény                                                                                                                                                                                                                                            Mihácsi Lajos                                                                                                                               120940020100456300100008          NOTPRO        120940020100456300100008                           595001861109469000000000    00000001115400020160104       ","IG2 átutalási megbízás (rendszeres)","Vadosfai Evangélikus Egyházk. / 595001861109469000000000","Mihácsi Lajos / 120940020100456300100008",6]
["Vk133","V","k133","- LELKÉSZEK ILLETMÉNYE EGYHÁZI SZOLGÁLATÉRT / lelkészi illetmény",null,"2016-01-04","Rajkai Tak.Szöv.",".","F/V59500186-11094690","          Mihácsi Lajos. lelkészi illetmény - ny.jár. átvez.",null,null,null,19683,null,null,null,null,null,7]
["Vp004","V","p004","- LELKÉSZI NYUGDÍJJÁRULÉK / lelkész által befizetett (bevételezett) lelkészi nyugdíjjárulék összege",null,"2016-01-04","Rajkai Tak.Szöv.",".","F/V59500186-11094690","          Mihácsi Lajos. lelkészi illetmény - ny.jár. átvez.",null,null,19683,null,null,null,null,null,null,8]
["Vk071","V","k071","LELKÉSZLAKÁSÉLELMISZEREK KÖLTSÉGE / lelkészlakás gáz és egyéb fűtőanyag költsége",4,"2016-01-05","Rajkai Tak.Szöv.",".","F/V59500186-11094690","A13799047    201512280001012879    UGYFELKOD=110730068",null,null,null,12417,"11        5950018611094690        HUFEgyéb szerv. pénzfor59500186 Csornai kirendeltsé2016010520160105          283710500          282468800Vadosfai Evangélikus Egyházk.                     Kossuth utca 13 9346 Vadosfa                                                                                                                                                                                                                                                                                                                                                                                                                                                                                                                                                                                                                                                                                                                                            ","120118  FYXV-1500      -000000001241700HUF                                                                                                                                                                                                                                                                                        5950018611094690                  A13799047    201512280001012879    UGYFELKOD=110730068                                                                                                                                                                                                                                  GDF SUEZ ENERGIA MAGYARORSZÁG ZR                                                                                                            1173500520451879                  0             1173500520451879                                   5950018611094690            00000000124170020160105       ","Csoportos beszedési megbízás"," / 5950018611094690","GDF SUEZ ENERGIA MAGYARORSZÁG ZR / 1173500520451879",9]
["Mkk183","Mk","k183","CB) TOVÁBBÍTANDÓ EGYÉB TÁMOGATÁSOK, BEVÉTELEK ÁTADÁSAKÖZOKTATÁSI NORMATÍV TÁMOGATÁS VISSZATÉRÍTÉSE / kötelező offertórium, Gusztáv Adolf segély, szupplikáció, továbbítandó egyéb adományok",5,"2016-01-11","Rajkai Tak.Szöv.",".","F/Mk59500186-11095952","építési offertórium Vadosfa/M+úr",null,null,null,11200,"11        5950018611095952        HUFEgyéb szerv. pénzfor59500186 Csornai kirendeltsé2016011120160111           17326600           16206600Vadosfai Evangélikus Egyházk.                     Kossuth utca 13 9346 Vadosfa                                                                                                                                                                                                                                                                                                                                                                                                                                                                                                                                                                                                                                                                                                                                            ","120125  FYXY-4942      -000000001120000HUF                                                                                                                                            Vadosfai Evangélikus Egyházk.                                                                                                               595001861109595200000000          építési offertórium Vadosfa/M+úr                                                                                                                                                                                                                                                        Soproni Evangélikus Egyházmegye                                                                                                             117370832011710800000000          NOTPRO        117370832011710800000000                           595001861109595200000000    00000000112000020160111       ","IG2 átutalási megbízás (EB - vállalk.)","Vadosfai Evangélikus Egyházk. / 595001861109595200000000","Soproni Evangélikus Egyházmegye / 117370832011710800000000",10]
["Kk183","K","k183","CB) TOVÁBBÍTANDÓ EGYÉB TÁMOGATÁSOK, BEVÉTELEK ÁTADÁSAKÖZOKTATÁSI NORMATÍV TÁMOGATÁS VISSZATÉRÍTÉSE / kötelező offertórium, Gusztáv Adolf segély, szupplikáció, továbbítandó egyéb adományok",6,"2016-01-11","Rajkai Tak.Szöv.",".","F/K59500186-11096582","Vadosfa/Kisfalud templomépítési off.",null,null,null,5100,"11        5950018611096582        HUFEgyéb szerv. pénzfor59500186 Csornai kirendeltsé2016011120160111           13451700           12941700Vadosfai Evangélikus Egyházk.                     Kossuth utca 13 9346 Vadosfa                                                                                                                                                                                                                                                                                                                                                                                                                                                                                                                                                                                                                                                                                                                                            ","120125  FYXY-4988      -000000000510000HUF                                                                                                                                            Vadosfai Evangélikus Egyházk.                                                                                                               595001861109658200000000          Vadosfa/Kisfalud templomépítési off.                                                                                                                                                                                                                                                    Soproni Evangélikus Egyházmegye                                                                                                             117370832011710800000000          NOTPRO        117370832011710800000000                           595001861109658200000000    00000000051000020160111       ","IG2 átutalási megbízás (EB - vállalk.)","Vadosfai Evangélikus Egyházk. / 595001861109658200000000","Soproni Evangélikus Egyházmegye / 117370832011710800000000",11]
["Zsk183","Zs","k183","CB) TOVÁBBÍTANDÓ EGYÉB TÁMOGATÁSOK, BEVÉTELEK ÁTADÁSAKÖZOKTATÁSI NORMATÍV TÁMOGATÁS VISSZATÉRÍTÉSE / kötelező offertórium, Gusztáv Adolf segély, szupplikáció, továbbítandó egyéb adományok",7,"2016-01-11","Rajkai Tak.Szöv.",".","F/Zs59500186-11096599","Vadosfa/Zsebeháza templomépítési offertórium",null,null,null,2400,"11        5950018611096599        HUFEgyéb szerv. pénzfor59500186 Csornai kirendeltsé2016011120160111           18855700           18615700Vadosfai Evangélikus Egyházk.                     Kossuth utca 13 9346 Vadosfa                                                                                                                                                                                                                                                                                                                                                                                                                                                                                                                                                                                                                                                                                                                                            ","120125  FYXY-4989      -000000000240000HUF                                                                                                                                            Vadosfai Evangélikus Egyházk.                                                                                                               595001861109659900000000          Vadosfa/Zsebeháza templomépítési offertórium                                                                                                                                                                                                                                            Soproni Evangélikus Egyházmegye                                                                                                             117370832011710800000000          NOTPRO        117370832011710800000000                           595001861109659900000000    00000000024000020160111       ","IG2 átutalási megbízás (EB - vállalk.)","Vadosfai Evangélikus Egyházk. / 595001861109659900000000","Soproni Evangélikus Egyházmegye / 117370832011710800000000",12]
["Mk049","M","k049","-EGYHÁZFENNTARTÓI JÁRULÉK-EGYHÁZFENNTARTÓI JÁRULÉK-EGYHÁZFENNTARTÓI JÁRULÉK / magánszemélyek által ezen a címen teljesítet befizetés",8,"2016-01-12","Rajkai Tak.Szöv.",".","F/M59500186-11095608","Egyházfenntartási hozzá-           járulás",null,null,18000,null,"11        5950018611095608        HUFEgyéb szerv. pénzfor59500186 Csornai kirendeltsé2016011220160112           35815700           36554700Vadosfai Evangélikus Egyházk.                     Kossuth utca 13 9346 Vadosfa                                                                                                                                                                                                                                                                                                                                                                                                                                                                                                                                                                                                                                                                                                                                            ","121174  FYYA-5639       000000001800000HUF                                                                                                                                            Bálint Kálmán                                                                                                                               5950022715282358                  Egyházfenntartási hozzá-           járulás                                                                                                                                                                                                                                                                                                                                                                                          5950018611095608                                5950018611095608            000000001800000201601125950022715282358                                          ","Átvezetés ügyfelek pforg.szlai között","Bálint Kálmán / 5950022715282358"," / 5950018611095608",13]
["Mk183","M","k183","CB) TOVÁBBÍTANDÓ EGYÉB TÁMOGATÁSOK, BEVÉTELEK ÁTADÁSAKÖZOKTATÁSI NORMATÍV TÁMOGATÁS VISSZATÉRÍTÉSE / kötelező offertórium, Gusztáv Adolf segély, szupplikáció, továbbítandó egyéb adományok",9,"2016-01-12","Rajkai Tak.Szöv.",".","F/M59500186-11095608","Templomépítési offertórium Vadosfa/Mihályi leányegyh.",null,null,null,10610,"11        5950018611095608        HUFEgyéb szerv. pénzfor59500186 Csornai kirendeltsé2016011220160112           35815700           36554700Vadosfai Evangélikus Egyházk.                     Kossuth utca 13 9346 Vadosfa                                                                                                                                                                                                                                                                                                                                                                                                                                                                                                                                                                                                                                                                                                                                            ","120125  FYYA-5621      -000000001061000HUF                                                                                                                                            Vadosfai Evangélikus Egyházk.                                                                                                               595001861109560800000000          Templomépítési offertórium Vadosfa/Mihályi leányegyh.                                                                                                                                                                                                                                   Soproni Evangélikus Egyházmegye                                                                                                             117370832011710800000000          NOTPRO        117370832011710800000000                           595001861109560800000000    00000000106100020160112       ","IG2 átutalási megbízás (EB - vállalk.)","Vadosfai Evangélikus Egyházk. / 595001861109560800000000","Soproni Evangélikus Egyházmegye / 117370832011710800000000",14]
["Pk057","P","k057","EGYÉB KAPOTT (JÁRÓ) KAMATOK ÉS KAMATJELLEGŰ BEVÉTELEK / bankszámla, egyéb éven belüli lekötések kamata",10,"2016-01-15","Rajkai Tak.Szöv.",".","B/P59500186-33161925","",null,null,58,null,"11        5950018633161925        HUFVállalk. fix kam. pe59500186 Csornai kirendeltsé2016011520160115            4212700            4218500Vadosfai Evangélikus Egyházk.                     Kossuth utca 13 9346 Vadosfa                                                                                                                                                                                                                                                                                                                                                                                                                                                                                                                                                                                                                                                                                                                                            ","120340  FYYE-9275       000000000005800HUF                                                                                                                                                                                                                                                                                        5950018633161925                                                                                                                                                                                                                                                                                                                                                                                                                                                      5950018633161925                                5950018633161925            000000000005800201601155950018633161925        HUF                               ","Tőke és kamat prolongálás (22)"," / 5950018633161925"," / 5950018633161925",15]
["Mk057","M","k057","EGYÉB KAPOTT (JÁRÓ) KAMATOK ÉS KAMATJELLEGŰ BEVÉTELEK / bankszámla, egyéb éven belüli lekötések kamata",11,"2016-01-16","Rajkai Tak.Szöv.",".","B/M59500186-33217772","",null,null,216,null,"11        5950018633217772        HUFVállalk. fix kam. pe59500186 Csornai kirendeltsé2016011620160116           15564300           15585900Vadosfai Evangélikus Egyházk.                     Kossuth utca 13 9346 Vadosfa                                                                                                                                                                                                                                                                                                                                                                                                                                                                                                                                                                                                                                                                                                                                            ","120340  FYYH-7521       000000000021600HUF                                                                                                                                                                                                                                                                                        5950018633217772                                                                                                                                                                                                                                                                                                                                                                                                                                                      5950018633217772                                5950018633217772            000000000021600201601165950018633217772        HUF                               ","Tőke és kamat prolongálás (22)"," / 5950018633217772"," / 5950018633217772",16]
["Vk057","V","k057","EGYÉB KAPOTT (JÁRÓ) KAMATOK ÉS KAMATJELLEGŰ BEVÉTELEK / bankszámla, egyéb éven belüli lekötések kamata",12,"2016-01-19","Rajkai Tak.Szöv.",".","B/V59500186-33072715","",null,null,2985,null,"11        5950018633072715        HUFVállalk. fix kam. pe59500186 Csornai kirendeltsé2016011920160119          215317900          215616400Vadosfai Evangélikus Egyházk.                     Kossuth utca 13 9346 Vadosfa                                                                                                                                                                                                                                                                                                                                                                                                                                                                                                                                                                                                                                                                                                                                            ","120340  FYYJ-3961       000000000298500HUF                                                                                                                                                                                                                                                                                        5950018633072715                                                                                                                                                                                                                                                                                                                                                                                                                                                      5950018633072715                                5950018633072715            000000000298500201601195950018633072715        HUF                               ","Tőke és kamat prolongálás (22)"," / 5950018633072715"," / 5950018633072715",17]
["Vp007","V","p007","- EGYHÁZKÖZSÉG MÁS RÉSZÉTŐL (TÁRS, LEÁNY) / azonos adószám alatt nyilvántartott anya- vagy leánygyülekezetektől, társgyülekezetektől átvett pénz",13,"2016-01-20","Rajkai Tak.Szöv.",".","F/V59500186-11094690","2015.évi e.h.f.átadás              zsebeháza",null,null,30000,null,"11        5950018611094690        HUFEgyéb szerv. pénzfor59500186 Csornai kirendeltsé2016012020160120          282468800          285468800Vadosfai Evangélikus Egyházk.                     Kossuth utca 13 9346 Vadosfa                                                                                                                                                                                                                                                                                                                                                                                                                                                                                                                                                                                                                                                                                                                                            ","121146  FYYK-7644       000000003000000HUF                                                                                                                                            Vadosfai Evangélikus Egyházk.                                                                                                               5950018611096599                  2015.évi e.h.f.átadás              zsebeháza                                                                                                                                                                                                                                                                                                                                                                                        5950018611094690                                5950018611094690            000000003000000201601205950018611096599                                          ","Átvezetés ügyfél számlái között","Vadosfai Evangélikus Egyházk. / 5950018611096599"," / 5950018611094690",18]
["Zsp012","Zs","p012","- EGYÉB ÁTFUTÓ TÉTEL (BANK PÉNZTÁR KÖZÖTTI PÉNZMOZGÁS) / készpénzfelvétel, kp. Befizetése bankszámlára, lekötés elkülönített számlára",14,"2016-01-20","Rajkai Tak.Szöv.",".","F/Zs59500186-11096599","e.h.f.2015. évi",null,null,30000,null,"11        5950018611096599        HUFEgyéb szerv. pénzfor59500186 Csornai kirendeltsé2016012020160120           18615700           18615700Vadosfai Evangélikus Egyházk.                     Kossuth utca 13 9346 Vadosfa                                                                                                                                                                                                                                                                                                                                                                                                                                                                                                                                                                                                                                                                                                                                            ","120001  FYYK-7617       000000003000000HUF                                                                                                                                                                                                                                                                                        5950018611096599                  e.h.f.2015. évi                                                                                                                                                                                                                                                                                                                                                                                                                     5950018611096599                                5950018611096599            000000003000000201601205950018611096599        HUF                               ","Pénztári készpénz befizetés"," / 5950018611096599"," / 5950018611096599",19]
["Zsp019","Zs","p019","- EGYHÁZKÖZSÉG MÁS RÉSZÉNEK (TÁRS, LEÁNY) / azonos adószám alatt nyilvántartott anya- vagy leánygyülekezeteknek, társgyülekezetek átvett pénz",15,"2016-01-20","Rajkai Tak.Szöv.",".","F/Zs59500186-11096599","2015.évi e.h.f.átadás              zsebeháza",null,null,null,30000,"11        5950018611096599        HUFEgyéb szerv. pénzfor59500186 Csornai kirendeltsé2016012020160120           18615700           18615700Vadosfai Evangélikus Egyházk.                     Kossuth utca 13 9346 Vadosfa                                                                                                                                                                                                                                                                                                                                                                                                                                                                                                                                                                                                                                                                                                                                            ","121146  FYYK-7644      -000000003000000HUF                                                                                                                                                                                                                                                                                        5950018611096599                  2015.évi e.h.f.átadás              zsebeháza                                                                                                                                                                                                                                            Vadosfai Evangélikus Egyházk.                                                                                                               5950018611094690                                5950018611094690                                   5950018611096599            00000000300000020160120       ","Átvezetés ügyfél számlái között"," / 5950018611096599","Vadosfai Evangélikus Egyházk. / 5950018611094690",20]
["Zsk057","Zs","k057","EGYÉB KAPOTT (JÁRÓ) KAMATOK ÉS KAMATJELLEGŰ BEVÉTELEK / bankszámla, egyéb éven belüli lekötések kamata",16,"2016-01-25","Rajkai Tak.Szöv.",".","B/Zs59500210-33116121","",null,null,553,null,"11        5950021033116121        HUFVállalk. fix kam. pe59500210 Szili Betétgyűjtő P2016012520160125           63365600           63420900Vadosfai Evangélikus Egyházk.                     Kossuth utca 13 9346 Vadosfa                                                                                                                                                                                                                                                                                                                                                                                                                                                                                                                                                                                                                                                                                                                                            ","120340  FYYM-7747       000000000055300HUF                                                                                                                                                                                                                                                                                        5950021033116121                                                                                                                                                                                                                                                                                                                                                                                                                                                      5950021033116121                                5950021033116121            000000000055300201601255950021033116121        HUF                               ","Tőke és kamat prolongálás (22)"," / 5950021033116121"," / 5950021033116121",21]
["Gyk057","Gy","k057","EGYÉB KAPOTT (JÁRÓ) KAMATOK ÉS KAMATJELLEGŰ BEVÉTELEK / bankszámla, egyéb éven belüli lekötések kamata",17,"2016-01-25","Rajkai Tak.Szöv.",".","B/Gy59500186-33150781","",null,null,16,null,"11        5950018633150781        HUFVállalk. fix kam. pe59500186 Csornai kirendeltsé2016012520160125           10346400           10348000Vadosfai Evangélikus Egyházk.                     Kossuth utca 13 9346 Vadosfa                                                                                                                                                                                                                                                                                                                                                                                                                                                                                                                                                                                                                                                                                                                                            ","120340  FYYM-7695       000000000001600HUF                                                                                                                                                                                                                                                                                        5950018633150781                                                                                                                                                                                                                                                                                                                                                                                                                                                      5950018633150781                                5950018633150781            000000000001600201601255950018633150781        HUF                               ","Tőke és kamat prolongálás (22)"," / 5950018633150781"," / 5950018633150781",22]
["Kk057","K","k057","EGYÉB KAPOTT (JÁRÓ) KAMATOK ÉS KAMATJELLEGŰ BEVÉTELEK / bankszámla, egyéb éven belüli lekötések kamata",18,"2016-01-28","Rajkai Tak.Szöv.",".","B/K59500186-33117249","",null,null,324,null,"11        5950018633117249        HUFVállalk. fix kam. pe59500186 Csornai kirendeltsé2016012820160128           36780900           36813300Vadosfai Evangélikus Egyházk.                     Kossuth utca 13 9346 Vadosfa                                                                                                                                                                                                                                                                                                                                                                                                                                                                                                                                                                                                                                                                                                                                            ","120340  FYYP-6527       000000000032400HUF                                                                                                                                                                                                                                                                                        5950018633117249                                                                                                                                                                                                                                                                                                                                                                                                                                                      5950018633117249                                5950018633117249            000000000032400201601285950018633117249        HUF                               ","Tőke és kamat prolongálás (22)"," / 5950018633117249"," / 5950018633117249",23]
["Vk121","V","k121","-PÉNZÜGYI, BEFEKTETÉSI SZOLGÁLTATÁS DÍJA (BANKKTG)TÁVFŰTÉS / bankjutalék, bankköltség, banki kezelési díjak",19,"2016-01-30","Rajkai Tak.Szöv.",".","F/V59500186-11094690","",null,null,null,516,"11        5950018611094690        HUFEgyéb szerv. pénzfor59500186 Csornai kirendeltsé2016013020160130          285468800          285412200Vadosfai Evangélikus Egyházk.                     Kossuth utca 13 9346 Vadosfa                                                                                                                                                                                                                                                                                                                                                                                                                                                                                                                                                                                                                                                                                                                                            ","121052  FYZC-1891      -000000000051600HUF                                                                                                                                                                                                                                                                                        5950018611094690                                                                                                                                                                                                                                                                                                                                                                                                                                                      5950018611094690                                5950018611094690        HUF                        5950018611094690            00000000005160020160130       ","Jutalék terhelés"," / 5950018611094690"," / 5950018611094690",24]
["Vk121","V","k121","-PÉNZÜGYI, BEFEKTETÉSI SZOLGÁLTATÁS DÍJA (BANKKTG)TÁVFŰTÉS / bankjutalék, bankköltség, banki kezelési díjak",20,"2016-01-30","Rajkai Tak.Szöv.",".","F/V59500186-11094690","",null,null,null,50,"11        5950018611094690        HUFEgyéb szerv. pénzfor59500186 Csornai kirendeltsé2016013020160130          285468800          285412200Vadosfai Evangélikus Egyházk.                     Kossuth utca 13 9346 Vadosfa                                                                                                                                                                                                                                                                                                                                                                                                                                                                                                                                                                                                                                                                                                                                            ","121054  FYZE-3649      -000000000005000HUF                                                                                                                                                                                                                                                                                        5950018611094690                                                                                                                                                                                                                                                                                                                                                                                                                                                      5950018611094690                                5950018611094690        HUF                        5950018611094690            00000000000500020160130       ","Kivonat költség terhelés"," / 5950018611094690"," / 5950018611094690",25]
["Mk121","M","k121","-PÉNZÜGYI, BEFEKTETÉSI SZOLGÁLTATÁS DÍJA (BANKKTG)TÁVFŰTÉS / bankjutalék, bankköltség, banki kezelési díjak",21,"2016-01-30","Rajkai Tak.Szöv.",".","F/M59500186-11095608","",null,null,null,50,"11        5950018611095608        HUFEgyéb szerv. pénzfor59500186 Csornai kirendeltsé2016013020160130           36554700           36549700Vadosfai Evangélikus Egyházk.                     Kossuth utca 13 9346 Vadosfa                                                                                                                                                                                                                                                                                                                                                                                                                                                                                                                                                                                                                                                                                                                                            ","121052  FYZC-1930      -000000000005000HUF                                                                                                                                                                                                                                                                                        5950018611095608                                                                                                                                                                                                                                                                                                                                                                                                                                                      5950018611095608                                5950018611095608        HUF                        5950018611095608            00000000000500020160130       ","Jutalék terhelés"," / 5950018611095608"," / 5950018611095608",26]
["Mkk121","Mk","k121","-PÉNZÜGYI, BEFEKTETÉSI SZOLGÁLTATÁS DÍJA (BANKKTG)TÁVFŰTÉS / bankjutalék, bankköltség, banki kezelési díjak",22,"2016-01-30","Rajkai Tak.Szöv.",".","F/Mk59500186-11095952","",null,null,null,50,"11        5950018611095952        HUFEgyéb szerv. pénzfor59500186 Csornai kirendeltsé2016013020160130           16206600           16201600Vadosfai Evangélikus Egyházk.                     Kossuth utca 13 9346 Vadosfa                                                                                                                                                                                                                                                                                                                                                                                                                                                                                                                                                                                                                                                                                                                                            ","121052  FYZC-1931      -000000000005000HUF                                                                                                                                                                                                                                                                                        5950018611095952                                                                                                                                                                                                                                                                                                                                                                                                                                                      5950018611095952                                5950018611095952        HUF                        5950018611095952            00000000000500020160130       ","Jutalék terhelés"," / 5950018611095952"," / 5950018611095952",27]
["Kk121","K","k121","-PÉNZÜGYI, BEFEKTETÉSI SZOLGÁLTATÁS DÍJA (BANKKTG)TÁVFŰTÉS / bankjutalék, bankköltség, banki kezelési díjak",23,"2016-01-30","Rajkai Tak.Szöv.",".","F/K59500186-11096582","",null,null,null,50,"11        5950018611096582        HUFEgyéb szerv. pénzfor59500186 Csornai kirendeltsé2016013020160130           12941700           12936700Vadosfai Evangélikus Egyházk.                     Kossuth utca 13 9346 Vadosfa                                                                                                                                                                                                                                                                                                                                                                                                                                                                                                                                                                                                                                                                                                                                            ","121052  FYZC-1934      -000000000005000HUF                                                                                                                                                                                                                                                                                        5950018611096582                                                                                                                                                                                                                                                                                                                                                                                                                                                      5950018611096582                                5950018611096582        HUF                        5950018611096582            00000000000500020160130       ","Jutalék terhelés"," / 5950018611096582"," / 5950018611096582",28]
["Zsk121","Zs","k121","-PÉNZÜGYI, BEFEKTETÉSI SZOLGÁLTATÁS DÍJA (BANKKTG)TÁVFŰTÉS / bankjutalék, bankköltség, banki kezelési díjak",24,"2016-01-30","Rajkai Tak.Szöv.",".","F/Zs59500186-11096599","",null,null,null,50,"11        5950018611096599        HUFEgyéb szerv. pénzfor59500186 Csornai kirendeltsé2016013020160130           18615700           18610700Vadosfai Evangélikus Egyházk.                     Kossuth utca 13 9346 Vadosfa                                                                                                                                                                                                                                                                                                                                                                                                                                                                                                                                                                                                                                                                                                                                            ","121052  FYZC-1936      -000000000005000HUF                                                                                                                                                                                                                                                                                        5950018611096599                                                                                                                                                                                                                                                                                                                                                                                                                                                      5950018611096599                                5950018611096599        HUF                        5950018611096599            00000000000500020160130       ","Jutalék terhelés"," / 5950018611096599"," / 5950018611096599",29]
["Vk159","V","k159","-FENNTARTÓI NYUGDÍJJÁRULÉK  (ZELENKA PÁL SZA) / Zelenka P. alapba megfizetett fenntartói járulék (gyülekezetet terhelő) összege",25,"2016-02-01","Rajkai Tak.Szöv.",".","F/V59500186-11094690","16/02/01-i Fenntartói Szol.Alap. Fenntartói Szol. Alap VADOSFA",null,null,null,19158,"11        5950018611094690        HUFEgyéb szerv. pénzfor59500186 Csornai kirendeltsé2016020120160201          285412200          270374100Vadosfai Evangélikus Egyházk.                     Kossuth utca 13 9346 Vadosfa                                                                                                                                                                                                                                                                                                                                                                                                                                                                                                                                                                                                                                                                                                                                            ","120131  FYZF-9155      -000000001915800HUF                                                                                                                                            Vadosfai Evangélikus Egyházk.                                                                                                               595001861109469000000000          16/02/01-i Fenntartói Szol.Alap. Fenntartói Szol. Alap VADOSFA                                                                                                                                                                                                                          Magyar Evangélikus Egyház                                                                                                                   117070242050080100000000          NOTPRO        117070242050080100000000                           595001861109469000000000    00000000191580020160201       ","IG2 átutalási megbízás (rendszeres)","Vadosfai Evangélikus Egyházk. / 595001861109469000000000","Magyar Evangélikus Egyház / 117070242050080100000000",30]
["Vk133","V","k133","- LELKÉSZEK ILLETMÉNYE EGYHÁZI SZOLGÁLATÉRT / lelkészi illetmény",26,"2016-02-01","Rajkai Tak.Szöv.",".","F/V59500186-11094690","16/02/01-i Mihácsi Lajos. lelkészi illetmény",null,null,null,111540,"11        5950018611094690        HUFEgyéb szerv. pénzfor59500186 Csornai kirendeltsé2016020120160201          285412200          270374100Vadosfai Evangélikus Egyházk.                     Kossuth utca 13 9346 Vadosfa                                                                                                                                                                                                                                                                                                                                                                                                                                                                                                                                                                                                                                                                                                                                            ","120131  FYZF-9164      -000000011154000HUF                                                                                                                                            Vadosfai Evangélikus Egyházk.                                                                                                               595001861109469000000000          16/02/01-i Mihácsi Lajos. lelkészi illetmény                                                                                                                                                                                                                                            Mihácsi Lajos                                                                                                                               120940020100456300100008          NOTPRO        120940020100456300100008                           595001861109469000000000    00000001115400020160201       ","IG2 átutalási megbízás (rendszeres)","Vadosfai Evangélikus Egyházk. / 595001861109469000000000","Mihácsi Lajos / 120940020100456300100008",31]
["Vp016","V","p016","- LELKÉSZI NYUGDÍJJÁRULÉK / Zelenka Pál Szolidaritási Alapnak átutalt, lelkésztől levont nyugdíjjárulék összege",27,"2016-02-01","Rajkai Tak.Szöv.",".","F/V59500186-11094690","16/02/01-i Nyugdíj jár.. Mihácsi Lajos nyugdíjjár.",null,null,null,19683,"11        5950018611094690        HUFEgyéb szerv. pénzfor59500186 Csornai kirendeltsé2016020120160201          285412200          270374100Vadosfai Evangélikus Egyházk.                     Kossuth utca 13 9346 Vadosfa                                                                                                                                                                                                                                                                                                                                                                                                                                                                                                                                                                                                                                                                                                                                            ","120131  FYZF-9172      -000000001968300HUF                                                                                                                                            Vadosfai Evangélikus Egyházk.                                                                                                               595001861109469000000000          16/02/01-i Nyugdíj jár.. Mihácsi Lajos nyugdíjjár.                                                                                                                                                                                                                                      evangélikus nyugdíjosztály                                                                                                                  117070242050080100000000          NOTPRO        117070242050080100000000                           595001861109469000000000    00000000196830020160201       ","IG2 átutalási megbízás (rendszeres)","Vadosfai Evangélikus Egyházk. / 595001861109469000000000","evangélikus nyugdíjosztály / 117070242050080100000000",32]
[null,null,null,null,28,"2016-02-01","Rajkai Tak.Szöv.",".","F/V59500186-11094690","A13799047    201601290001037512    110730068",null,null,"x12417",null,"11        5950018611094690        HUFEgyéb szerv. pénzfor59500186 Csornai kirendeltsé2016020120160201          285412200          270374100Vadosfai Evangélikus Egyházk.                     Kossuth utca 13 9346 Vadosfa                                                                                                                                                                                                                                                                                                                                                                                                                                                                                                                                                                                                                                                                                                                                            ","120263  FYZG-0000       000000001241700HUF                                                                                                                                            ENKSZ ÉSZAK-DÉL REGIONÁLIS FÖLDG                                                                                                            1173500520451879                  A13799047    201601290001037512    110730068                                                                                                                                                                                                                                                                                                                                                                                        5950018611094690                  0             5950018611094690        HUF 000000001241700201602011173500520451879                                          ","Csoportos beszedés fogadás (Ugiro non-klíring fogadás számlára)","ENKSZ ÉSZAK-DÉL REGIONÁLIS FÖLDG / 1173500520451879"," / 5950018611094690",33]
["Vk133","V","k133","- LELKÉSZEK ILLETMÉNYE EGYHÁZI SZOLGÁLATÉRT / lelkészi illetmény",null,"2016-02-01","Rajkai Tak.Szöv.","lelkészi ill. bttósítása (ny.jár.)","F/V59500186-11094690",null,null,null,null,19683,null,null,null,null,null,34]
["Vp004","V","p004","- LELKÉSZI NYUGDÍJJÁRULÉK / lelkész által befizetett (bevételezett) lelkészi nyugdíjjárulék összege",null,"2016-02-01","Rajkai Tak.Szöv.","lelkészi ill. ny. jár. Levonása","F/V59500186-11094690",null,null,null,19683,null,null,null,null,null,null,35]
[null,null,null,null,29,"2016-02-03","Rajkai Tak.Szöv.",".","F/V59500186-11094690","A11401429    201602021002000712    100846616",null,null,"x1489",null,"11        5950018611094690        HUFEgyéb szerv. pénzfor59500186 Csornai kirendeltsé2016020320160203          270374100          270374100Vadosfai Evangélikus Egyházk.                     Kossuth utca 13 9346 Vadosfa                                                                                                                                                                                                                                                                                                                                                                                                                                                                                                                                                                                                                                                                                                                                            ","120263  FYZI-5997       000000000148900HUF                                                                                                                                            PANNON-VIZ ZRT. GYOR                                                                                                                        1173700720702876                  A11401429    201602021002000712    100846616                                                                                                                                                                                                                                                                                                                                                                                        5950018611094690                  0             5950018611094690        HUF 000000000148900201602031173700720702876                                          ","Csoportos beszedés fogadás (Ugiro non-klíring fogadás számlára)","PANNON-VIZ ZRT. GYOR / 1173700720702876"," / 5950018611094690",36]
["Vk071","V","k071","LELKÉSZLAKÁSÉLELMISZEREK KÖLTSÉGE / lelkészlakás gáz és egyéb fűtőanyag költsége",30,"2016-02-05","Rajkai Tak.Szöv.",".","F/V59500186-11094690","A13799047    201601290001037512    UGYFELKOD=110730068",null,null,null,12417,"11        5950018611094690        HUFEgyéb szerv. pénzfor59500186 Csornai kirendeltsé2016020520160205          270374100          269132400Vadosfai Evangélikus Egyházk.                     Kossuth utca 13 9346 Vadosfa                                                                                                                                                                                                                                                                                                                                                                                                                                                                                                                                                                                                                                                                                                                                            ","120118  FYZL-9750      -000000001241700HUF                                                                                                                                                                                                                                                                                        5950018611094690                  A13799047    201601290001037512    UGYFELKOD=110730068                                                                                                                                                                                                                                  ENKSZ ÉSZAK-DÉL REGIONÁLIS FÖLDG                                                                                                            1173500520451879                  0             1173500520451879                                   5950018611094690            00000000124170020160205       ","Csoportos beszedési megbízás"," / 5950018611094690","ENKSZ ÉSZAK-DÉL REGIONÁLIS FÖLDG / 1173500520451879",37]
["Vk159","V","k159","-FENNTARTÓI NYUGDÍJJÁRULÉK  (ZELENKA PÁL SZA) / Zelenka P. alapba megfizetett fenntartói járulék (gyülekezetet terhelő) összege",31,"2016-02-08","Rajkai Tak.Szöv.",".","F/V59500186-11094690","Fenntartói szoc.alap.különb fenntartói szoc al.VADOSFA",null,null,null,1917,"11        5950018611094690        HUFEgyéb szerv. pénzfor59500186 Csornai kirendeltsé2016020820160208          269132400          268940700Vadosfai Evangélikus Egyházk.                     Kossuth utca 13 9346 Vadosfa                                                                                                                                                                                                                                                                                                                                                                                                                                                                                                                                                                                                                                                                                                                                            ","120126  FYZN-6708      -000000000191700HUF                                                                                                                                            Vadosfai Evangélikus Egyházk.                                                                                                               595001861109469000000000          Fenntartói szoc.alap.különb fenntartói szoc al.VADOSFA                                                                                                                                                                                                                                  evangélikus nyugdíjosztály                                                                                                                  117070242050080100000000          NOTPRO        117070242050080100000000                           595001861109469000000000    00000000019170020160208       ",null,"Vadosfai Evangélikus Egyházk. / 595001861109469000000000","evangélikus nyugdíjosztály / 117070242050080100000000",38]
["Mk049","M","k049","-EGYHÁZFENNTARTÓI JÁRULÉK-EGYHÁZFENNTARTÓI JÁRULÉK-EGYHÁZFENNTARTÓI JÁRULÉK / magánszemélyek által ezen a címen teljesítet befizetés",32,"2016-02-08","Rajkai Tak.Szöv.",".","F/M59500186-11095608","Egyházadó Csiszár Károlyné Mihályi",null,null,6000,null,"11        5950018611095608        HUFEgyéb szerv. pénzfor59500186 Csornai kirendeltsé2016020820160208           36549700           37949700Vadosfai Evangélikus Egyházk.                     Kossuth utca 13 9346 Vadosfa                                                                                                                                                                                                                                                                                                                                                                                                                                                                                                                                                                                                                                                                                                                                            ","120222  FYZN-8254       000000000600000HUF                                                                                                                                            Csiszár Károlyné                                                                                                                            589000261001449900000000          Egyházadó Csiszár Károlyné Mihályi                                                                                                                                                                                                                                                      Mihályi Evangélikus Egyház                                                                                                                  595001861109560800000000          NOTPRO        595001861109560800000000    00000000060000020160208589000261001449900000000                                  ","IG2 átutalás fogadása számlára","Csiszár Károlyné / 589000261001449900000000","Mihályi Evangélikus Egyház / 595001861109560800000000",39]
["Mk049","M","k049","-EGYHÁZFENNTARTÓI JÁRULÉK-EGYHÁZFENNTARTÓI JÁRULÉK-EGYHÁZFENNTARTÓI JÁRULÉK / magánszemélyek által ezen a címen teljesítet befizetés",33,"2016-02-08","Rajkai Tak.Szöv.",".","F/M59500186-11095608","Egyházadó Böcskörné Csiszár Anita Mihályi Korona u.20.",null,null,8000,null,"11        5950018611095608        HUFEgyéb szerv. pénzfor59500186 Csornai kirendeltsé2016020820160208           36549700           37949700Vadosfai Evangélikus Egyházk.                     Kossuth utca 13 9346 Vadosfa                                                                                                                                                                                                                                                                                                                                                                                                                                                                                                                                                                                                                                                                                                                                            ","120222  FYZN-8292       000000000800000HUF                                                                                                                                            Csiszár Károlyné                                                                                                                            589000261001449900000000          Egyházadó Böcskörné Csiszár Anita Mihályi Korona u.20.                                                                                                                                                                                                                                  Mihályi Evangélikus Egyház                                                                                                                  595001861109560800000000          NOTPRO        595001861109560800000000    00000000080000020160208589000261001449900000000                                  ","IG2 átutalás fogadása számlára","Csiszár Károlyné / 589000261001449900000000","Mihályi Evangélikus Egyház / 595001861109560800000000",40]
["Vk079","V","k079","LELKÉSZLAKÁS / lelkészlakás víz- és csatornadíja",34,"2016-02-10","Rajkai Tak.Szöv.",".","F/V59500186-11094690","A11401429    201602021002000712    UGYFELKOD=100846616",null,null,null,1489,"11        5950018611094690        HUFEgyéb szerv. pénzfor59500186 Csornai kirendeltsé2016021020160210          268940700          268791800Vadosfai Evangélikus Egyházk.                     Kossuth utca 13 9346 Vadosfa                                                                                                                                                                                                                                                                                                                                                                                                                                                                                                                                                                                                                                                                                                                                            ","120118  FYZQ-7898      -000000000148900HUF                                                                                                                                                                                                                                                                                        5950018611094690                  A11401429    201602021002000712    UGYFELKOD=100846616                                                                                                                                                                                                                                  PANNON-VIZ ZRT. GYOR                                                                                                                        1173700720702876                  0             1173700720702876                                   5950018611094690            00000000014890020160210       ","Csoportos beszedési megbízás"," / 5950018611094690","PANNON-VIZ ZRT. GYOR / 1173700720702876"]
["Zsk108","Zs","k108","MÁS GYÜLEKEZETI HELYISÉGIGÉNYBE VETT SZOLGÁLTATÁSOK KÖLTSÉGE (86..102) / egyéb gyülekezeti ingatlan - festés, szerelés, stb. karbantartási szolgáltatás (a benne lévő anyagköltséggel együtt) ",35,"2016-02-10","Rajkai Tak.Szöv.",".","F/Zs59500186-11096599","HS4SA :0296855 SZLA KIEGY",null,null,null,82000,"11        5950018611096599        HUFEgyéb szerv. pénzfor59500186 Csornai kirendeltsé2016021020160210           18610700           10410700Vadosfai Evangélikus Egyházk.                     Kossuth utca 13 9346 Vadosfa                                                                                                                                                                                                                                                                                                                                                                                                                                                                                                                                                                                                                                                                                                                                            ","120126  FYZQ-3424      -000000008200000HUF                                                                                                                                            Vadosfai Evangélikus Egyházk.                                                                                                               595001861109659900000000          HS4SA :0296855 SZLA KIEGY                                                                                                                                                                                                                                                               ifj. Szabo Tibor                                                                                                                            104033185052677056871007          NOTPRO        104033185052677056871007                           595001861109659900000000    00000000820000020160210       ",null,"Vadosfai Evangélikus Egyházk. / 595001861109659900000000","ifj. Szabo Tibor / 104033185052677056871007"]
["Mk057","M","k057","EGYÉB KAPOTT (JÁRÓ) KAMATOK ÉS KAMATJELLEGŰ BEVÉTELEK / bankszámla, egyéb éven belüli lekötések kamata",36,"2016-02-17","Rajkai Tak.Szöv.",".","B/M59500186-33263395","",null,null,1340,null,"11        5950018633263395        HUFVállalk. fix kam. pe59500186 Csornai kirendeltsé2016021720160217          151949700          152083700Vadosfai Evangélikus Egyházk.                     Kossuth utca 13 9346 Vadosfa                                                                                                                                                                                                                                                                                                                                                                                                                                                                                                                                                                                                                                                                                                                                            ","120340  FYZW-7738       000000000134000HUF                                                                                                                                                                                                                                                                                        5950018633263395                                                                                                                                                                                                                                                                                                                                                                                                                                                      5950018633263395                                5950018633263395            000000000134000201602175950018633263395        HUF                               ","Tőke és kamat prolongálás (22)"," / 5950018633263395"," / 5950018633263395"]
[null,null,null,null,37,"2016-02-22","Rajkai Tak.Szöv.",".","F/V59500186-11094690","A13958147T100201602182183010141    30013539776                        EVANGÉLIKUS/LELKÉSZIHIV            Vadosfa Kossuth Lajos 13",null,null,"x2668",null,"11        5950018611094690        HUFEgyéb szerv. pénzfor59500186 Csornai kirendeltsé2016022220160222          268791800          268791800Vadosfai Evangélikus Egyházk.                     Kossuth utca 13 9346 Vadosfa                                                                                                                                                                                                                                                                                                                                                                                                                                                                                                                                                                                                                                                                                                                                            ","120263  FYZZ-1741       000000000266800HUF                                                                                                                                            E.ON Energiaszolg. Kft.                                                                                                                     109180010000002494090040          A13958147T100201602182183010141    30013539776                        EVANGÉLIKUS/LELKÉSZIHIV            Vadosfa Kossuth Lajos 13                                                                                                                                                                                                                                                                                                   5950018611094690                  0             5950018611094690        HUF 00000000026680020160222109180010000002494090040                                  ","Csoportos beszedés fogadás (Ugiro non-klíring fogadás számlára)","E.ON Energiaszolg. Kft. / 109180010000002494090040"," / 5950018611094690"]
[null,null,null,null,38,"2016-02-22","Rajkai Tak.Szöv.",".","F/Mk59500186-11095952","Hiv:96/GUT/2016 Egyházmegyei ép.támog.",null,null,1000000,null,"11        5950018611095952        HUFEgyéb szerv. pénzfor59500186 Csornai kirendeltsé2016022220160222           16201600          116201600Vadosfai Evangélikus Egyházk.                     Kossuth utca 13 9346 Vadosfa                                                                                                                                                                                                                                                                                                                                                                                                                                                                                                                                                                                                                                                                                                                                            ","120222  FZAA-3366       000000100000000HUF                                                                                                                                            MAGYARORSZÁGI EVANGÉLIKUS EGYHÁZ                                                                                                            117070242034725700000000          Hiv:96/GUT/2016 Egyházmegyei ép.támog.                                                                                                                                                                                                                                                  Magyarkeresztúri Evangélikus Egy                                                                                                            595001861109595200000000          NOTPRO        595001861109595200000000    00000010000000020160222117070242034725700000000                                  ","IG2 átutalás fogadása számlára","MAGYARORSZÁGI EVANGÉLIKUS EGYHÁZ / 117070242034725700000000","Magyarkeresztúri Evangélikus Egy / 595001861109595200000000"]
[null,null,null,null,39,"2016-02-25","Rajkai Tak.Szöv.",".","B/Gy59500186-33150781","",null,null,18,null,"11        5950018633150781        HUFVállalk. fix kam. pe59500186 Csornai kirendeltsé2016022520160225           10348000           10349800Vadosfai Evangélikus Egyházk.                     Kossuth utca 13 9346 Vadosfa                                                                                                                                                                                                                                                                                                                                                                                                                                                                                                                                                                                                                                                                                                                                            ","120340  FZAB-9196       000000000001800HUF                                                                                                                                                                                                                                                                                        5950018633150781                                                                                                                                                                                                                                                                                                                                                                                                                                                      5950018633150781                                5950018633150781            000000000001800201602255950018633150781        HUF                               ","Tőke és kamat prolongálás (22)"," / 5950018633150781"," / 5950018633150781"]
[null,null,null,null,40,"2016-02-26","Rajkai Tak.Szöv.",".","F/V59500186-11094690","A13958147T100201602182183010141    UGYFELKOD=30013539776              EVANGÉLIKUS/LELKÉSZIHIV            Vadosfa Kossuth Lajos 13",null,null,null,2668,"11        5950018611094690        HUFEgyéb szerv. pénzfor59500186 Csornai kirendeltsé2016022620160226          268791800          268525000Vadosfai Evangélikus Egyházk.                     Kossuth utca 13 9346 Vadosfa                                                                                                                                                                                                                                                                                                                                                                                                                                                                                                                                                                                                                                                                                                                                            ","120118  FZAD-4018      -000000000266800HUF                                                                                                                                                                                                                                                                                        5950018611094690                  A13958147T100201602182183010141    UGYFELKOD=30013539776              EVANGÉLIKUS/LELKÉSZIHIV            Vadosfa Kossuth Lajos 13                                                                                                                                                       E.ON Energiaszolg. Kft.                                                                                                                     109180010000002494090040          0             109180010000002494090040                           5950018611094690            00000000026680020160226       ","Csoportos beszedési megbízás"," / 5950018611094690","E.ON Energiaszolg. Kft. / 109180010000002494090040"]

{"sheet":"mérleg1","index":10,"n_rows":41,"n_cols":16,"rows_kept":41,"cut":false,"hidden":false,"merged":[[0,1,0,9]]}
["bank",{"$f":"\"A VADOSFAI EVANGÉLIKUS EGYHÁZKÖZSÉG ZÁRÓMÉRLEGE - \" & mnap('Terv-segédlet'!A1,range(\"A:N\"))","v":"A VADOSFAI EVANGÉLIKUS EGYHÁZKÖZSÉG ZÁRÓMÉRLEGE - 2016. február 28-án (évközi)"},null,null,null,null,null,null,null,null,"https://ibank.takarekpont.hu/eib/getstatement",{"$f":"$K1+SUMIF(bank!$I:$I,mérleg1!$B1,bank!$M:$M)-SUMIF(bank!$I:$I,mérleg1!$B1,bank!$N:$N)","v":{"$error":"#VALUE!"}}]
["*",null,"ÖSSZESEN","Vadosfa","Gyóró","Kisfalud","Magyar-keresztúr","Mihályi","Potyond","Zsebeháza"]
["*",null,null,"V","Gy","K","Mk","M","P","Zs"]
["*","Előző évi maradvány (kp):",{"$f":"SUM(D4:J4)","v":782878},209597,44592,44554,21315,253330,34415,175075]
["*","Előző évi maradvány (bank):",13197708,5140665,578368,502326,3331893,2533297,288946,822213]
["*"," + Tárgyévi bevételek(kp):",81810,{"$f":"SUM(V!K:K)","v":0},{"$f":"SUM(Gy!K:K)","v":0},{"$f":"SUM(K!K:K)","v":0},{"$f":"SUM(Mk!K:K)","v":31200},{"$f":"SUM(M!K:K)","v":50610},{"$f":"SUM(P!K:K)","v":0},{"$f":"SUM(Zs!K:K)","v":0}]
["*"," + Tárgyévi bevételek(bank):",136858,{"$f":"SUMIF(bank!B:B,\"V\",bank!M:M)","v":72351},{"$f":"SUMIF(bank!B:B,\"Gy\",bank!M:M)","v":16},{"$f":"SUMIF(bank!B:B,\"K\",bank!M:M)","v":324},{"$f":"SUMIF(bank!B:B,\"Mk\",bank!M:M)","v":0},{"$f":"SUMIF(bank!B:B,\"M\",bank!M:M)","v":33556},{"$f":"SUMIF(bank!B:B,\"P\",bank!M:M)","v":58},{"$f":"SUMIF(bank!B:B,\"Zs\",bank!M:M)","v":30553}]
["*","bevétel összesen:",14199254,{"$f":"SUM(D4:D7)","v":5422613},{"$f":"SUM(E4:E7)","v":622976},547204,3384408,2870793,323419,1027841]
["*"," - Tárgyévi kiadások(kp):",28045,{"$f":"SUM(V!L:L)","v":0},{"$f":"SUM(Gy!L:L)","v":0},{"$f":"SUM(K!L:L)","v":0},{"$f":"SUM(Mk!L:L)","v":3690},{"$f":"SUM(M!L:L)","v":24355},{"$f":"SUM(P!L:L)","v":0},{"$f":"SUM(Zs!L:L)","v":0}]
["*"," - Tárgyévi kiadások(bank):",510444,{"$f":"SUMIF(bank!B:B,\"V\",bank!N:N)","v":368934},{"$f":"SUMIF(bank!B:B,\"Gy\",bank!N:N)","v":0},{"$f":"SUMIF(bank!B:B,\"K\",bank!N:N)","v":5150},{"$f":"SUMIF(bank!B:B,\"Mk\",bank!N:N)","v":11250},{"$f":"SUMIF(bank!B:B,\"M\",bank!N:N)","v":10660},{"$f":"SUMIF(bank!B:B,\"P\",bank!N:N)","v":0},{"$f":"SUMIF(bank!B:B,\"Zs\",bank!N:N)","v":114450}]
["*","kiadás összesen:",538489,{"$f":"SUM(D9:D10)","v":368934},{"$f":"SUM(E9:E10)","v":0},5150,14940,35015,0,114450]
["*",{"$f":"\"= Egyenleg \" & mnap('Terv-segédlet'!A1,range(\"A:N\"))","v":"= Egyenleg 2016. február 28-án (évközi)"},{"$f":"SUM(D12:J12)","v":13660765},{"$f":"D8-D11","v":5053679},{"$f":"E8-E11","v":622976},542054,3369468,2835778,323419,913391]
["*","ebből kp.",836643,{"$f":"D4+D6-D9","v":209597},{"$f":"E4+E6-E9","v":44592},44554,48825,279585,34415,175075]
["*","ebből bank",12824122,{"$f":"D5+D7-D10","v":4844082},{"$f":"E5+E7-E10","v":578384},497500,3320643,2556193,289004,738316]
["*","változás az elmúlt évhez képest",-319821,{"$f":"-(D4+D5-D12)","v":-296583},16,-4826,16260,49151,58,{"$f":"-(J4+J5-J12)","v":-83897}]
[null,"kv",{"$f":"SUM(D16:J16)","v":{"$error":"#REF!"}},{"$f":"#REF!","v":{"$error":"#REF!"}},{"$f":"#REF!","v":{"$error":"#REF!"}},{"$f":"#REF!","v":{"$error":"#REF!"}},{"$f":"#REF!","v":{"$error":"#REF!"}},{"$f":"#REF!","v":{"$error":"#REF!"}},{"$f":"#REF!","v":{"$error":"#REF!"}},{"$f":"#REF!","v":{"$error":"#REF!"}},null,null,null,null,28982751,{"$f":"C16-O16","v":{"$error":"#REF!"}}]
[null,null,{"$f":"SUM(D17:J17)","v":218668},{"$f":"D6+D7","v":72351},{"$f":"E6+E7","v":16},{"$f":"F6+F7","v":324},31200,{"$f":"H6+H7","v":84166},58,30553,null,null,null,null,28982751,-28764083]
[null,null,{"$f":"C17-C16","v":{"$error":"#REF!"}},{"$f":"D17-D16","v":{"$error":"#REF!"}},{"$error":"#REF!"},{"$error":"#REF!"},{"$error":"#REF!"},{"$error":"#REF!"},{"$error":"#REF!"},{"$error":"#REF!"},null,null,null,null,0,{"$error":"#REF!"}]
[null,"kv",{"$f":"SUM(D19:J19)","v":{"$error":"#REF!"}},{"$f":"#REF!","v":{"$error":"#REF!"}},{"$f":"#REF!","v":{"$error":"#REF!"}},{"$f":"#REF!","v":{"$error":"#REF!"}},{"$f":"#REF!","v":{"$error":"#REF!"}},{"$f":"#REF!","v":{"$error":"#REF!"}},{"$f":"#REF!","v":{"$error":"#REF!"}},{"$f":"#REF!","v":{"$error":"#REF!"}},null,null,null,null,33534355,{"$error":"#REF!"}]
[null,null,{"$f":"SUM(D20:J20)","v":538489},{"$f":"D9+D10","v":368934},{"$f":"E9+E10","v":0},{"$f":"F9+F10","v":5150},14940,35015,0,114450,null,null,null,null,33534355,-32995866]
[null,null,{"$f":"C20-C19","v":{"$error":"#REF!"}},{"$f":"D20-D19","v":{"$error":"#REF!"}},{"$f":"E20-E19","v":{"$error":"#REF!"}},{"$error":"#REF!"},{"$error":"#REF!"},{"$error":"#REF!"},{"$error":"#REF!"},{"$error":"#REF!"},null,null,null,null,0,{"$error":"#REF!"}]
["*","Folyószámla (Rajkai Takarékszövetkezet): ",{"$f":"SUM(C23:C29)","v":5077295},{"$f":"SUM(D23:D29)","v":2685250},370239,129367,1162016,379497,246819,104107,"Nyitó érték jan. 1-én","számlanyitás ideje"]
["*","F/V59500186-11094690",{"$f":"SUM(D23:J23)","v":2685250},{"$f":"K23+SUMIF(bank!$I:$I,mérleg1!$B23,bank!$M:$M)-SUMIF(bank!$I:$I,mérleg1!$B23,bank!$N:$N)","v":2685250},null,null,null,null,null,null,2987486,"2013-03-20"]
["*","F/M59500186-11095608",379497,null,null,null,null,{"$f":"K24+SUMIF(bank!$I:$I,mérleg1!$B24,bank!$M:$M)-SUMIF(bank!$I:$I,mérleg1!$B24,bank!$N:$N)","v":379497},null,null,358157,"2013-04-23"]
["*","F/P59500186-11095615",246819,null,null,null,null,null,{"$f":"K25+SUMIF(bank!$I:$I,mérleg1!$B25,bank!$M:$M)-SUMIF(bank!$I:$I,mérleg1!$B25,bank!$N:$N)","v":246819},null,246819,"2013-04-23"]
["*","F/Mk59500186-11095952",1162016,null,null,null,{"$f":"K26+SUMIF(bank!$I:$I,mérleg1!$B26,bank!$M:$M)-SUMIF(bank!$I:$I,mérleg1!$B26,bank!$N:$N)","v":1162016},null,null,null,173266,"2013-04-27"]
["*","F/K59500186-11096582",129367,null,null,{"$f":"K27+SUMIF(bank!$I:$I,mérleg1!$B27,bank!$M:$M)-SUMIF(bank!$I:$I,mérleg1!$B27,bank!$N:$N)","v":129367},null,null,null,null,134517,"2013-06-06"]
["*","F/Zs59500186-11096599",104107,null,null,null,null,null,null,{"$f":"K28+SUMIF(bank!$I:$I,mérleg1!$B28,bank!$M:$M)-SUMIF(bank!$I:$I,mérleg1!$B28,bank!$N:$N)","v":104107},188557,"2013-06-06"]
["*","F/Gy59500186-11096609",370239,null,{"$f":"K29+SUMIF(bank!$I:$I,mérleg1!$B29,bank!$M:$M)-SUMIF(bank!$I:$I,mérleg1!$B29,bank!$N:$N)","v":370239},null,null,null,null,null,370239,"2013-06-06"]
["*","Betétek:",{"$f":"SUM(C31:C46)","v":8744177},{"$f":"SUM(D31:D50)","v":2156164},{"$f":"SUM(E31:E50)","v":208163},368133,3158627,2176696,42185,634209,null,"lekötés kezdete","lekötés vége","nap"]
[{"$f":"IF(C31=0,\"\",\"*\")","v":"*"},"B/Mk59500186-33017479",{"$f":"SUM(D31:J31)","v":955511},null,null,null,{"$f":"$K31+SUMIF(bank!$I:$I,mérleg1!$B31,bank!$M:$M)-SUMIF(bank!$I:$I,mérleg1!$B31,bank!$N:$N)","v":955511},null,null,null,955511,"2015-12-07","2016-03-07",{"$f":"M31-TODAY()","v":8}]
["*","B/V59500186-33072715",2156164,{"$f":"$K32+SUMIF(bank!$I:$I,mérleg1!$B32,bank!$M:$M)-SUMIF(bank!$I:$I,mérleg1!$B32,bank!$N:$N)","v":2156164},null,null,null,null,null,null,2153179,"2016-01-19","2016-04-19",{"$f":"M32-TODAY()","v":51}]
[{"$f":"IF(C33=0,\"\",\"*\")","v":"*"},"B/Zs59500210-33116121",{"$f":"SUM(D33:J33)","v":634209},null,null,null,null,null,null,{"$f":"$K33+SUMIF(bank!$I:$I,mérleg1!$B33,bank!$M:$M)-SUMIF(bank!$I:$I,mérleg1!$B33,bank!$N:$N)","v":634209},633656,"2016-01-25","2016-04-25",{"$f":"M33-TODAY()","v":57}]
["*","B/K59500186-33117249",368133,null,null,{"$f":"$K34+SUMIF(bank!$I:$I,mérleg1!$B34,bank!$M:$M)-SUMIF(bank!$I:$I,mérleg1!$B34,bank!$N:$N)","v":368133},null,null,null,null,367809,"2016-01-28","2016-04-28",{"$f":"M34-TODAY()","v":60}]
["*","B/Gy59500186-33150767",104665,null,{"$f":"$K35+SUMIF(bank!$I:$I,mérleg1!$B35,bank!$M:$M)-SUMIF(bank!$I:$I,mérleg1!$B35,bank!$N:$N)","v":104665},null,null,null,null,null,104665,"2015-12-28","2016-03-25",{"$f":"M35-TODAY()","v":26}]
["*","B/Gy59500186-33150781",103498,null,{"$f":"$K36+SUMIF(bank!$I:$I,mérleg1!$B36,bank!$M:$M)-SUMIF(bank!$I:$I,mérleg1!$B36,bank!$N:$N)","v":103498},null,null,null,null,null,103464,"2016-02-25","2016-03-25",26]
["*","B/P59500186-33161925",42185,null,null,null,null,null,{"$f":"$K37+SUMIF(bank!$I:$I,mérleg1!$B37,bank!$M:$M)-SUMIF(bank!$I:$I,mérleg1!$B37,bank!$N:$N)","v":42185},null,42127,"2016-01-15","2016-04-15",{"$f":"M37-TODAY()","v":47}]
["*","B/M59500186-33217772",155859,null,null,null,null,{"$f":"$K38+SUMIF(bank!$I:$I,mérleg1!$B38,bank!$M:$M)-SUMIF(bank!$I:$I,mérleg1!$B38,bank!$N:$N)","v":155859},null,null,155643,"2016-01-16","2016-04-16",48]
["*","B/M59500186-33263395",1520837,null,null,null,null,{"$f":"$K39+SUMIF(bank!$I:$I,mérleg1!$B39,bank!$M:$M)-SUMIF(bank!$I:$I,mérleg1!$B39,bank!$N:$N)","v":1520837},null,null,1519497,"2016-02-17","2016-05-17",79]
["*","B/Mk59500186-33318787",2203116,null,null,null,{"$f":"$K40+SUMIF(bank!$I:$I,mérleg1!$B40,bank!$M:$M)-SUMIF(bank!$I:$I,mérleg1!$B40,bank!$N:$N)","v":2203116},null,null,null,2203116,"2015-12-28","2016-03-25",26]
["*","B/M59500227-33331513",500000,null,null,null,null,{"$f":"$K41+SUMIF(bank!$I:$I,mérleg1!$B41,bank!$M:$M)-SUMIF(bank!$I:$I,mérleg1!$B41,bank!$N:$N)","v":500000},null,null,500000,"2015-12-03","2016-03-03",4]

{"sheet":"bizonylatok","index":11,"n_rows":5,"n_cols":4,"rows_kept":5,"cut":false,"hidden":false,"merged":[]}
["Gyül.rész","dátum","sorszám"]
["M","2016-01-10","+BG455961"]
["M","2016-01-25","+BG455962"]
["M","2016-01-04","-PA3307558","új sorozat"]
["M","2016-02-02","-PA3307559"]

{"sheet":"leltár","index":12,"n_rows":1168,"n_cols":9,"rows_kept":1168,"cut":false,"hidden":false,"merged":[[0,0,0,5],[1,0,1,5],[3,0,3,5],[191,0,191,5],[903,0,903,5],[767,0,767,5],[195,1,195,5],[382,1,382,5],[565,1,565,5],[321,0,321,5],[377,0,377,5],[561,0,561,5],[612,0,612,5],[895,0,895,5],[766,1,766,5],[981,0,981,5],[907,1,907,5],[985,1,985,5],[1057,1,1057,5],[1053,0,1053,5]]}
["A Vadosfai Evangélikus Egyházközség leltára",null,null,null,null,null,"leltárba vétel ideje","selejtezés ideje",{"$f":"MAX(A:A)+1","v":1021}]
[{"$f":"mnap('Terv-segédlet'!A1,range(\"A:F\"))","v":"2016. február 28-án (évközi)"}]
[]
["Vadosfa - templom"]
["Vadosfa - templom"]
["Sor-szám","Besorolás","Megnevezés","Darab","Ár (darabonként)","Megjegyzés"]
[1,"Ingatlan","Templom",1,178734000,"84-es helyrajzi számon, 1244 m2 területű, az épület 1912-ben épült templom körül 1912-ben épült beton alapon álló vas kerítés 1 kettős kapuval és 2 kiskapuval.","2014.",2000]
[2,"Ingatlan","Szántó",1,"14,08 aranykor.","039/3-as helyrajzi számú, 0,5395 ha területű","2014."]
[null,"A templom felszerelését képezi a 2000-ben teljesen felújított villamos hálózat annak minden szerelvényével együtt."]
["Vadosfa templom - templomtér földszint"]
["Sor-szám","Besorolás","Megnevezés","Darab","Ár (darabonként)","Megjegyzés"]
[3,"Értékes t.","Keresztelő tál",1,150000,"Ón, keresztelő medencében, felirattal, átmérő: 40 cm, 1775 jún.15.","2014."]
[4,"Értékes t.","Pad",30,60000,"Fa, pácolt, 463 cm X 104 cm X 50 cm","2014."]
[5,"Értékes t.","Pad",14,60000,"Fa, pácolt, 376 cm X 104 cm X 50 cm","2014."]
[6,"Értékes t.","Pad",10,60000,"Fa, pácolt, 300  cm X 104 cm X 50 cm","2014."]
[7,"Értékes t.","Pad",6,60000,"Fa, pácolt, 360  cm X 104 cm X 50 cm","2014."]
[8,"Értékes t.","Pad",2,50000,"Fa, pácolt, 230  cm X 104 cm X 50 cm","2014."]
[9,"Értékes t.","Egyházfi pad",1,50000,"Fa, pácolt, 110  cm X 104 cm X 72 cm, előpaddal együtt","2014."]
[10,"Értékes t.","Hősi emléktábla",1,100000,"II. világháború áldozatainak emlékére 140 cm X 173 cm","2014."]
[11,"Értékes t.","Hősi emléktábla",1,100000,"I. világháború áldozatainak emlékére 127 cm X 183 cm","2014."]
[12,"Értékes t.","Szószékoltár oltárképpel",1,1500000,"1912-ben készítették, az oltárképet 1889-ben kapta a gyülekezet (Ajkay)","2014."]
[13,"Értékes t.","Villanyóra",1,150000,"Főbejárat mögött biztosíték szekrénnyel","2014."]
[14,"Értékes t.","Csillár",1,300000,"1912-ben készült öntöttvas csillár, 24 ágú, kötéllel 2000-ben villamosított","2014."]
[15,"Értékes t.","Keresztelő medence",1,200000,"Homokkő, 1734-ben készült, 100 cm magas, 60 cm átmérőjű","2014."]
[16,"Értékes t.","Feszület",1,200000,"Ezüst, 73,5 cm X 36,5 cm, egy ezüst szeg hiányzik","2014."]
[17,"Értékes t.","Gyertyatartó",2,100000,"Ezüstörött réz, 87 cm magas, Kisfaludi gyülekezet ajándéka 1912","2014."]
[18,"Értékes t.","Csillár",1,150000,"1734-ben készült réz, 6 karos, 2000-ben villamosítva","2014."]
[19,"Értékes t.","Csillár",1,200000,"1734-ben készült réz, 12 karos, 2000-ben villamosítva","2014."]
[20,"Egyéb t.","Előpad",2,null,"Fa, pácolt, 463 cm X 104 cm X 20 cm","2014."]
[21,"Egyéb t.","Előpad",2,null,"Fa, pácolt, 376 cm X 104 cm X 20 cm","2014."]
[22,"Egyéb t.","Előpad",2,null,"Fa, pácolt, 300 cm X 104 cm X 20 cm","2014."]
[23,"Egyéb t.","Előpad",2,null,"Fa, pácolt, 230 cm X 104 cm X 20 cm","2014."]
[24,"Egyéb t.","Oltárkerítés ",2,null,"1913-ban készült, ajtóval, 165 cm X 90 cm","2014."]
[25,"Egyéb t.","Oltárzsámoly",2,null,"Fa, zöld bársonnyal kérpitozva, 152 cm X 25 cm X 25 cm","2014."]
[26,"Egyéb t.","Oltárzsámoly",1,null,"Fa, zöld bársonnyal kérpitozva, 148 cm X 25 cm X 25 cm","2014."]
[27,"Egyéb t.","Emléktábla",1,null,"Pongyelóki Róth emléktábla, vörös márvány, 105 cm X 61 cm","2014."]
[28,"Egyéb t.","Váza",4,null,"Üveg, 24 cm magas, 8 cm átmérőjű","2014."]
[29,"Egyéb t.","Padlóváza",2,null,"Fekete kerámia füles, 41 cm magas, 18 cm átmérőjű","2014."]
[30,"Egyéb t.","Tárló",1,null,"Fa, üveges, Telekesi Török István, 55,5 cm X 49 cm","2014."]
[31,"Egyéb t.","Keresztelő medence fedő ",1,null,"Fa, kúp alakú, 70 cm átmérőjű, 50 cm magas","2014."]
[32,"Egyéb t.","Énekeskönyv",1,null,"1987-es kiadás","2014."]
[33,"Egyéb t.","Énekeskönyv",1,null,"1982-es kiadás","2014."]
[34,"Egyéb t.","Gyertya gyújtó-oltó",1,null,"Fém, fa rúddal, 126 cm","2014."]
[35,"Egyéb t.","Persely",2,null,"Lemez, sötétbarnára festve, lakattal, 23,5 cm X 10,5 cm X 10 cm","2014."]
[36,"Egyéb t.","Énekszámtábla ",2,null,"Fa, feketére festett, 55,5 cm X 25,5 cm","2014."]
[37,"Egyéb t.","Énekszámok",59,null,"Fa, fekete alapon fehér festett különböző szám, 8 cm X 5,5 cm","2014."]
[38,"Egyéb t.","Énekszámtábla ",1,null,"Fa, feketére festett, 71 cm X 38 cm","2014."]
[39,"Egyéb t.","Énekszámok",22,null,"Fa, fekete alapon fehér festett különböző szám, 10,5 cm X 9 cm","2014."]
[40,"Egyéb t.","Gyertyatartó",2,null,"Ezüstözött réz, 72 cm magas","2014."]
[41,"Egyéb t.","Hosszú lóca",2,null,"Fa, sötétre pácolt, 298 cm X 29 cm X 49 cm","2014."]
[42,"Egyéb t.","Biblia tartó",1,null,"Fa, szürkére festett, 28 cm X 33 cm X 13 cm","2014."]
[43,"Egyéb t.","Biblia (oltáron)",1,null,"1912-ben adták ki, Förhéncz Eszter és Sándor adománya","2014."]
[44,"Egyéb t.","Fehér oltárlap terítő",1,null,"Fehér vászon, áttört mintás, 248 cm X 60 cm","2014."]
[45,"Egyéb t.","Bibliatartó terítője",1,null,"Fehér vászon, áttört mintás, 42 cm X 45 cm","2014."]
[46,"Egyéb t.","Feszület tartó állvány",1,null,"Fa, eredeti színban lakkozott, 30,5 cm X 24,5 cm X 13,5 cm","2014."]
[47,"Egyéb t.","Terítő",1,null,"Sfeszület alatt, fehér kör csipke, 30 cm átmérőjű","2014."]
["Vadosfa templom - templomtér karzat"]
["Sor-szám","Besorolás","Megnevezés","Darab","Ár (darabonként)","Megjegyzés"]
[48,"Értékes t.","Angster orgona",1,15000000,"12 regiszteres, 1913-ban építették, orgona motorral (2000-től) és kottatartóval","2014."]
[49,"Értékes t.","Pad",4,60000,"Fa, pácolt, 575,5 cm X 104 cm X 50 cm","2014."]
[50,"Értékes t.","Pad",4,60000,"Fa, pácolt, 581 cm X 104 cm X 50 cm","2014."]
[51,"Értékes t.","Pad",4,60000,"Fa, pácolt, 590 cm X 104 cm X 50 cm","2014."]
[52,"Értékes t.","Pad",6,60000,"Fa, pácolt, 565 cm X 104 cm X 50 cm","2014."]
[53,"Egyéb t.","Pad",2,null,"Fa, pácolt, 155 cm X 104 cm X 50 cm","2014."]
[54,"Egyéb t.","Pad",3,null,"Fa, pácolt, 300 cm X 117 cm X 50 cm, selejtezésre vár","2014."]
[55,"Egyéb t.","Előpad",1,null,"Fa, pácolt, 300 cm X 117 cm X 20 cm, selejtezésre vár","2014."]
[56,"Egyéb t.","Fújtató zsámoly",1,null,"Fa, ferérre festve, kopott, 56 cm X 22cm X 40 cm","2014."]
[57,"Egyéb t.","Orgona pad",1,null,"Fa, szürkére festett, támlás, 278 cm X 113 cm X 36 cm","2014."]
[58,"Egyéb t.","Orgona pad",1,null,"Fa, eredeti színében lakkozott, 120 cm X 25,5 cm X 60 cm","2014."]
[59,"Egyéb t.","Nemzeti színű zászló",1,null,"95 cm X 130 cm","2014."]
[60,"Egyéb t.","Zászlórúd",1,null,"Fa, 500 cm hosszú","2014."]
[61,"Egyéb t.","Zászlórúd",2,null,"Fa, feketére festett, 450 cm hosszú","2014."]
[62,"Egyéb t.","Énekszámtábla",4,null,"Fa, feketére festett, 55,5 cm X 25,5 cm","2014."]
[63,"Egyéb t.","Énekszámok",59,null,"Fa, fekete alapon fehér festett különböző szám, 8 cm X 5,5 cm","2014."]
[64,"Egyéb t.","Ülőpárna",2,null,"Téglavörös anyaggal bevonva, 33 cm X 36 cm X 1 cm","2014."]
[65,"Egyéb t.","Falikar",1,null,"Orgona kottatartóra szerelve, arany színű, 29,5 cm hosszú, két égős","2014."]
[66,"Egyéb t.","Persely",1,null,"Lemez, fehérre festett, lakattal, 10,5 cm X 8,5 cm X 14,5 cm","2014."]
[67,"Egyéb t.","Persely",1,null,"Lemez, sötétbarnára festve, lakattal, 23,5 cm X 10,5 cm X 10 cm","2014."]
[68,"Egyéb t.","Páratartó  ",12,null,"Bádog, ablakok alatt, 135 cm hosszú","2014."]
[69,"Egyéb t.","Reflektor",2,null,"Oltárra irányított, 500 W-os","2014."]
[70,"Egyéb t.","Lámpa ",1,null,"Kovácsoltvas utánzatú falikar előtérben","2014."]
["Vadosfa templom - sekrestye"]
["Sor-szám","Besorolás","Megnevezés","Darab","Ár (darabonként)","Megjegyzés"]
[71,"Értékes t.","Fehér oltárterítő ",1,100000,"Selyem, rávarrt kereszttel, 252 cm X 85 cm + 5 cm arany rojt","2014."]
[72,"Értékes t.","Fehér oltárterítő ",1,100000,"Bársony, kehellyel és virágmintákkal, 240 cm X 61 cm + 20 cm rojt","2014."]
[73,"Értékes t.","Zöld oltárterítő ",1,100000,"Selyem, kereszt szőlővel és kalásszal, hímzett, 245 cm X 78 cm","2014."]
[74,"Értékes t.","Vörös oltárterítő ",1,200000,"Bársony, kereszt, virág és szőlő motívummal díszítve, 247 cm X 60 cm","2014."]
[75,"Értékes t.","Lila oltárterítő ",1,100000,"Selyem, kereszt + korona + töviskoszorú, 246 cm X 77 cm, megfordítva fekete","2014."]
[76,"Értékes t.","Arany oltárterítő ",1,100000,"Bársony, kereszt, sormintával, 240 cm X 120 cm (oltárfedlappal), rossz állapotú","2014."]
[77,"Értékes t.","Zöld oltárterítő",1,100000,"Bársony, kereszt kehellyel és horgonnyal, 245 cm X 67 cm + fedlap rész","2014."]
[78,"Értékes t.","Vörös szószék terítő",1,60000,"Bársony, Minndeható jelkép, körben virág és szőlő motívum 64 cm X 90 cm","2014."]
[79,"Értékes t.","Vörös szószék terítő",1,60000,"Bársony, kereszt kehellyel és horgonnyal, 41 cm X 91 cm","2014."]
[80,"Értékes t.","Vörös szószék terítő",1,50000,"Bársony, kehely virággal, 43,5 cm X 95 cm","2014."]
[81,"Értékes t.","Radó úri pad",1,1000000,"Fa, rossz állapotú, 135 cm X 90 cm X 221 cm, 1719-ből","2014."]
[82,"Egyéb t.","Vörös szószék terítő",1,null,"Bársony, Kehely Bibliával és virágok, 46 cm X 88 cm","2014."]
[83,"Egyéb t.","Zöld szószék terítő",1,null,"Selyem, kereszttel, 43 cm X 80 cm","2014."]
[84,"Egyéb t.","Zöld szószék terítő",1,null,"Bársony,erősen kifakult, kehellyel, 45 cm X 97 cm","2014."]
[85,"Egyéb t.","Lila szószék terítő",1,null,"Selyem, Krisztus monogrammal, 41 cm X 83 cm, megfordítva fekete","2014."]
[86,"Egyéb t.","Lila szószék terítő",1,null,"Bársony, kereszt és horgony, 51 cm X 97 cm, erősen kopott","2014."]
[87,"Egyéb t.","Fehér szószék terítő",1,null,"Selyem, kereszttel, 45 cm X 75 cm","2014."]
[88,"Egyéb t.","Arany szószék terítő",1,null,"Bársony, Bibliával, 59 cm X 56 cm + feltét","2014."]
[89,"Egyéb t.","Úrvacsorai terítő",1,null,"Bársony, arany, 52 cm X 56 cm","2014."]
[90,"Egyéb t.","Vörös oltárlap terítő",1,null,"Bársony, allul virágmintákkal, 230 cm X 81 cm","2014."]
[91,"Egyéb t.","Fehér szószék terítő",1,null,"Bársony, Kehely virágokkal, 42 cm X 89 cm + 15 cm rojt","2014."]
[92,"Egyéb t.","Vörös oltárlap terítő",1,null,"Bársony, minta nélküli, 250 cm X 55 cm","2014."]
[93,"Egyéb t.","Arany szószék terítő",1,null,"Bársony, kehellyel és mintákkal, 41 cm X 52 cm + feltét","2014."]
[94,"Egyéb t.","Terítő",1,null,"Vászon, 54 cm X 57 cm","2014."]
[95,"Egyéb t.","Vörös oltárlap terítő",1,null,"Vászon, 255 cm X 78 cm","2014."]
[96,"Egyéb t.","Oltárterítő feltét",1,null,"Fehér csipke, 262 cm X 84 cm","2014."]
[97,"Egyéb t.","Bársony anyag",1,null,"Zöld, 150 cm X 80 cm","2014."]
[98,"Egyéb t.","Szószék terítő feltét",1,null,"Fehér csipke, 60 cm X 62 cm","2014."]
[99,"Egyéb t.","Úrvacsorai terítő",1,null,"Fehér vászon, színes hímzéssel, 56 cm X 56 cm","2014."]
[100,"Egyéb t.","Úrvacsorai terítő",1,null,"Fehér bársony, kehellyel, 60 cm X 60 cm, vasalóval kiégetett","2014."]
[101,"Egyéb t.","Bibliatartó terítője",1,null,"Fehér vászon csipke széllel, 45 cm X 45 cm","2014."]
[102,"Egyéb t.","Terítő",1,null,"Fekete, 85 cm X 95 cm","2014."]
[103,"Egyéb t.","Oltárterítő darabok",4,null,"Mihályi oltárterítőről levágott zöld és lila darabok","2014."]
[104,"Egyéb t.","Fonál",null,null,"Vörös fonál 4 gombolyag","2014."]
[105,"Egyéb t.","Temetési zászló",1,null,"Telekesi Török István gyászzászlaja 1723-ból, igen rossz állapotban","2014."]
[106,"Egyéb t.","Palatábla",1,null,"25 cm X 17,5 cm","2014."]
[107,"Egyéb t.","Ostyatartó",1,null,"Fa fedéllel, 21 cm magas, 12 cm átmérőjű","2014."]
[108,"Egyéb t.","Mángorló",1,null,"Fa, erősen szuvas, 1875-ből","2014."]
[109,"Egyéb t.","Vajköpülő",1,null,"Fa","2014."]
[110,"Egyéb t.","Lámpabúra",1,null,"Tejüveg, 14 cm magas, 20 cm átmérőjű","2014."]
[111,"Egyéb t.","Lámpabúra",1,null,"Üveg, 24 cm magas, 18 cm átmérőjű, törött","2014."]
[112,"Egyéb t.","Petróleum lámpa",1,null,null,"2014."]
[113,"Egyéb t.","Persely",2,null,"Rúrda szerelhető csengős, fém felső, bársony alsó","2014."]
[114,"Egyéb t.","Kanna",1,null,"Lemez, 35,5 cm magas, 18 cm átmérőjű, fedeles","2014."]
[115,"Egyéb t.","Kanna",1,null,"Ón, letört fedővel, 26,5 cm magas, 17 cm átmérőjű","2014."]
[116,"Egyéb t.","Gyertyatartó",2,null,"Aranyozott fa, 1734-ből, 75 cm magas","2014."]
[117,"Egyéb t.","Gyertyatartó",2,null,"Réz, 20 cm magas","2014."]
[118,"Egyéb t.","Cserépalátét",2,null,"Fehér porcelán, 16 cm átmérőjű","2014."]
[119,"Egyéb t.","Karácsonyfaégősor",1,null,"15 égős","2014."]
[120,"Egyéb t.","Kép kerettel",1,null,"Jézus (megkötözve), 95 cm X 120 cm","2014."]
[121,"Egyéb t.","Imádság",1,null,"Luther sekrestye imádsága, 41,5 cm X 31,5 cm","2014."]
[122,"Egyéb t.","Gyertyatartó",2,null,"Ezüstözött réz, 72 cm magas","2014."]
[123,"Egyéb t.","Gyászzászló",1,null,"160 cm-es rúddal, tetején 32 cm-es csúcsdísszel, teljesen használhatatlan","2014."]
[124,"Egyéb t.","Váza",5,null,"Különböző méretű törött, üveg","2014."]
[125,"Egyéb t.","Víztartó",1,null,"Sarokba szerelhető bábog oroszlános csappal, 34 cm X 34 cm X 70 cm","2014."]
[126,"Egyéb t.","Szekrény",1,null,"Fa, négyajtós, 267 cm X 61 cm X 182 cm","2014."]
[127,"Egyéb t.","Könyvespolc",1,null,"Fa, 105 cm X 30 cm X 141,5 cm","2014."]
[128,"Egyéb t.","Szekrény",1,null,"Fa kétajtós, 128 cm X 54 cm X 180 cm","2014."]
[129,"Egyéb t.","Asztal",1,null,"Fa, fiókjába a segédlelkészek bejegyzése, 126 cm X 79 cm X 84 cm","2014."]
[130,"Egyéb t.","Asztal",1,null,"Fa, fiókos, 90 cm X 75 cm X 77,5 cm","2014."]
[131,"Egyéb t.","Szék",4,null,"Fémvázas, műbőrös","2014."]
[132,"Egyéb t.","Karosszék",1,null,"Fa","2014."]
[133,"Egyéb t.","Kisszekrény",1,null,"Fa, 3 fiókkal, két aljóval, 107,5 cm X 40 cm X 99 cm","2014."]
[134,"Egyéb t.","Kisszekrény",1,null,"Fa, 93 cm X 51 cm X 100 cm","2014."]
[135,"Egyéb t.","Kép kerettel",1,null,"Luther Márton, törött üvegű, 69 cm X 86 cm","2014."]
[136,"Egyéb t.","Kép kerettel",1,null,"Laucsek Jónás pap, üveg nélküli, 14 cm X 19 cm","2014."]
[137,"Egyéb t.","Kép kerettel",1,null,"Az új templom és lelkésze, Böjtös József, 28 cm X 36 cm","2014."]
[138,"Egyéb t.","Kiulcs",1,null,"Régi, 21 cm hosszú","2014."]
[139,"Egyéb t.","Harangszív",1,null,"Az 1912 előtti harang szíve, 74 cm magas","2014."]
[140,"Egyéb t.","Kereszt darab",2,null,"A régi templom keresztjéből, fém","2014."]
[141,"Egyéb t.","Szélkakas",1,null,"Fém töredék a régi templomről","2014."]
[142,"Egyéb t.","Kép kerettel",1,null,"Ecce homo, 124,5 cm X 65 cm","2014."]
[143,"Egyéb t.","Kép  ",1,null,"Utolsó vacsora, 70,5 cm X 49 cm","2014."]
[144,"Egyéb t.","Páratartó  ",5,null,"Bádog, ablakok alatt, 80 cm hosszú","2014."]
[145,"Egyéb t.","Vállfa",1,null,null,"2014."]
[146,"Egyéb t.","Kés",1,null,null,"2014."]
[147,"Egyéb t.","Kisszekrény",1,null,"Fa, fiókos, két ajtós 110 cm X 47 cm X 131,5 cm","2014."]
[148,"Egyéb t.","Kereszt  ",1,null,"Fa feketése festve, 49 cm X 21 cm","2014."]
[149,"Egyéb t.","Ruhafogas",1,null,"Fa talpra szerelt öt fém fogas, 100 cm X 12 cm","2014."]
[150,"Egyéb t.","Lámpa ",2,null,"Gömb üveg, 15 cm átmérőjű","2014."]
[151,"Egyéb t.","Gondnoki láda",1,null,"Fa, rossz állapotú, 103 cm X 57 cm X 51 cm","2014."]
[152,"Egyéb t.","Kép kerettel",1,null,"Kapi béle püspök, 37,5 cm X 54,5 cm","2014."]
[153,"Egyéb t.","Harang váll",1,null,"Az 1912 előtti haranggé, fa","2014."]
[154,"Egyéb t.","Lámpa ",1,null,"Halogén, szószéken rejtve","2014."]
[155,"Egyéb t.","Kép kerettel",1,null,"Melanchton Fülöp, 69 cm X 86 cm, törött üvegű","2014."]
[156,"Egyéb t.","Szekrény",1,null,"Fa, két ajtós, 142 cm X 60 cm X 210 cm","2014."]
[157,"Egyéb t.","Szekrény",1,null,"Fa, egy ajtós, 106,5 cm X 48,5 cm X 183 cm","2014."]
[158,"Egyéb t.","Gyertyataró",4,null,"Aranyozott fa, 1734-ből, 75 cm magas","2014."]
["Vadosfa templom - torony"]
["Sor-szám","Besorolás","Megnevezés","Darab","Ár (darabonként)","Megjegyzés"]
[159,"Értékes t.","Nagy harang",1,1000000,"X q","2014."]
[160,"Értékes t.","Kis harang",1,800000,"X q","2014."]
[161,"Egyéb t.","Harang kapcsoló óra",2,null,"Heti kapcsoló óra teljes vezérléssel","2014."]
[162,"Egyéb t.","Seprű",4,null,"Cirok, egyik rossz állapotban","2014."]
[163,"Egyéb t.","Partvis",1,null,null,"2014."]
[164,"Egyéb t.","Felmoso vödör",2,null,"Műanyag, hozzávalő felmosófával","2014."]
[165,"Egyéb t.","Szemeteslapát",2,null,"Műanyag, egyik törött nyelű","2014."]
[166,"Egyéb t.","Vördör",1,null,"Műanyag","2014."]
[167,"Egyéb t.","Seprű",2,null,"Kisméretű egykezes cirok","2014."]
[168,"Egyéb t.","Lábtörlő",1,null,"Fém lemez, 53,5 cm X 30 cm","2014."]
[169,"Egyéb t.","Lábtörlő",1,null,"Műanyag szálakból fonott, 60 cm X 35 cm","2014."]
[170,"Egyéb t.","Futószőnyeg",1,null,"Bordó tengerifű, 90 cm X 900 cm","2014."]
[171,"Egyéb t.","Cserépkályha cserép",42,null,"Zöld színű, darabokra szedve","2014."]
[172,"Egyéb t.","Ágsöprű",1,null,null,"2014."]
[173,"Egyéb t.","Lámpa ",2,null,"Gömb tejüveg, 15 cm átmérőjű","2014."]
[174,"Egyéb t.","Viharlámpa",2,null,"20 cm X 10 cm","2014."]
[175,"Egyéb t.","Lámpa ",1,null,"Hengeres külső lámpa, 10 cm átmérőjű, 22 cm hosszú","2014."]
[176,"Egyéb t.","Páratartó  ",8,null,"Bádog, ablakok alatt, 65 cm hosszú","2014."]
["Vadosfa - lelkészlakás"]
["Lelkészlakás"]
["Sor-szám","Besorolás","Megnevezés","Darab","Ár (darabonként)","Megjegyzés"]
[177,"Ingatlan","Parókia és káplán szoba",1,13500000,"16-os helyrajzi számon 3733 m2 területtel. A parókia 1970-ben épült, a káplán szoba 1886-ban. Az ingatlan körbe drót kerítéssel kerített, illetve az utcafronton beton alapon fém rácsos kerítés egy kettős kapuval és egy bejáratiajtóval.","2014."]
[null,"A lakás felszerelését képezi egy 1997-ben kialakított központi fűtés minden helyiségben radiátorral, továbbá a felszerelés része a teljes villamos hálózat annak minden szerelvényével együtt és a vízhálózat annak minden szerelvényével együtt."]
["Iroda"]
["Sor-szám","Besorolás","Megnevezés","Darab","Ár (darabonként)","Megjegyzés"]
[178,"Értékes t.","Kehely paténával",1,800000,"Ezüst, feirattal 1888-ból, 31 cm magas, 10 cm átmérőjű, paténa 16,5 cm átm. Gazdagon díszített, bőr tokban.","2014."]
[179,"Értékes t.","Kehely paténával",1,100000,"Ezüst, feirattal 1888-ból, 13 cm magas, 5 cm átmérőjű, paténa 7,5 cm átmérő","2014."]
[180,"Értékes t.","Cibórium",1,100000,"Ezüst ovális gazdag díszítéssel, 16,5 cm X 13 cm","2014."]
[181,"Értékes t.","Fénymásológép",1,160000,"2001-ben vásárolt, Konica 1212-es","2014."]
[182,"Egyéb t.","Cibórium",1,null,"Ezüst, 3 cm magas, 3,5 cm átmérőjű","2014."]
[183,"Egyéb t.","Paténa",1,null,"Ezüst, 15 cm átmérőjű","2014."]
[184,"Egyéb t.","Paténa",1,null,"Réz, 15 cm átmérőjű","2014."]
[185,"Egyéb t.","Keresztelő kancsó",1,null,"Réz, 23 cm magas 1909-ből","2014."]
[186,"Egyéb t.","Úrvacsorai kehely",1,null,"Fém, 15,5 cm magas, 6 cm átmérőjű","2014."]
[187,"Egyéb t.","Keresztelő tál",1,null,"Fém sima, 23 cm átmérőjű","2014."]
[188,"Egyéb t.","Úrvacsorai kanna",1,null,"Fém, 26,5 magas, 10,5 cm átmérőjű, fedele letörve","2014."]
[189,"Egyéb t.","Úrvacsorai kanna",1,null,"Fém, 27 cm magas fedővel, 11 cm átmérőjű, lefelé bővölő","2014."]
[190,"Egyéb t.","Szószék terítő",1,null,"Zöld selyem, kereszttel, 44 cm X 84 cm","2014."]
[191,"Egyéb t.","Gyászzászló",1,null,"Vászon, 88 cm X 151 cm","2014."]
[192,"Egyéb t.","Oltártarítő",1,null,"Fehér vászon, széle csipkézett, 87,5 cm X 83 cm","2014."]
[193,"Egyéb t.","Oltártarítő",1,null,"Fehér vászon, 89,5 cm X 78 cm","2014."]
[194,"Egyéb t.","Oltárlap terítő",1,null,"Fehér vászon, riselinezett, 240 cm X 73,5 cm","2014."]
[195,"Egyéb t.","Oltárlap terítő",1,null,"Fehér vászon, 238 cm X 70 cm","2014."]
[196,"Egyéb t.","Üveges szekrény",1,null,"Használtan kaptuk 1998-ban, 160X120X35 cm","2014."]
[197,"Egyéb t.","Háromajtós szekrény",1,null,"Használtan kaptuk 1998-ban, 175X175X58 cm","2014."]
[198,"Egyéb t.","Kétajtós szekrény ",1,null,"Használtan kaptuk 1998-ban, 160X120X60 cm","2014."]
[199,"Egyéb t.","Íróasztal",1,null,"Három fiókos, használtan kaptuk 1998-ban, 75X120X56 cm","2014."]
[200,"Egyéb t.","Könyvespolc",1,null,"Három polcos, 1997 előtti, 150X135X30 cm","2014."]
[201,"Egyéb t.","Imazsámoly",1,null,"1997 előtti, 80X52X50 cm","2014."]
[202,"Egyéb t.","Írópult",1,null,"1997 előtti, 130X90X60 cm","2014."]
[203,"Egyéb t.","Függönykarnis",2,null,"Használtan kaptuk 1998-ban, két sínes fa, 150 cm hosszú","2014."]
[204,"Egyéb t.","Függöny",2,null,"Használtan kaptuk 1998-ban","2014."]
[205,"Egyéb t.","Csillár ",1,null,"1997 előtti, hármas (egyik búra törött)","2014."]
[206,"Egyéb t.","Ovális kicsi asztal",1,null,"Használtan kaptuk 1998-ban, 73X76X50 cm","2014."]
[207,"Egyéb t.","Fotel",2,null,"Használtan kaptuk 1998-ban, kárpitos","2014."]
[208,"Egyéb t.","Szék",3,null,"1997 előtti, támlás","2014."]
[209,"Egyéb t.","Orgona sípok",22,null,"Különböző méretben 2000-ből, kartonból","2014."]
[210,"Egyéb t.","PC számítógép",1,null,"2005-ben Líceumtól használtan kaptuk, egérrel, billentyűzettel és monitorral","2014."]
[211,"Egyéb t.","Szőnyeg",1,null,"Használtan kaptuk 1998-ban, 200X300 cm","2014."]
[212,"Egyéb t.","Poroltó készülék",1,null,"2000-ben használtan kaptuk","2014."]
[213,"Egyéb t.","Kávéfőző",1,null,"Kotyogós, négy személyes","2014."]
[214,"Egyéb t.","Tányérkészlet",1,null,"Hat személyes KHALA porcelán tányérkészlet, 18 db-os","2014."]
[215,"Egyéb t.","Keresztelési anyakönyv",1,null,"1707-1743, I. kötet","2014."]
[216,"Egyéb t.","Keresztelési anyakönyv",1,null,"1724-1790, II. kötet","2014."]
[217,"Egyéb t.","Keresztelési anyakönyv",1,null,"1757-1780, III. kötet","2014."]
[218,"Egyéb t.","Keresztelési anyakönyv",1,null,"1781-1797, IV. kötet","2014."]
[219,"Egyéb t.","Keresztelési anyakönyv",1,null,"1798-1818, V. kötet","2014."]
[220,"Egyéb t.","Keresztelési anyakönyv",1,null,"1818-1855, VI. kötet","2014."]
[221,"Egyéb t.","Keresztelési anyakönyv",1,null,"1855-1875, VII. kötet","2014."]
[222,"Egyéb t.","Keresztelési anyakönyv",1,null,"1876-1899, VIII. kötet","2014."]
[223,"Egyéb t.","Keresztelési anyakönyv",1,null,"1900-1924, IX. kötet","2014."]
[224,"Egyéb t.","Keresztelési anyakönyv",1,null,"1924-1995, X. kötet","2014."]
[225,"Egyéb t.","Keresztelési anyakönyv",1,null,"1995-től máig, XI. kötet","2014."]
[226,"Egyéb t.","Temetési anyakönyv",1,null,"1790-1819, XIII. kötet","2014."]
[227,"Egyéb t.","Temetési anyakönyv",1,null,"1819-1874, XIV. kötet","2014."]
[228,"Egyéb t.","Temetési anyakönyv",1,null,"1875-1917, XV. kötet","2014."]
[229,"Egyéb t.","Temetési anyakönyv",1,null,"1918-2014","2014."]
[1020,"Egyéb t.","Temetési anyakönyv",2,null,"2015-től máig","2015."]
[230,"Egyéb t.","Esketési anyakönyv",1,null,"1759-1787, X. kötet","2014."]
[231,"Egyéb t.","Esketési anyakönyv",1,null,"1787-1855, XI. kötet","2014."]
[232,"Egyéb t.","Esketési anyakönyv",1,null,"1855-1889, XII. kötet","2014."]
[233,"Egyéb t.","Esketési anyakönyv",1,null,"1890-1936","2014."]
[234,"Egyéb t.","Esketési anyakönyv",1,null,"1937-től máig, Xvii. kötet","2014."]
[235,"Egyéb t.","Konfirmációi anyakönyv",1,null,"1847-től máig, IX. kötet","2014."]
["Szoba 1 (iroda mellett)"]
["Sor-szám","Besorolás","Megnevezés","Darab","Ár (darabonként)","Megjegyzés"]
[236,"Egyéb t.","Csillár ",1,null,"1997 előtti, öt karú","2014."]
["Szoba 2 (udvar felőli nagy)"]
["Sor-szám","Besorolás","Megnevezés","Darab","Ár (darabonként)","Megjegyzés"]
[237,"Egyéb t.","Csillár",1,null,"1997 előtti, két gömbös","2014."]
[238,"Egyéb t.","Termosztát",1,null,"Tekerőgombos, hagyományos a gáz kazánhoz","2014."]
["Szoba 3 (udvar felőli kicsi)"]
["Sor-szám","Besorolás","Megnevezés","Darab","Ár (darabonként)","Megjegyzés"]
[]
["Konyha"]
["Sor-szám","Besorolás","Megnevezés","Darab","Ár (darabonként)","Megjegyzés"]
[239,"Egyéb t.","Vízmelegítő",1,null,"1997 előtti, 10 l-es Hajdú","2014."]
[240,"Egyéb t.","Mosogató",1,null,"1997 előtti , két medencés, két ajtós tartó szekrénnyel, jelenleg padláson","2014."]
["WC"]
["Sor-szám","Besorolás","Megnevezés","Darab","Ár (darabonként)","Megjegyzés"]
[241,"Egyéb t.","WC kagyló",1,null,"2003-ban vásárolt","2014."]
[242,"Egyéb t.","Mosdó ",1,null,"1997 előtti, kis méretű: 26X36 cm","2014."]
[243,"Egyéb t.","WC papír tartó ",1,null,"2003-ban vásárolt, műanyag","2014."]
[244,"Egyéb t.","WC ülőke",1,null,"2003-ban vásárolt","2014."]
[245,"Egyéb t.","WC kefe",1,null,"2003-ban vásárolt","2014."]
[246,"Egyéb t.","Törülköző tartó",1,null,"2003-ban vásárolt","2014."]
[247,"Egyéb t.","Fali lámpa",1,null,"2003-ban vásárolt","2014."]
["Fürdőszoba"]
["Sor-szám","Besorolás","Megnevezés","Darab","Ár (darabonként)","Megjegyzés"]
[248,"Egyéb t.","Fürdőkád",1,null,"2003-ban vásárolt, zománcos,  70X150 cm","2014."]
[249,"Egyéb t.","Zuhanytálca",1,null,"2003-ban vásárolt, zománcos,  80X80 cm","2014."]
[250,"Egyéb t.","Zuhanykabin",1,null,"2003-ban vásárolt, műanyag, beépítve","2014."]
[251,"Egyéb t.","Mosdó ",1,null,"2003-ban vásárolt, porcelán, 56X48 cm","2014."]
[252,"Egyéb t.","Gömb lámpa",1,null,"1997 előtti","2014."]
[253,"Egyéb t.","Kapaszkodó",1,null,"2003-ban vásárolt, műanyag, 32 cm","2014."]
[254,"Egyéb t.","Törülköző tartó",1,null,"2003-ban vásárolt","2014."]
[255,"Egyéb t.","Szék",1,null,"1997 előtti, kerek, fa","2014."]
["Éléskamra"]
["Sor-szám","Besorolás","Megnevezés","Darab","Ár (darabonként)","Megjegyzés"]
[256,"Egyéb t.","Gömb lámpa",1,null,"1997 előtti","2014."]
[257,"Egyéb t.","Fém kanál",30,null,"1998-ban vásárolt","2014."]
[258,"Egyéb t.","Fém kés",30,null,"1998-ban vásárolt","2014."]
[259,"Egyéb t.","Fém villa",30,null,"1998-ban vásárolt","2014."]
[260,"Egyéb t.","Műanyag mélytányér",30,null,"1998-ban vásárolt, 20,5 cm átmérőjű, fehér","2014."]
[261,"Egyéb t.","Műanyag pohár",30,null,"1998-ban vásárolt, 10 cm magas, 9,5 cm átmérőjű, fehér","2014."]
[262,"Egyéb t.","Műanyag kis kancsó",6,null,"1998-ban vásárolt, 15 cm magas, 18 cm átmérőjű, 3 fehér, 3 kék","2014."]
[263,"Egyéb t.","Műanyag nagy kancsó",3,null,"1998-ban vásárolt, 19,5 cm magas, 14,5 cm átmérőjű, fehér","2014."]
[264,"Egyéb t.","Műanyag kenyérkosár",6,null,"1988-ban vásárolt, 32,5 cm X 21 cm X 8 cm, fehér","2014."]
[265,"Egyéb t.","Kisméretű műanyag tálca",5,null,"1998-ban vásárolt, 29 cm X 18 cm, fehér","2014."]
[266,"Egyéb t.","Műanyag evőeszköz tartó",3,null,"1998-ban vásárolt, 15 cm X 9 cm X 15 cm, fehér","2014."]
[267,"Egyéb t.","Kés",30,null,"1998-ban vásárolt, zöld műanyag nyelű, 20,5 cm hosszú","2014."]
[268,"Egyéb t.","Villa",30,null,"1998-ban vásárolt, fém, 19 cm hosszú","2014."]
[269,"Egyéb t.","Kanál",30,null,"1998-ban vásárolt, 19 cm hosszú","2014."]
["Kamra"]
["Sor-szám","Besorolás","Megnevezés","Darab","Ár (darabonként)","Megjegyzés"]
[270,"Értékes t.","Gázbojler",1,80000,"2003-ban vásárolt","2014."]
[271,"Egyéb t.","Lámpa",1,null,"Gömb tejüveg, 15 cm átmérőjű","2014."]
[272,"Egyéb t.","Pad",1,null,"Fa","2014."]
["Pince"]
["Sor-szám","Besorolás","Megnevezés","Darab","Ár (darabonként)","Megjegyzés"]
[273,"Értékes t.","Kazán",1,60000,"1997-ben vásárolt, Körmendi, vegyes tüzelésű","2014."]
[274,"Értékes t.","Gázkazán",1,130000,"Thermo ÖV, ?","2014."]
[275,"Egyéb t.","Henger lámpa",2,null,"1997 előtti","2014."]
["Előszoba"]
["Sor-szám","Besorolás","Megnevezés","Darab","Ár (darabonként)","Megjegyzés"]
[276,"Egyéb t.","Gömb lámpa",1,null,"1997 előtti","2014."]
[277,"Egyéb t.","Beépített szekrény",1,null,"1997 előtti","2014."]
[278,"Egyéb t.","Tükrös kisszekrény ",1,null,"Használtan kaptuk 1998-ban, 50X175 cm","2014."]
["Vadosfa - \"káplánszoba\""]
[null,"Az épület felszerelését képezi a gáz hálózat egy konvektorral, valamint a teljes villamos hálózat szerelvényeivel együtt."]
["Káplánszoba"]
["Sor-szám","Besorolás","Megnevezés","Darab","Ár (darabonként)","Megjegyzés"]
[279,"Értékes t.","Feszület",1,80000,"77 cm X 37 cm, falra akasztott fa, parasztbarokk az 1700-as évekből","2014."]
[280,"Értékes t.","Harmónium ",1,110000,"Stowasser J., 5 regiszteres","2014."]
[281,"Egyéb t.","Pad",1,null,"Fa, sötétre pácolt, 213 cm X 28 cm X 47 cm","2014."]
[282,"Egyéb t.","Asztal",1,null,"Oltárként, fa saját eredeti színben, 90 cm X 60,5 cm X 82,5 cm cm X cm","2014."]
[283,"Egyéb t.","Könyvszekrény",2,null,"Fa, eredeti színben lakkozott, kétajtós, 121 cm X 57 cm X 186 cm","2014."]
[284,"Egyéb t.","Könyvszekrény",1,null,"Fa, eredeti színében, kétajtós, 145 cm X 48 cm X 206 cm","2014."]
[285,"Egyéb t.","Szék",12,null,"Fa, kárpitos, támlás","2014."]
[286,"Egyéb t.","Szék",22,null,"Fém, műbőrös, támlás","2014."]
[287,"Egyéb t.","Pad",1,null,"Fa, sötétre pácolt támlás, 300 cm X 38 cm X 104,5 cm","2014."]
[288,"Egyéb t.","Ülőpárna",1,null,"Fehér vászon huzattal, 61 cm X 55 cm X 2 cm","2014."]
[289,"Egyéb t.","Sötétítő",2,null,"Vászon, 125 cm X 71 cm","2014."]
[290,"Egyéb t.","Sötétítő",1,null,"Vászon, 87 cm X 88 cm, selejtezendő rossz állapotban","2014."]
[291,"Egyéb t.","Feszület",1,null,"Alumínium, 32,5 cm X 15 cm","2014."]
[292,"Egyéb t.","Biblia",1,null,"Szétesett, fordítva kötöt, hiányos","2014."]
[293,"Egyéb t.","Feszület tartó állvány",1,null,"Fa, feketére festett, 24,5 cm X 15 cm X 20 cm","2014."]
[294,"Egyéb t.","Terítő",1,null,"Feszület tartó takarására, fehér vászon, riselinezett, 34 cm X 34 cm","2014."]
[295,"Egyéb t.","Krisztus fej",1,null,"Fa, 18 cm átmérőjű kör alapon","2014."]
[296,"Egyéb t.","Igéslap",1,null,"Karton, 34 cm X 24,5 cm","2014."]
[297,"Egyéb t.","Ülőpárna",2,null,"Zöld, illetve barna vászonnal bevonva, 140 cm X 33 cm X 2 cm","2014."]
[298,"Egyéb t.","Gyertyatartó",2,null,"Fehér porcelén, zsolnai, 14,5 cm magas, töröttek","2014."]
[299,"Egyéb t.","Karácsonyfa tartó",1,null,"Zöld műanyag, 30 cm átmérőjű","2014."]
[300,"Egyéb t.","Oltárlap terítő",1,null,"Fehér vászon, riselinezett, 137 cm X 81 cm","2014."]
[301,"Egyéb t.","Gyertyatartó",1,null,"Réz, 1732-ből, 33 cm X 32 cm, falra szerelhető","2014."]
[302,"Egyéb t.","Gyertyatartó",1,null,"Réz, harmóniumra szerelhető, 18 cm X 6 cm","2014."]
[303,"Egyéb t.","Hamutartó",1,null,"Barnított üveg, 16 cm átmérőjű","2014."]
[304,"Egyéb t.","karácsonyfa égősor",1,null,"100 színes égős","2014."]
[305,"Egyéb t.","Karácsonyfa dísz",39,null,"Különböző színű műanyag gömb, 5 cm átmérőjű","2014."]
[306,"Egyéb t.","Karácsonyfa dísz",26,null,"Különböző színű műanyag gömb, 4 cm átmérőjű","2014."]
[307,"Egyéb t.","Karácsonyfa dísz",20,null,"Különböző színű műanyag gömb, 3 cm átmérőjű","2014."]
[308,"Egyéb t.","Karácsonyfa dísz",1,null,"Ezüst színű műanyag csúcsdísz, 20 cm magas","2014."]
[309,"Egyéb t.","Karácsonyfa dísz",2,null,"Szalma csillag","2014."]
[310,"Egyéb t.","Karácsonyfa dísz",4,null,"Ezüst színű boa, 265 cm hosszú","2014."]
[311,"Egyéb t.","Pecsétnyomó",1,null,"„A Vadosfai Ág. Hitv. Ev. Iskolaszék pecsétje”","2014."]
[312,"Egyéb t.","Pecsétnyomó",1,null,"„A Vadosfai Ev. Gyülekezet pecsétje”","2014."]
[313,"Egyéb t.","Viaszpecsétnyomó",1,null,"„A Vadosfai Ev. Gyülekezet pecsétje”","2014."]
[314,"Egyéb t.","Pecsétnyomó",1,null,"„1686 évi IV. tc. végrehajtása belyegmentes”","2014."]
[315,"Egyéb t.","Viaszpecsétnyomó",1,null,"„A Soproni Alsóaveng. Egyházmegye pecsétje”","2014."]
[316,"Egyéb t.","Viaszpecsétnyomó",1,null,"„A Soproni Alsó TT Ev. ....Pecsétje”","2014."]
[317,"Egyéb t.","Ostyavágó",1,null,"11,5 cm magas","2014."]
[318,"Egyéb t.","Itatós",1,null,"Fa, itatós papírral","2014."]
[319,"Egyéb t.","Pecsétnyomó",1,null,"„Evangélikus népiskola Gyóró”","2014."]
[320,"Egyéb t.","Pad",1,null,"Fa, eredeti színében, 114 cm X 29,5 cm X 62,5 cm","2014."]
[321,"Egyéb t.","Lábtörlő",1,null,"Tengerifű, 107 cm X 47 cm","2014."]
[322,"Egyéb t.","Szemeteslapát",1,null,"Műanyag","2014."]
[323,"Egyéb t.","Söprű",1,null,"Rossz állapotű, cirok","2014."]
[324,"Egyéb t.","Partvis",1,null,null,"2014."]
[325,"Egyéb t.","Zsúrolókefe",1,null,null,"2014."]
[326,"Egyéb t.","Zsúrolókefe nyél",2,null,"150 cm hosszú","2014."]
[327,"Egyéb t.","Lábtörlő",1,null,"Műanyag szálakból fonott, 60 cm X 35 cm","2014."]
[328,"Egyéb t.","Lámpa",1,null,"Tejüveg gömb, 15 cm átmérőjű","2014."]
[329,"Egyéb t.","Ruhafogas",1,null,"Fa talpon hat fa fogas, 99 cm X 11,5 cm","2014."]
[330,"Egyéb t.","Sámli",2,null,"Fa, kárpitozott, 36,5 cm X 36,5 cm X 44 cm","2014."]
["Mihályi - templom"]
["Templom"]
["Sor-szám","Besorolás","Megnevezés","Darab","Ár (darabonként)","Megjegyzés","2014."]
[331,"Ingatlan","Templom",1,17100000,"238/2-es helyrajzi számon, 1863-ban iskolának épült, 1989-ben alakítottál át templommá","2014."]
[332,"Ingatlan","Szántó",1,"27,14 aranykor.","010/1-es helyrajzi számon, 1,0402 ha alapterületű","2014."]
[null,"A templom felszerelését képezi a teljes villamos hálózat annak minden szerelvényével együtt, valamint a gáz hálózat minden szerelvényével (3 db parapetes és 1 db kéményes gáz konvektorral)."]
["Templomtér"]
["Sor-szám","Besorolás","Megnevezés","Darab","Ár (darabonként)","Megjegyzés"]
[333,"Értékes t.","Szintetizátor",1,127000,"Roland EXR-3-as szintetizátor","2014."]
[334,"Egyéb t.","Oltár",1,null,"1989, préselt lemez, 160,5 cm X 60 cm X 81 cm","2014."]
[335,"Egyéb t.","Gyertyatartó",2,null,"réz, 1999-ben vásárolt, 27 cm magas","2014."]
[336,"Egyéb t.","Feszület",1,null,"Aranyozott ezüst, 37,5 cm maga","2014."]
[337,"Egyéb t.","Fa alátét",1,null,"Feszület tartására, fa feketére festve, 20 cm X 13 cm X 16 cm","2014."]
[338,"Egyéb t.","Fa alátét",1,null,"Feszület tartására, fa saját színében, 21,5 cm X 21,5 cm X 10 cm","2014."]
[339,"Egyéb t.","Terítő",1,null,"Fehér csipke, feszület alatt, 35 cm X 35 cm","2014."]
[340,"Egyéb t.","Kereszt  ",1,null,"Oltárkép helyett, fa, feketére festve, 145 cm X 116 cm, mögötte 16 darabos égősor karácsonyfaégőkből","2014."]
[341,"Egyéb t.","Virág váza",2,null,"Fehér porcelán, 27 cm magas, 11 cm átmérőjű","2014."]
[342,"Egyéb t.","Virág váza",2,null,"Fa, esztergált, saját színében lakkozva, 80 cm magas, 14 cm átmérőjű","2014."]
[343,"Egyéb t.","Biblia",1,null,"1927-as kiadás","2014."]
[344,"Egyéb t.","Bibliatartó oltáron",1,null,"Fa, fekete, 35 cm X 26 cm X 12 cm","2014."]
[345,"Egyéb t.","Oltárterítő",1,null,"Fehér, kereszttel, 156 cm X 76 cm","2014."]
[346,"Egyéb t.","Szószék terítő",1,null,"Fehér, kereszttel, 39,5 cm X  69 cm","2014."]
[347,"Egyéb t.","Üveglap",2,null,"Virágváza alá, 18 cm X 18 xm","2014."]
[348,"Egyéb t.","Üveglap",2,null,"Gyertyatartó alá, 16 cm X 16 cm","2014."]
[349,"Egyéb t.","Oltárterítő",1,null,"Vörös, bársony, Galamb lángnyelvekkel, 158 cm X 71,5 cm","2014."]
[350,"Egyéb t.","Szószék terítő",1,null,"Vörös, bársony, kereszttel, 39 cm X 73 cm","2014."]
[351,"Egyéb t.","Oltárterítő",1,null,"Zöld, selyem, kereszt szőlővel és kalásszal, 32 cm X 40 cm, feltéttel","2014."]
[352,"Egyéb t.","Szószék terítő",1,null,"Zöld, selyem, kereszttel, 163 cm X 76 cm, feltéttel","2014."]
[353,"Egyéb t.","Oltárterítő",1,null,"Lila, selyem, kereszt koronával és töviskoszorúval, 160 cm X  72,5 cm, fekete","2014."]
[354,"Egyéb t.","Szószék terítő",1,null,"Lila, selyem, kereszttel, 41 cm X 82,5 cm, megfordítva fekete","2014."]
[355,"Egyéb t.","Oltárlap terítő",1,null,"Fehér vászon azsuros, 200 cm X 60 cm","2014."]
[356,"Egyéb t.","Oltárterítő",1,null,"Fehér vászon, kereszttel, 156 cm X 74 cm","2014."]
[357,"Egyéb t.","Oltárlap terítő",1,null,"Fehér vászon azsuros, 148 cm X 111 cm","2014."]
[358,"Egyéb t.","Szószék terítő",1,null,"Fehér vászon, kereszttel, 30,5 cm X 66 cm","2014."]
[359,"Egyéb t.","Szószék terítő",1,null,"Fehér vászon, kereszttel, 36 cm X 68 cm","2014."]
[360,"Egyéb t.","Úrvacsorai terítő",1,null,"Fehér vászon azsúros, 56 cm X 56 cm","2014."]
[361,"Egyéb t.","Kehely ",1,null,"Réz, 22 cm magas, 9,5 cm átmérőjű","2014."]
[362,"Egyéb t.","Paténa",1,null,"Réz, 14 cm átmérőjű","2014."]
[363,"Egyéb t.","Kancsó",1,null,"Üveg, 20,5 cm magas, 12 cm átmérőjű","2014."]
[364,"Egyéb t.","Oltárlap terítő",1,null,"Fehér, 227 cm X 68 cm, riselinezett","2014."]
[365,"Egyéb t.","Terítő",1,null,"Fehér, Biblia alatt, 55 cm X 38 cm, riselinezett","2014."]
[366,"Egyéb t.","Asztalterítő",1,null,"Fehér, szintetizátor alatt, 160 cm X 155 cm","2014."]
[367,"Egyéb t.","CASIO CT-X1 szintetizátor",1,null,"CASIO CT-X1-es szintetizátor, rossz, jelenleg Vadosfán","2014."]
[368,"Egyéb t.","Állítható magasságú asztal",1,null,"118,5 cm X 60 cm X 66 cm","2014."]
[369,"Egyéb t.","Kottatartó",1,null,"1982-es kiadás","2014."]
[370,"Egyéb t.","Énekeskönyv",1,null,"1985-ös kiadás","2014."]
[371,"Egyéb t.","Szőnyegpadló",1,null,"Krém színű, 248 cm X 128 cm","2014."]
[372,"Egyéb t.","Szőnyegpadló",1,null,"Krém színű, 225 cm X 400 cm, több helyen nagyobb kivágással","2014."]
[373,"Egyéb t.","Szőnyegpadló",1,null,"Krém színű, szószéken, 152 cm X 120 cm","2014."]
[374,"Egyéb t.","Szőnyeg",1,null,"Zöld alapszínű oltár előtt, 180 cm X 268 cm","2014."]
[375,"Egyéb t.","Szőnyeg",2,null,"Zöld alapszínű oltártérben, 110 cm X 60 cm","2014."]
[376,"Egyéb t.","Szőnyeg",1,null,"Zöld alapszínű oltártérben, 217 cm X 60 cm","2014."]
[377,"Egyéb t.","Szék",2,null,"Oltártérben, fa kárpitozott","2014."]
[378,"Egyéb t.","Térdeplőzsámoly",2,null,"Fa, kárpitozott, 158 cm X 33 cm X 27 cm","2014."]
[379,"Egyéb t.","Térdeplőzsámoly",1,null,"Fa, kárpitozott, 203 cm X 33 cm X 27 cm","2014."]
[380,"Egyéb t.","Térdeplőzsámoly",1,null,"Fa, kárpitozott, 80 cm X 33 cm X 27 cm","2014."]
[381,"Egyéb t.","Szószék",1,null,"Fa, 170,5 cm X 109,5 cm X 133,5 cm","2014."]
[382,"Egyéb t.","Falikar ",2,null,"Réz, krisztály díszítéssel","2014."]
[383,"Egyéb t.","Kép kerettel",1,null,"Luther Márton, Derszi Eti alkotása, 2006.","2014."]
[384,"Egyéb t.","Mennyezeti csillár",2,null,"13 égős, üveg kristályokkal","2014."]
[385,"Egyéb t.","Énekszámtábla",2,null,"Fa, eredeti színében lakkozva, 26 cm X 80 cm","2014."]
[386,"Egyéb t.","Énekszám ",69,null,"Fa, sötétbarna alapon fehér számok, 7 cm X 8,5 cm, különböző számjegyekkel","2014."]
[387,"Egyéb t.","Énekszám tartó",1,null,"Fa sötétbarnára festett, 51,5 cm X 6,5 cm X 19 cm","2014."]
[388,"Egyéb t.","Pad",14,null,"Fém vázon fa támlákkal és ülőkével, 270 cm X 45 cm X 94 cm","2014."]
[389,"Egyéb t.","Előpad",3,null,"Fém vázon fa támlákkal és ülőkével, 270 cm X 20 cm X 94 cm","2014."]
[390,"Egyéb t.","Zárópad",3,null,"Fém vázon fa támlákkal és ülőkével, 270 cm X 31 cm X 94 cm","2014."]
[391,"Egyéb t.","Ülőpárna",34,null,"Bordó vászonnal bevonva, 135 cm X 28 xm X 2 cm","2014."]
[392,"Egyéb t.","Futószőnyeg",1,null,"Bordó, 78,5 cm  X 775 cm","2014."]
[393,"Egyéb t.","Futószőnyeg",1,null,"Bordó, 78,5 cm  X 370 cm","2014."]
[394,"Egyéb t.","Párologtató",4,null,"Bádog, konvektorokon, 11,5 cm X 16 cm","2014."]
[395,"Egyéb t.","Lábszőnyeg",1,null,"Padlószőnyegből kivágva, világosbanra, 62 cm X 71 cm","2014."]
[396,"Egyéb t.","Persely",1,null,"Lemezből hajtott, barnára festett, 31 cm X 16 cm X 14,5 cm","2014."]
[397,"Egyéb t.","Szék",29,null,"Fa, kárpitozott, támlás","2014."]
[398,"Egyéb t.","Zászló",1,null,"Nemzetí színű, selyem, címerrel, 135 cm X 90 cm","2014."]
[399,"Egyéb t.","Zászlórúd tartó",1,null,"Kovácsolt vas, falra szerelt, feketére festett, 26,5 cm X 14 cm","2014."]
[400,"Egyéb t.","Zászlórúd  ",1,null,"Fa, végén 10 cm-es kovácsoltvas csúccsal, 110 cm hosszú","2014."]
[401,"Egyéb t.","Függöny",2,null,"Fahér csipke, 43 cm X 76 cm","2014."]
["Sekrestye"]
["Sor-szám","Besorolás","Megnevezés","Darab","Ár (darabonként)","Megjegyzés"]
[402,"Értékes t.","Elektromos orgona",1,150000,"Jecklin 1-es, használtan kapott, 110cm X 63 cm X 92,5 cm, rossz","2014."]
[403,"Egyéb t.","Váza",2,null,"Üveg, 28 cm magas, 9 cm átmérőjű","2014."]
[404,"Egyéb t.","Virágcserép tartó",2,null,"Fehér műanyag, 14,5 cm magas, 18,5 cm átmérőjű","2014."]
[405,"Egyéb t.","Virágcserép tartó",1,null,"Fehér műanyag, 16 cm magas, 19,5 cm átmérőjű","2014."]
[406,"Egyéb t.","Porszívó",1,null,"ETA 402-es, minden tartozékával","2014."]
[407,"Egyéb t.","Porszívó",1,null,"Centrixx, porzsák nélküli, minden tartozékával","2014."]
[408,"Egyéb t.","Énekszám tábla",2,null,"Fa, eredeti színében lakkozott, 26 cm X 43 cm","2014."]
[409,"Egyéb t.","Vázabetét",2,null,"Fehér, műanyag, 17 cm magas, 8,5 cm átmérőjű","2014."]
[410,"Egyéb t.","Virágtartó tapl",1,null,"Fehér, műanyag, 15 cm magas, 27,5 cm átmérőjű","2014."]
[411,"Egyéb t.","Szekrény",1,null,"Fa, sötétre lakkozva, kétajtós, 119 cm X 48,5 cm X 191,5 cm","2014."]
[412,"Egyéb t.","Futószőnyeg",1,null,"Zöld, 98 cm X 775 cm","2014."]
[413,"Egyéb t.","Felmosó vödör",1,null,"Műanyag, sárga színű","2014."]
[414,"Egyéb t.","Térdeplő zsámoly",2,null,"Fa keretre bordó kérppit, 83 cm X 28 cm X 17 cm","2014."]
[415,"Egyéb t.","Térdeplő zsámoly",2,null,"Fa keretre bordó kérppit, 76,5 cm X 28 cm X 17 cm","2014."]
[416,"Egyéb t.","Térdeplő zsámoly",1,null,"Fa keretre bordó kérppit, 90 cm X 28 cm X 17 cm","2014."]
[417,"Egyéb t.","Szék",1,null,"Fa, kárpitozott, támlás","2014."]
[418,"Egyéb t.","Asztal",1,null,"Behajtható fém lábakkal, 184 cm X 77 cm X 74,5 cm","2014."]
[419,"Egyéb t.","Asztal",1,null,"Fa, kinyitható, 92,5 cm X 71,5 cm X 78,5 cm","2014."]
[420,"Egyéb t.","Asztalterítő",1,null,"Bordó vászon, 192 cm X 107 cm","2014."]
[421,"Egyéb t.","Asztalterítő",1,null,"Krémszínű vászon, 153 cm X 42 cm","2014."]
[422,"Egyéb t.","Keresztelő kancsó",1,null,"Fém, 11,5 cm magas, 5,5 cm átmérőjű","2014."]
[423,"Egyéb t.","Keresztelő tál",1,null,"Fém, 17,5 cm átmérőjű, 3,5 cm magas","2014."]
[424,"Egyéb t.","Gyertyatartó",2,null,"Fém, 29 cm magas","2014."]
[425,"Egyéb t.","Kés",1,null,"Barna műanyag nyél, 14,5 cm hosszú","2014."]
[426,"Egyéb t.","Váza",1,null,"Piros mázas cserép, 21 cm magas, 8,5 cm átmérőjű","2014."]
[427,"Egyéb t.","Tölcsér",1,null,"Műanyag, átlátszó, 10 cm átmérőjű, 14 cm magas","2014."]
[428,"Egyéb t.","Virágalátét",1,null,"Fehér műanyag, 11,5 cm átmérőjű","2014."]
[429,"Egyéb t.","Kehely ",1,null,"Ezüst, 20,5 cm magas, 10,5 cm átmérőjű","2014."]
[430,"Egyéb t.","Gyertyatartó",1,null,"Festett kerámia, 15 cm magas","2014."]
[431,"Egyéb t.","Karácsonyfa dísz",1,null,"Piros rossz állapotú boa, 300 cm hosszú","2014."]
[432,"Egyéb t.","Karácsonyfa dísz",1,null,"Ezüst színű boa, 150 cm hosszú","2014."]
[433,"Egyéb t.","Karácsonyfa dísz",1,null,"Rózsaszín színű boa, 180 cm hosszú","2014."]
[434,"Egyéb t.","Karácsonyfa dísz",1,null,"Csillag alakú csúcsdísz, ezüst színű műanyag, 20 cm magas","2014."]
[435,"Egyéb t.","Karácsonyfa dísz",11,null,"Színes papírgömb, 7,5 cm átmérőjű","2014."]
[436,"Egyéb t.","Karácsonyfa dísz",15,null,"Színes papírgömb, 6 cm átmérőjű","2014."]
[437,"Egyéb t.","Karácsonyfa dísz",1,null,"Öt mm-es arany szallag, 190 cm hosszú","2014."]
[438,"Egyéb t.","Karácsonyfa dísz",2,null,"Fém csengettyű, 2 cm magas, piros és lila","2014."]
[439,"Egyéb t.","Karácsonyfa dísz",1,null,"Műanyag csengettyűs dísz8 cm X 7 cm","2014."]
[440,"Egyéb t.","Karácsonyfa dísz",1,null,"Űanyag golyós dísz, 9 cm X 4 cm","2014."]
[441,"Egyéb t.","Karácsonyfa dísz",8,null,"Festett üveggöm, 6 cm átmérőjű","2014."]
[442,"Egyéb t.","Karácsonyfa dísz",3,null,"Festett üveggöm, 5 cm átmérőjű","2014."]
[443,"Egyéb t.","Karácsonyfa dísz",24,null,"Műanyag gömb, 6 cm átmérőjű, 12 piros, 12 ezüst","2014."]
[444,"Egyéb t.","Karácsonyfa dísz",12,null,"Műanyag piros almadísz, 4 cm átmérőjű","2014."]
[445,"Egyéb t.","Karácsonyfa dísz",1,null,"Műanyag ezüst színű áttürt gömb, 7,5 cm átmérőjű","2014."]
[446,"Egyéb t.","Karácsonyfa dísz",2,null,"Festett üvegdísz, nyújtott gömb alakú, 6 cm átmérőjű","2014."]
[447,"Egyéb t.","Karácsonyfa dísz",3,null,"Arany színű fém spirál, 9 cm magas","2014."]
[448,"Egyéb t.","Karácsonyfa dísz",1,null,"Festett üveggöm, 3,5 cm átmérőjű","2014."]
[449,"Egyéb t.","Karácsonyfa dísz",1,null,"Festett üveg, 10 cm magas, 3 cm átmérőjű","2014."]
[450,"Egyéb t.","Karácsonyfa dísz",1,null,"Műanyag gömb díszekkel, 2,5 cm átmérőjű","2014."]
[451,"Egyéb t.","Karácsonyfa dísz",26,null,"Különböző szalmacsillag, 11 cm átmérőjű","2014."]
[452,"Egyéb t.","Váza",1,null,"Üveg, 24 cm magas, 8 cm átmérőjű","2014."]
[453,"Egyéb t.","Tál ",1,null,"Műanyag átlátszó, 7 cm magas, 21,5 cm átmérőjű","2014."]
[454,"Egyéb t.","Olló",1,null,"24 cm hosszú, piros nyelű","2014."]
[455,"Egyéb t.","Dugóhúzó",1,null,"Piros fa fogóval","2014."]
[456,"Egyéb t.","Sörnyitó",1,null,"Fém, 10 cm hosszú","2014."]
[457,"Egyéb t.","Tál ",1,null,"Műanyag, fehér, 17,5 cm átmérőjű","2014."]
[458,"Egyéb t.","Úrvacsorai törlőkendő",1,null,"Fehér vászon, anyagában mintázott, 40 cm X 38 cm","2014."]
[459,"Egyéb t.","Tálca",1,null,"Fém, ovális, 45,5 cm X 34 cm","2014."]
[460,"Egyéb t.","Karácsonyfa égősor  ",1,null,"16 színes égővel","2014."]
[461,"Egyéb t.","Karácsonyfa égősor  ",1,null,"17 színes égővel","2014."]
[462,"Egyéb t.","Kisolló",1,null,"9 cm-es","2014."]
[463,"Egyéb t.","Partvisfej",1,null,"Műanyag, 28 cm hosszú","2014."]
[464,"Egyéb t.","Persely",1,null,"Vaslemezből sötétbarnára festve, 23 cm X 14 cm X 13 cm","2014."]
[465,"Egyéb t.","Hosszabbító",1,null,"Három dugós, 200 cm-es","2014."]
[466,"Egyéb t.","Kéziseprű",1,null,"Zöld, műanyag, 33 cm hosszú","2014."]
[467,"Egyéb t.","Kislámpa",1,null,"10 cm magas + égő, 150 cm vezetékkel","2014."]
[468,"Egyéb t.","Harmóna",1,null,"Elektromos, 65,5 cm X 35 cm X 21 cm-es tokban","2014."]
[469,"Egyéb t.","Szemétlapát",2,null,"Műanyag","2014."]
[470,"Egyéb t.","Partvis",2,null,"Műanyag","2014."]
[471,"Egyéb t.","Portörlő",1,null,"Szintetikus, műanyag nyéllel","2014."]
[472,"Egyéb t.","Kép kerettel",1,null,"„Protestálók”, 43 cm X 52,5 cm","2014."]
[473,"Egyéb t.","Lámpa",2,null,"Üveg gömb, 15 cm átmérőjű","2014."]
[474,"Egyéb t.","Gyászzászló",1,null,"Fekete, vászon, 150 cm X 90 cm","2014."]
[475,"Egyéb t.","Zászlórúd",1,null,"Fa, 120 cm","2014."]
[476,"Egyéb t.","Kép kerettel",1,null,"Krisztus levétele a keresztről, 71 cm X 98 cm","2014."]
["Előtér"]
["Sor-szám","Besorolás","Megnevezés","Darab","Ár (darabonként)","Megjegyzés"]
[477,"Egyéb t.","Szőnyeg",1,null,"Zöld műanyag, 106 c, X 200 cm","2014."]
[478,"Egyéb t.","Lámpa",1,null,"Űveg gömb, 15 cm átmérőjű","2014."]
[479,"Egyéb t.","Lábtörlő",1,null,"Kék, 60 cm X 41 cm","2014."]
[480,"Egyéb t.","Missziói tábla",1,null,"Fa, több rekeszes, 70 cm X 67 cm","2014."]
[481,"Egyéb t.","Kép kerettel",1,null,"Épület felújításról fényképek, 32 cm X 51,5 cm","2014."]
[482,"Egyéb t.","Kép kerettel",1,null,"Milleneumi díszoklevél, 43 cm X 33 cm","2014."]
["Kamra"]
["Sor-szám","Besorolás","Megnevezés","Darab","Ár (darabonként)","Megjegyzés"]
[483,"Egyéb t.","Kályha",1,null,"Super Calor, 35,5 cm X 29 cm X 90 cm","2014."]
[484,"Egyéb t.","Lámpa",1,null,"Tejüveg gömb, 15 cm átmérőjű","2014."]
[485,"Egyéb t.","Olajkályha",1,null,"60 cm X 35 cm X 64 cm","2014."]
[486,"Egyéb t.","Felmosószett",1,null,"Műanag vödörrel, csavaróval és felmosó fával","2014."]
[487,"Egyéb t.","Felmosófa",1,null,"Fa, 113 cm hosszú","2014."]
[488,"Egyéb t.","Vödör",1,null,"Műanyag, 21 cm magas, 21 cm átmérőjű","2014."]
[489,"Egyéb t.","Virágtartó  ",1,null,"Fa, 40 cm X 40 cm X 40 cm","2014."]
[490,"Egyéb t.","Partvis",1,null,"Fa   ","2014."]
[491,"Egyéb t.","Kottatartó",1,null,"Fa, 150 cm magas","2014."]
[492,"Egyéb t.","Pad",4,null,"Fa, eredeti színében, 260 cm X 26,5 cm X 48 cm","2014."]
[493,"Egyéb t.","Pad",3,null,"Fa, eredeti színében, 165 cm X 25 cm X 50 cm","2014."]
[494,"Egyéb t.","Szekrény",1,null,"Fa, sötétre lakkozva, kétajtós, 119 cm X 48,5 cm X 191,5 cm","2014."]
[495,"Egyéb t.","Térdeplő",1,null,"Bordó vászonnal kárpitozott fa, 240 cm X 30 cm X 18 cm","2014."]
["Torony"]
["Sor-szám","Besorolás","Megnevezés","Darab","Ár (darabonként)","Megjegyzés"]
[496,"Értékes t.","Harang",1,700000,"Bronz, x q","2014."]
[497,"Értékes t.","Harang",1,500000,"Öntöttvas, x kg","2014."]
[498,"Egyéb t.","Kapcsolóóra",2,null,"Heti kapcsoló","2014."]
[499,"Egyéb t.","Pad",1,null,"Fa, fehérre festve, támlás, karfás, 180 cm X 50 cm X 96 cm","2014."]
[500,"Egyéb t.","Söprű",1,null,"Cirok, rossz","2014."]
["Mihályi - lakás"]
["Lakás"]
["Sor-szám","Besorolás","Megnevezés","Darab","Ár (darabonként)","Megjegyzés"]
[501,"Ingatlan","Lakás",1,11099000,"238/1-es helyrajzi számon, 2828 m2 területű, az épület 1883-ban épült, 2002-ben a Széchenyi-Terv keretein belül teljes körű felújítás történt. Az udvar részt drót kerítés veszi körül egy nagy és egy kis kapuval.","2014."]
[null,"A lakás felszerelését képezi a teljes központi fútés rendszer minden helyiségben radiátorral,  továbbá a felszerelés része a teljes villamos hálózat annak minden szerelvényével együtt és a vízhálózat annak minden szerelvényével együtt, bele értve a lefolyórendszert is."]
["WC"]
["Sor-szám","Besorolás","Megnevezés","Darab","Ár (darabonként)","Megjegyzés"]
[502,"Egyéb t.","WC kagyló",1,null,null,"2014."]
[503,"Egyéb t.","WC ülőke",1,null,"Műanyag","2014."]
[504,"Egyéb t.","WC tartály",1,null,null,"2014."]
[505,"Egyéb t.","WC kefe",1,null,"Műanyag","2014."]
[506,"Egyéb t.","WC papír tartó ",1,null,"Műanyag","2014."]
[507,"Egyéb t.","Lámpa",1,null,"Üveg gömb, 15 cm átmérőjű","2014."]
["Fürdőszoba"]
["Sor-szám","Besorolás","Megnevezés","Darab","Ár (darabonként)","Megjegyzés"]
[508,"Egyéb t.","Lámpa",1,null,"UFO","2014."]
[509,"Egyéb t.","Zuhanytálca",1,null,"Fehér, zománcozott, 80 cm X 80 cm, beépítve","2014."]
[510,"Egyéb t.","Szappantartó",1,null,"Fehér műanyag falra szerelt","2014."]
[511,"Egyéb t.","Fürdőkád",1,null,"Fehér, zománcozott, 150 cm X 70 cm, beépítve","2014."]
[512,"Egyéb t.","Mosdó ",1,null,"Fehér porcelán, 56 cm X 48 cm","2014."]
["Egészségügyi előtér"]
["Sor-szám","Besorolás","Megnevezés","Darab","Ár (darabonként)","Megjegyzés"]
[513,"Egyéb t.","Lámpa",1,null,"Neon cső, 60 cm-es","2014."]
["Előtér"]
["Sor-szám","Besorolás","Megnevezés","Darab","Ár (darabonként)","Megjegyzés"]
[514,"Egyéb t.","Lámpa",1,null,"UFO","2014."]
["Konyha"]
["Sor-szám","Besorolás","Megnevezés","Darab","Ár (darabonként)","Megjegyzés"]
[515,"Egyéb t.","Lámpa",1,null,"Négy fénycsöves, 60 cm X 60 cm","2014."]
[516,"Egyéb t.","Tűzhely",1,null,"Gáz, KARANCS 4P, 60 cm X 50 cm X 100 cm","2014."]
[517,"Egyéb t.","Mosogató",1,null,"Két medencés, alatta kétajtós szekrénnyel, (Méretek)","2014."]
["Éléskamra"]
["Sor-szám","Besorolás","Megnevezés","Darab","Ár (darabonként)","Megjegyzés"]
[518,"Egyéb t.","Lámpa",1,null,"Neon cső, 120 cm-es","2014."]
["Kazánház"]
["Sor-szám","Besorolás","Megnevezés","Darab","Ár (darabonként)","Megjegyzés"]
[519,"Értékes t.","Kombi kazán",1,210000,"TERMOMAX, 60 cm X 70 cm X 150 cm","2014."]
[520,"Egyéb t.","Mosdó ",1,null,"Fém, 40 cm X 60 cm ","2014."]
[521,"Egyéb t.","Lámpa",1,null,"Neon cső, 60 cm-es","2014."]
[522,"Egyéb t.","Padláslépcső",1,null,"Lehajtható, fa","2014."]
["Gyülekezeti WC"]
["Sor-szám","Besorolás","Megnevezés","Darab","Ár (darabonként)","Megjegyzés"]
[523,"Egyéb t.","WC kagyló",1,null,null,"2014."]
[524,"Egyéb t.","WC ülőke",1,null,"Műanyag","2014."]
[525,"Egyéb t.","WC tartály",1,null,null,"2014."]
[526,"Egyéb t.","Mosdó ",1,null,"Porcelán, 30 cm X 40 cm","2014."]
[527,"Egyéb t.","Törülköző",1,null,null,"2014."]
[528,"Egyéb t.","Lámpa",1,null,"Neon cső, 60 cm-es","2014."]
["Padlás"]
["Sor-szám","Besorolás","Megnevezés","Darab","Ár (darabonként)","Megjegyzés"]
[529,"Egyéb t.","Pad",1,null,"Fa, 270 cm X 35 cm X 45 cm","2014."]
["Kisfalud - templom"]
["Templom"]
["Sor-szám","Besorolás","Megnevezés","Darab","Ár (darabonként)","Megjegyzés"]
[530,"Ingatlan","Templom",1,47467000,"41-es helyrajzi számon, 1618 m2 területű, 1997-ben épített templommal.","2014."]
[531,"Ingatlan","Szántó",1,"10,58 aranykor.","0274-es helyrajzi számon, 0,3381 ha alapterületű","2014."]
[null,"A templom felszerelését képezi a teljes villamos hálózat annak minden szerelvényével együtt, valamint a víz hálózat minden szerelvényével.",null,null,null,null,"2014."]
["Templomtér"]
["Sor-szám","Besorolás","Megnevezés","Darab","Ár (darabonként)","Megjegyzés"]
[532,"Értékes t.","Harmónium ",1,150000,"Jul. Heinr. Zimmerman, 12 regiszteres","2014."]
[533,"Egyéb t.","Oltár",1,null,"180 cm X 84 cm","2014."]
[534,"Egyéb t.","Feszület",1,null,"Fa: 53,5 cm X 19,5 cm","2014."]
[535,"Egyéb t.","Feszület tartó állvány",1,null,"Fehér fa: 23 cm X 19 cm X 7 cm","2014."]
[536,"Egyéb t.","Biblia",1,null,"Oltáron, 1931-es kiadás","2014."]
[537,"Egyéb t.","Csipke terítő",1,null,"Biblia alatt, 34 cm X 34 cm","2014."]
[538,"Egyéb t.","Biblia tartó",1,null,"Fehér, 33,5 cm X 26 cm","2014."]
[539,"Egyéb t.","Gyertyatartó",2,null,"Ezüstözött lemez, 45 cm magas","2014."]
[540,"Egyéb t.","Gyertyatartó",2,null,"Ezüstözött lemez, 35 cm magas","2014."]
[541,"Egyéb t.","Oltárlap terítő",1,null,"Fehér, csipkés szélű, 150 cm X 210 cm","2014."]
[542,"Egyéb t.","Oltárterítő feltét",1,null,"Fehér csipke, 223 cm X 37 cm","2014."]
[543,"Egyéb t.","Kereszt ",1,null,"Fa, oltárkép helyett, eredeti színben lakozott, 217 cm X 140 cm","2014."]
[544,"Egyéb t.","Papi pad",1,null,"Fa, eredeti színben pácolt, 80 cm X 150 cm X 70 cm","2014."]
[545,"Egyéb t.","Ülőpárna",1,null,"Ovális, sötétbanra, 42 cm X 35 cm","2014."]
[546,"Egyéb t.","Elektromos hősugárzó",1,null,"56 cm-es ELINE, 3 fokozatú","2014."]
[547,"Egyéb t.","Szőnyeg",1,null,"Futószőnyegből kivágva, 160 cm X 45 cm","2014."]
[548,"Egyéb t.","Szék",2,null,"Fa, faragott ülőke és lábak, 31,5 cm X 24, 5 cm X 49,5 cm ","2014."]
[549,"Egyéb t.","Pad",1,null,"Fa, harmóniumnál, 100 cm X 33 cm X 59 cm","2014."]
[550,"Egyéb t.","Ülőpárna",1,null,"Harmóniumnál, 110 cm X 34 cm X 1 cm","2014."]
[551,"Egyéb t.","Lámpa",1,null,"Csuklós asztali, fekete","2014."]
[552,"Egyéb t.","Elektromos hősugárzó",1,null,"74 cm-es, 1 fokozatú","2014."]
[553,"Egyéb t.","Korálkönyv",1,null,"1982-es kiadás","2014."]
[554,"Egyéb t.","Agenda",1,null,"1963-as kiadás","2014."]
[555,"Egyéb t.","Énekeskönyv",2,null,"1985-ös kiadás","2014."]
[556,"Egyéb t.","T dugó",1,null,"Krém színű","2014."]
[557,"Egyéb t.","Futószőnyeg",1,null,"Sötét alapszínű, oltár előtt, 615 cm X 86 cm","2014."]
[558,"Egyéb t.","Ambó",1,null,"Fa, eredeti színében lakkozott, 122cm X 51,5 cm X 52,5 cm","2014."]
[559,"Egyéb t.","Lámpa",1,null,"Ambóra szerelve, Neon, 31 cm-es","2014."]
[560,"Egyéb t.","Szószékterítő feltét",1,null,"Fehér csipke, 67 cm X 38 cm","2014."]
[561,"Egyéb t.","Térdeplő",2,null,"Fa, bordó, kárpitozott, 300 cm X 20 cm X 27 cm","2014."]
[562,"Egyéb t.","Térdeplő",1,null,"Fa, bordó, kárpitozott, 210 cm X 20 cm X 27 cm","2014."]
[563,"Egyéb t.","Futószőnyeg",1,null,"Világos alapszínű, erősen kopott, 647 cm X 85 cm","2014."]
[564,"Egyéb t.","Templomi pad",2,null,"Fa, eredeti színben lakkozott, 1 padsoros, 254 cm X 95 cm X 103 cm","2014."]
[565,"Egyéb t.","Pad előtét",2,null,"Fa, eredeti színben lakkozott, kereszt díszítéssel, 254 cm X 103 cm X 19 cm","2014."]
[566,"Egyéb t.","Templomi pad",12,null,"Fa, eredetí színben lakkozott, 1 padsoros, 304 cm X 53 cm X 103 cm","2014."]
[567,"Egyéb t.","Ülőpárna",12,null,"Barna anyaggal borított, 299 cm X 33 cm X 1 cm","2014."]
[568,"Egyéb t.","Ülőpárna",1,null,"Barna anyaggal borított, 239 cm X 33 cm X 1 cm","2014."]
[569,"Egyéb t.","Futószőnyeg",1,null,"Első padban ülőpárnának összehajtva, 85 cm X 135 cm","2014."]
[570,"Egyéb t.","Futószőnyeg",1,null,"Első padban ülőpárnának összehajtva, vágott, 44 cm X 130 cm","2014."]
[571,"Egyéb t.","Énekszámlábla",2,null,"Fa, eredeti színben lakkozott, 54 cm X 26 cm","2014."]
[572,"Egyéb t.","Énekszám ",51,null,"Fa, feketére festett, mindkét oldalán megírt, 8,5 cm X 7 cm","2014."]
[573,"Egyéb t.","Hamutál",1,null,"Alumínium 10 cm átmérőjű kör, szélén díszítve","2014."]
[574,"Egyéb t.","Oltárterítő  ",1,null,"Zöld, 205 cm X 74 cm","2014."]
[575,"Egyéb t.","Szószék terítő",1,null,"Zöld, 33 cm X 75 cm","2014."]
[576,"Egyéb t.","Falikar",8,null,"Réz, kétkaros, 15 cm X 14 cm","2014."]
[577,"Egyéb t.","Lámpa",3,null,"Réz, gerendára szerelt, 360 cm, tejüveg búrával","2014."]
[578,"Egyéb t.","Reflektor",4,null,"150 W-os ","2014."]
[579,"Egyéb t.","Pad",2,null,"Fa, eredeti színben lakkozott, 248 cm X 26 cm X 43 cm","2014."]
[580,"Egyéb t.","Lábtörlő",1,null,"Tengerifű, 35 cm X 59 cm","2014."]
[581,"Egyéb t.","Persely",1,null,"Bejárati ajtóra szerelve, réz, 45 cm X 8,5 cm X 8,5 cm","2014."]
[582,"Egyéb t.","Szék",2,null,"Bordó kárpitos, támlás","2014."]
[583,"Egyéb t.","Padfűtőtest",28,null,"Elektromos, a padok ülőlapja alá szerelt, 100 cm hosszú","2014."]
[584,"Egyéb t.","Virágváza",4,null,"Fehér kerámia, 20 cm X 11 cm","2014."]
[585,"Egyéb t.","Tdugó",1,null,null,"2014."]
["Sekrestye"]
["Sor-szám","Besorolás","Megnevezés","Darab","Ár (darabonként)","Megjegyzés"]
[586,"Értékes t.","Kehely ",1,150000,"Aranyozott vörösréz 1785-ből, talpának belső peremén felirattal, 25,5 cm magas","2014."]
[587,"Értékes t.","Kehely ",1,70000,"Aranyozott ezüst, betegurvacsoráztató, kehely rész lándzsamintás, 13 cm m.","2014."]
[588,"Értékes t.","Paténa",1,50000,"Aranyozott ezüst, betegurvacsoráztató, 7,5 cm átmérőjű","2014."]
[589,"Értékes t.","Keresztelő tál",1,50000,"Ezüst (?), 19,5 cm átmérőjű, széle evangélistákkal díszített","2014."]
[590,"Egyéb t.","Keresztelő kancsó",1,null,"Réz, kissé megferdült, benyomódott, 13 cm magas","2014."]
[591,"Egyéb t.","Keresztelő tál",1,null,"Fém, crómozott, 22 cm átmérőjű","2014."]
[592,"Egyéb t.","Szék",1,null,"Bordó kárpitos, támlás","2014."]
[593,"Egyéb t.","Szék",1,null,"Fa, támlás","2014."]
[594,"Egyéb t.","Asztal",1,null,"Fa, feketére festett, 31,5 cm X 37 cm X 73 cm","2014."]
[595,"Egyéb t.","Futószőnyeg",1,null,"Több darabból összevarva, 220 cm X 81 cm","2014."]
[596,"Egyéb t.","Uveges szekrény",1,null,"Fa, eredeti színben lakkozott, 174 cm X 96 cm X 41,5 cm","2014."]
[597,"Egyéb t.","Ruhafogas",1,null,"Fa alapon fém akasztók, 59 cm C 8,5 cm, 4 akasztóval","2014."]
[598,"Egyéb t.","Fali lámpabúra",1,null,"Négyzet alakú, tejüveg, 20 cm X 20 cm","2014."]
[599,"Egyéb t.","Lámpabúra",2,null,"Gömb, tejüveg, 23 cm átmérő","2014."]
[600,"Egyéb t.","Virágcserép tartó tál",2,null,"Mázas kerámia, fehér alapon népi motívumok, 16 cm magas, 17 cm átmérőjű","2014."]
[601,"Egyéb t.","Feszület",1,null,"Fa, 36,5 cm X 20,5 cm, Kis feszülettel diszítve","2014."]
[602,"Egyéb t.","Kép kerettel",1,null,"Luther M., 58 cm X 49 cm, kerete díszített, rossz állapotú, zenélő, kiszedték","2014."]
[603,"Egyéb t.","Hosszabbító",1,null,"3 m-es, három dugós, billenőkapcsolós","2014."]
[604,"Egyéb t.","Kották",null,null,"Régi kották nagyon rossz állapotban, lapokra esve","2014."]
[605,"Egyéb t.","Persely",2,null,"Lemez, 9 cm X 9 cm X 13 cm, lakattal","2014."]
[606,"Egyéb t.","Felirat",12,null,"Énekszámtáblára való különböző feliratok","2014."]
[607,"Egyéb t.","Kép kerettel",1,null,"Luther Márton: Itt állok, másként nem tehetk, 28 cm X 24 cm","2014."]
[608,"Egyéb t.","Váza",2,null,"Üveg, 17 cm magas, 5 cm átmérőjű","2014."]
[609,"Egyéb t.","Karácsonyfa dísz",6,null,"Téli tájat ábrázoló színes gömb, 7 cm átmérőjű","2014."]
[610,"Egyéb t.","Karácsonyfa dísz",9,null,"Téli tájat ábrázoló színes gömb, 4 cm átmérőjű","2014."]
[611,"Egyéb t.","Tál ",1,null,"Műanyag, 16 cm átmérőjű","2014."]
[612,"Egyéb t.","Dugóhúzó",1,null,"Fém, többfunkciós","2014."]
[613,"Egyéb t.","Váza",2,null,"Üveg, 24 cm magas, 8 cm átmérőjű","2014."]
[614,"Egyéb t.","Pohár",1,null,"Üveg, 8 cm magas, 7 cm átmérőjű","2014."]
[615,"Egyéb t.","Tölcsér",1,null,"Műanyag, 11 cm átmérőjű","2014."]
[616,"Egyéb t.","Kancsó",1,null,"Üveg, 20 cm magas, 11 cm átmérőjű, füles","2014."]
[617,"Egyéb t.","Szószék terítő",1,null,"Vörös, keresszttel, 40 cm X 80 cm","2014."]
[618,"Egyéb t.","Oltárterítő  ",1,null,"Vörös, Szentlélek galambja + 12 lángnyelv, 133 cm X 69 cm","2014."]
[619,"Egyéb t.","Szószék terítő",1,null,"Zöld, kereszt és kőtáblák, 40 cm X 73 cm","2014."]
[620,"Egyéb t.","Oltárterítő  ",1,null,"Zöld, kereszt szőlővel, 136 cm X 74 cm","2014."]
[621,"Egyéb t.","Szószék terítő",1,null,"Fekete, keresszttel, 38 cm X 72 cm + 5 cm rolyt","2014."]
[622,"Egyéb t.","Oltárterítő  ",1,null,"Fekete, kehely, szőlő és gabona, 192 cm X 58 cm + 5 cm rolyt","2014."]
[623,"Egyéb t.","Szószék terítő",1,null,"Lila, keresszttel, 38 cm X 71 cm","2014."]
[624,"Egyéb t.","Oltárterítő  ",1,null,"Vörös, kereszt, korona és töviskoszorú, 132 cm X 63,5 cm","2014."]
[625,"Egyéb t.","Szószék terítő",1,null,"Lila, töviskoszorú, 39 cm X 74 cm","2014."]
[626,"Egyéb t.","Szószék terítő",1,null,"Lila, csillag és biblia, 39 cm X 73 cm","2014."]
[627,"Egyéb t.","Kiegészítő terítő",1,null,"Zöld, 45 cm X 136 cm","2014."]
[628,"Egyéb t.","Szószék terítő",1,null,"Arany, kereszttel, hímzett, 36 cm X 73 cm","2014."]
[629,"Egyéb t.","Oltárterítő  ",1,null,"Arany, kereszttel, hímzett, 210 cm X 46 cm","2014."]
[630,"Egyéb t.","Oltárterítő feltét",1,null,"Selyem, fekete, 47 cm X 88 cm","2014."]
[631,"Egyéb t.","Oltárterítő feltét",1,null,"Selyem, fekete, 137 cm X 210 cm","2014."]
[632,"Egyéb t.","Úrvacsorai törlőkendő",1,null,"Fehér, 25 cm X 25 cm","2014."]
[633,"Egyéb t.","Úrvacsorai takaró",1,null,"Fehér selyem, 63,5 cm X 66,5 cm","2014."]
[634,"Egyéb t.","Kép kerettel",1,null,"Kapi Béla püspök, 54,5 cm C 39,5 cm","2014."]
[635,"Egyéb t.","Ruhazsebkendő",2,null,"Fehér, 28,5 cm X 29 cm","2014."]
[636,"Egyéb t.","Ruhazsebkendő",1,null,"Fehér, 30 cm X 38 cm","2014."]
[637,"Egyéb t.","Falikar",2,null,"Réz, gyertyás, míves kidolgozású, 23 cm X 13 cm","2014."]
[638,"Egyéb t.","Karácsonyfaégő",2,null,"16 égős","2014."]
[639,"Egyéb t.","Karácsonyfa dísz",13,null,"Ezüst színű üveggömb, 6 cm átmérőjű","2014."]
[640,"Egyéb t.","Karácsonyfa dísz",1,null,"Ezüst színű csúcsdísz, 25 cm magas","2014."]
[641,"Egyéb t.","Karácsonyfa dísz",12,null,"Fehér műanyag gömb, 6 cm átmérőjű","2014."]
[642,"Egyéb t.","Karácsonyfa dísz",6,null,"Fehér műanyag gömb, 4 cm átmérőjű","2014."]
[643,"Egyéb t.","Karácsonyfa dísz",6,null,"Sárga műanyag gömb, 3 cm átmérőjű","2014."]
[644,"Egyéb t.","Karácsonyfa dísz",3,null,"Arany színű boa, 150 cm","2014."]
[645,"Egyéb t.","Szőnyeg",1,null,"Futószőnyeg darabokból összevarrva, 135 cm X 130 cm","2014."]
[646,"Egyéb t.","Lámpa",3,null,"Nem felszerelt, tejüveg, 20 cm X 10 cm","2014."]
["Mellékhelyiség"]
["Sor-szám","Besorolás","Megnevezés","Darab","Ár (darabonként)","Megjegyzés"]
[647,"Egyéb t.","WC kagyló",1,null,"Fehér porcelán, műanyag ülőkével","2014."]
[648,"Egyéb t.","WC kefe",1,null,"Tartóval","2014."]
[649,"Egyéb t.","Wcpapír tartó",1,null,"Műanyag","2014."]
[650,"Egyéb t.","Karácsonyfa talp",1,null,"Farönkből, 40 cm átmérőjű","2014."]
[651,"Egyéb t.","Mosdó ",1,null,"Porcelán, 40,5 cm X 22,5 cm, szifonnal","2014."]
[652,"Egyéb t.","Törülköző",1,null,null,"2014."]
[653,"Egyéb t.","Felmosovödör",1,null,null,"2014."]
[654,"Egyéb t.","Felmosófa",1,null,null,"2014."]
[655,"Egyéb t.","Partvis",1,null,"Műanyag","2014."]
[656,"Egyéb t.","Söprű",1,null,"Cirok","2014."]
[657,"Egyéb t.","Szemeteslapát",1,null,"Műanyag","2014."]
[658,"Egyéb t.","Felmosórongy",1,null,null,"2014."]
[659,"Egyéb t.","Zászlórúd",1,null,"Fekete zászlóval","2014."]
[660,"Egyéb t.","Fali lámpabúra",1,null,"Négyzet alakú, tejüveg, 20 cm X 20 cm","2014."]
["Előtér"]
["Sor-szám","Besorolás","Megnevezés","Darab","Ár (darabonként)","Megjegyzés"]
[661,"Egyéb t.","Kör lámpa",1,null,"Kör alakú, tejöveg, 30 cm átmérőjű","2014."]
[662,"Egyéb t.","Lábtörlő",1,null,"Tengerifű, 40 cm X 61 cm","2014."]
[663,"Egyéb t.","Lámpa",1,null,"Kívül, tejüveg, 17 cm hosszú, 10 cm átmérőjű","2014."]
["Torony"]
["Sor-szám","Besorolás","Megnevezés","Darab","Ár (darabonként)","Megjegyzés"]
[664,"Egyéb t.","Lámpa",1,null,"Gömb, 20 cm átmérőjű","2014."]
[665,"Egyéb t.","Harang kapcsoló",2,null,"Mindkét harangra","2014."]
[666,"Egyéb t.","Harang",1,null,"Q ","2014."]
[667,"Egyéb t.","Harang",1,null,"Q ","2014."]
[668,"Egyéb t.","Zászlótartó",1,null,"Fém, feketére festve, 35 cm X 35 cm","2014."]
[669,"Egyéb t.","Kályha",1,null,"Öntöttvas","2014."]
[null,"A toronyban található alumínium létra nem a gyülekezet tulajdona (Garabéké)!!!",null,null,null,null,"2014."]
["Magyarkeresztúr - templom"]
["Templom"]
["Sor-szám","Besorolás","Megnevezés","Darab","Ár (darabonként)","Megjegyzés"]
[670,"Ingatlan","Templom",1,18650000,"49-es helyrajzi számon, 1166 m2 alapterületű, 1968-ban épült templommal, az épület körül beton alapon vas kerítés egy kettős kapuval.","2014."]
[null,"A templom felszerelését képezi a teljes villamos hálózat annak minden szerelvényével együtt."]
["Templomtér"]
["Sor-szám","Besorolás","Megnevezés","Darab","Ár (darabonként)","Megjegyzés"]
[671,"Értékes t.","Harmónium ",1,150000,"Hörl Nándor -féle hangszer, 10 regiszteres","2014."]
[672,"Egyéb t.","Oltár",1,null,"Fa asztallap, fém lábakon, 231,5 cm X 80 cm X 101 cm","2014."]
[673,"Egyéb t.","Oltárlap terítő",1,null,"Fehér vászon, csipkézett szélű hímzett, 152 cm X 92 cm","2014."]
[674,"Egyéb t.","Váza",2,null,"Üveg, 23,5 cm magas, 7 cm átmérőjű","2014."]
[675,"Egyéb t.","Gyertyatartó",2,null,"Lemez, 3 lábon áll, 34 cm magas","2014."]
[676,"Egyéb t.","Gyertyatartó",2,null,"Lemez, 34,5 cm magas","2014."]
[677,"Egyéb t.","Üveglap",2,null,"Gyertyatartók alá, 33 cm X 21,5 cm","2014."]
[678,"Egyéb t.","Üveglap",2,null,"Gyertyatartók alá, 25 cm X 25 cm","2014."]
[679,"Egyéb t.","Oltárterítő",1,null,"Fehér selyem, Krisztus monogramm + alfa és ómega, 73,5 cm X 87 cm","2014."]
[680,"Egyéb t.","Szószék terítő",1,null,"Fehér selyem, kereszttel, 36 cm X 82,5 cm","2014."]
[681,"Egyéb t.","Feszület",1,null,"öntöttvas, aranyozott, 40 cm magas","2014."]
[682,"Egyéb t.","Kereszt ",1,null,"Oltárkép helyett, fa, saját színében pácolt, 160 cm X 92 cm","2014."]
[683,"Egyéb t.","Biblia",1,null,"1930-as kiadás","2014."]
[684,"Egyéb t.","Biblia és feszület  állvány",1,null,"Fa, eredeti színében, 34,5 cm X 36,5 cm X 24,5 cm","2014."]
[685,"Egyéb t.","Terítő",1,null,"Feszület alatt, fehér csipke, 15 cm X 15 cm","2014."]
[686,"Egyéb t.","Terítő",1,null,"Fehér csipke, 30 cm X 30 cm","2014."]
[687,"Egyéb t.","Virágdísz",2,null,"Talpas üvegpohárban száraz virág","2014."]
[688,"Egyéb t.","Hősugárzó",1,null,"UFEZA, elektromos egy fűtőszálas, 56 cm hosszú","2014."]
[689,"Egyéb t.","Szőnyeg",1,null,"Oltár előtt, világos barna alapszínű mintás, 200 cm X 286 cm","2014."]
[690,"Egyéb t.","Szőnyeg",1,null,"Bordó alapszínű oltártér előtt, 136 cm X 196 cm + 2 X 2,5 cm rojt","2014."]
[691,"Egyéb t.","Szőnyeg",1,null,"Barna alapszínű, 99 cm X 175 cm","2014."]
[692,"Egyéb t.","Futószőnyeg",1,null,"Barna alapszínű, 95 cm X 420 cm","2014."]
[693,"Egyéb t.","Szőnyeg",2,null,"Világos alapszínű, padok alatt, 200 cm X 285 cm, + 2 X 2 cm rojt","2014."]
[694,"Egyéb t.","Szőnyeg",2,null,"Világos alapszínű, padok alatt, 200 cm X 285 cm","2014."]
[695,"Egyéb t.","Szőnyeg",1,null,"Harmónium alatt, barna alapszínű, 99 cm X 172 cm","2014."]
[696,"Egyéb t.","Térdeplő",2,null,"Zöld kárpitozással, 130 cm X 22 cm X 16 cm","2014."]
[697,"Egyéb t.","Térdeplő",1,null,"Zöld kárpitozással, 68 cm X 22 cm X 16 cm","2014."]
[698,"Egyéb t.","Pad",1,null,"Harmónium előtt, fa, sötétre pácolt, 90 cm X 26,5 cm X 59 cm","2014."]
[699,"Egyéb t.","Ülőpárna",1,null,"Harmónium előtt, vászon borítású, 100 cm X 50 cm X 1 cm","2014."]
[700,"Egyéb t.","Énekeskönyv",2,null,"1991-es kiadás","2014."]
[701,"Egyéb t.","Ülőpárna",20,null,"Különböző méretű és színes vászon borítású, egy személyes","2014."]
[702,"Egyéb t.","Ülőpárna",13,null,"Különböző vászon borítású, 206 cm X 26 xm X 2 cm","2014."]
[703,"Egyéb t.","Szószék",1,null,"Beton alapon fából, 100 cm X 100 cm X 151 cm","2014."]
[704,"Egyéb t.","Falikar",1,null,"Faragott fa, 46 cm X 20 cm X 15 cm","2014."]
[705,"Egyéb t.","Szék",1,null,"Lelkésznek, fa, támlás","2014."]
[706,"Egyéb t.","Ülőpárna",1,null,"Lelkésznek, vászon borítású, 54 cm X 105 cm X 2 cm","2014."]
[707,"Egyéb t.","Lóca",2,null,"Fa, világos barnára festve, 251 cm X 28 cm, 54 cm","2014."]
[708,"Egyéb t.","Asztal",1,null,"Fa, sötétre lakkozva, 78 cm X 78 cm X 76 cm","2014."]
[709,"Egyéb t.","Terítő",1,null,"Fehér csipke, 98 cm X 98 cm","2014."]
[710,"Egyéb t.","Énekszám tábla",1,null,"Fémből hegesztett, 24 cm X 44 cm","2014."]
[711,"Egyéb t.","Énekszám ",18,null,"Fa, fehér alapon fekete szám, 7 cm X 13 cm","2014."]
[712,"Egyéb t.","Énekeskönyv",1,null,"1985-ös kiadás, szétesett","2014."]
[713,"Egyéb t.","Reflektor",1,null,"500 W-os fehér","2014."]
[714,"Egyéb t.","Lámpa",4,null,"Vasból hegesztett jelképekkel, 45 cm X 26 cm","2014."]
[715,"Egyéb t.","Pad",18,null,"Fa világos barnára festve, 250 cm X 79 cm X 76 cm","2014."]
[716,"Egyéb t.","Padfűtés",null,null,null,"2014."]
["Előtér"]
["Sor-szám","Besorolás","Megnevezés","Darab","Ár (darabonként)","Megjegyzés"]
[717,"Egyéb t.","Persely",1,null,"Lemez, sötétbarnára festve, lakattal, 23,5 cm X 10,5 cm X 10 cm","2014."]
[718,"Egyéb t.","Szőnyeg",1,null,"Fekete, 87 cm X 146 cm","2014."]
[719,"Egyéb t.","Lábtörlő",1,null,"Bejáratnál kívülről, műanyag fonott, 63 cm X 42 cm","2014."]
[720,"Egyéb t.","Lámpa",2,null,"Tejüveg gömb, 15 cm átmérőjű (egyik kívül a bejáratnál, nincs búrája)","2014."]
["Karzat"]
["Sor-szám","Besorolás","Megnevezés","Darab","Ár (darabonként)","Megjegyzés"]
[721,"Egyéb t.","Seprű",3,null,"Cirok","2014."]
[722,"Egyéb t.","Hosszúpartvis",1,null,null,"2014."]
[723,"Egyéb t.","Felmosófa",1,null,"Műanyag","2014."]
[724,"Egyéb t.","Vödör",1,null,"Műanyag","2014."]
[725,"Egyéb t.","Felmosófa",1,null,"Fa","2014."]
[726,"Egyéb t.","Kályha",1,null,"Vegyes tüzelésű, SALGÓ, 58 cm X 30 cm X 78 cm","2014."]
[727,"Egyéb t.","Karácsonyfatalp",1,null,"Fa, kereszt alakú, 62 cm X 62 cm","2014."]
[728,"Egyéb t.","Szenesvödör",1,null,"Fém, 40 cm X 21 cm X 21,5 cm","2014."]
[729,"Egyéb t.","Lámpa",2,null,"Tejüveg gömb, 15 cm átmérőjű ","2014."]
[730,"Egyéb t.","Pad",2,null,"Fa, világos barnára festve, 242 cm X 23 cm X 45 cm ","2014."]
[731,"Egyéb t.","Lámpa",1,null,"Porcenál foglalatban égő","2014."]
["Torony"]
["Sor-szám","Besorolás","Megnevezés","Darab","Ár (darabonként)","Megjegyzés"]
[732,"Értékes t.","Harang",1,1000000,"X q","2014."]
[733,"Értékes t.","Harang",1,700000,"X q","2014."]
["Sekrestye"]
["Sor-szám","Besorolás","Megnevezés","Darab","Ár (darabonként)","Megjegyzés"]
[734,"Egyéb t.","Kép kerettel",1,null,"Luther Márton, 95 cm X 117 cm","2014."]
[735,"Egyéb t.","Kép kerettel",1,null,"Templom tervek, 65 cm X 52 cm","2014."]
[736,"Egyéb t.","Szék",1,null,"Fa, támlás","2014."]
[737,"Egyéb t.","Hősugárzó",1,null,"Régi típusú, 38 cm X 20 cm X 10 cm","2014."]
[738,"Egyéb t.","Gázpalack",1,null,"PB","2014."]
[739,"Egyéb t.","Szemeteslapát",1,null,"Műanyag","2014."]
[740,"Egyéb t.","Fogas",1,null,"Fa, egy akasztóval, 45 cm X 10 cm","2014."]
[741,"Egyéb t.","Szekrény",1,null,"Fa, sötétre pácolt, 100 cm X 46 cm X 155 cm","2014."]
[742,"Egyéb t.","Váza",3,null,"Üveg, 30 cm magas, 4 cm átmérőjű","2014."]
[743,"Egyéb t.","Lámpabúra",1,null,"Üveg, kinti lámpához","2014."]
[744,"Egyéb t.","Karácsonyfadísz",34,null,"Műanyag gömbök többféle színben, 6 cm átmérőjű","2014."]
[745,"Egyéb t.","Kés",1,null,"24 cm-es fém","2014."]
[746,"Egyéb t.","Kés",1,null,"Összecsukható 15 cm-es","2014."]
[747,"Egyéb t.","Portörlő",1,null,"Műanyag","2014."]
[748,"Egyéb t.","Tál ",1,null,"Fa, 16 cm átmérőjű","2014."]
[749,"Egyéb t.","Kézi seprű",1,null,"55 cm hosszú, cirok","2014."]
[750,"Egyéb t.","Oltárterítő",1,null,"Lila, selyem, Kereszt, korona és töviskoszorú, 80 cm X 90 cm","2014."]
[751,"Egyéb t.","Szószékterítő",1,null,"Lila, selyem, kereszttel, 36 cm X 70 cm","2014."]
[752,"Egyéb t.","Oltárterítő",1,null,"Zöld, selyem, kereszt szőlővel, 62 cm X 86 cm","2014."]
[753,"Egyéb t.","Szószékterítő",1,null,"Zöld, selyem, kereszttel, 38 cm X 82 cm","2014."]
[754,"Egyéb t.","Oltárterítő",1,null,"Fekete selyem minta nélkül, 65 cm X 74 cm","2014."]
[755,"Egyéb t.","Szószékterítő",1,null,"Fekete selyem minta nélkül, 36,5 cm X 73 cm","2014."]
[756,"Egyéb t.","Oltárterítő",1,null,"Vörös, selyem, kereszttel, 82 cm X 86 cm","2014."]
[757,"Egyéb t.","Szószékterítő",1,null,"Vörös selyem kereszttel, 41 cm X 83 cm","2014."]
[758,"Egyéb t.","Oltárlap terítő",1,null,"Fehér vászon, áttört mintás, hímzett, 245 cm X 88 cm","2014."]
[759,"Egyéb t.","Terítő",1,null,"Fehér vászon, csipkés szélű, 100 cm X 100 cm","2014."]
[760,"Egyéb t.","Oltárterítő",1,null,"Fehér vászon áttört mintával és csipkével, 135 cm X 93 cm","2014."]
[761,"Egyéb t.","Szószék terítő",1,null,"Fehér vászon, áttört mintás, kereszttel, 38 cm X 76 cm","2014."]
[762,"Egyéb t.","Oltárterítő",1,null,"Fehér bársony csipkével, 244 cm X 131 cm","2014."]
[763,"Egyéb t.","Oltárlap terítő",1,null,"Fehér vászon, áttört mintás, hímzett, 225 cm X 103 cm","2014."]
[764,"Egyéb t.","Oltárlap terítő",1,null,"Fehér vászon, csipkés szélű, 246 cm X 105  cm","2014."]
[765,"Egyéb t.","Oltárlap terítő",1,null,"Fehér vászon, riselinezett, 240 cm X 86  cm","2014."]
[766,"Egyéb t.","Törlőkendő",2,null,"Fehér vászon, 35 cm X 35 cm","2014."]
[767,"Egyéb t.","Terítő",1,null,"Fehér csipke, 80 cm X 110 cm","2014."]
[768,"Egyéb t.","Terítő",1,null,"Fehér vászon rojtos, 36 cm X 36 cm","2014."]
[769,"Egyéb t.","T dugó",1,null,null,"2014."]
[770,"Egyéb t.","Törlőkendő",1,null,"Fehér vászon, 54 cm X 58 cm","2014."]
[771,"Egyéb t.","Szószék terítő",1,null,"Fekete, vászon, kereszttel, 58 cm X 88 cm","2014."]
[772,"Egyéb t.","Törlőkendő",1,null,"Fehér vászon, 34 cm X 29 cm","2014."]
[773,"Egyéb t.","Terítő",1,null,"Fehér vászon, 47 cm X 44 cm","2014."]
[774,"Egyéb t.","Terítő",1,null,"Fehér vászon, 72 cm X 72 cm","2014."]
[775,"Egyéb t.","Keresztelő tál",1,null,"Ezüstözött fém, 19,5 cm átmérőjű","2014."]
[776,"Egyéb t.","Keresztelő kancsó",1,null,"Ezüstözött fém, 12 cm magas","2014."]
[777,"Egyéb t.","Úrvacsorai kancsó",1,null,"Üveg, 22 cm magas, 10 cm átmérőjű","2014."]
[778,"Egyéb t.","Kehely ",1,null,"Fém réz kupával, 22 cm magas, 9 cm átmérőjű, bőr tokban","2014."]
[779,"Egyéb t.","Paténa",1,null,"Réz, 13 cm átmérőjű","2014."]
[780,"Egyéb t.","Váza",4,null,"Üveg, 15 cm magas, 7 cm átmérőjű","2014."]
[781,"Egyéb t.","Váza",2,null,"Kristály, 15 cm magas, 8 cm átmérőjű","2014."]
[782,"Egyéb t.","Tálca",1,null,"Műanyag, 35 cm X 30 cm","2014."]
[783,"Egyéb t.","Kapcsoló óra",2,null,"Heti kapcsolóóra","2014."]
["Magyarkeresztúr - iskola"]
["Iskola"]
["Sor-szám","Besorolás","Megnevezés","Darab","Ár (darabonként)","Megjegyzés"]
[784,"Ingatlan","Iskola",1,45931000,"168-as helyrajzi számon, 3780 m2 alapterületű, 1910-ben épült iskola és tanítólakással. Igen rossz állapotban.","2014."]
[null,"A lakás felszerelését képezi a teljes villamos hálózat annak minden szerelvényével együtt, valamint a vízhálózat annak minden szerelvényével együtt."]
["Nagyterem"]
["Sor-szám","Besorolás","Megnevezés","Darab","Ár (darabonként)","Megjegyzés"]
[]
["Zsebeháza - imaház"]
["Imaház"]
["Sor-szám","Besorolás","Megnevezés","Darab","Ár (darabonként)","Megjegyzés"]
[785,"Ingatlan","Templom",1,8222000,"124-es helyrajzi számon, 862 m2 alapterülettel, 1951-ben épület templommal.","2014."]
[null,"A templom felszerelését képezi a teljes villamos hálózat annak minden szerelvényével együtt, valamint a gáz hálózat annak minden szerelvényével együtt."]
["Templomtér"]
["Sor-szám","Besorolás","Megnevezés","Darab","Ár (darabonként)","Megjegyzés"]
[786,"Értékes t.","Harmónium ",1,150000,"Jelenleg a vadosfai parókián","2014."]
[787,"Egyéb t.","Oltár",1,null,"Beépített, tégla lábakon fa asztallap, 191 cm X 59,5 cm X 95 cm","2014."]
[788,"Egyéb t.","Oltárlap terítő",1,null,"Fehér riselinezett vászon, 220 cm X 80 cm","2014."]
[789,"Egyéb t.","Gyertyatartó",2,null,"Ezüst, 23,5 cm magas","2014."]
[790,"Egyéb t.","Gyertyatartó",2,null,"Öntöttvas, 24 cm magas","2014."]
[791,"Egyéb t.","Tányér",4,null,"Gyertyatartók alá, fehér porcelán kis mintával, 19 cm átmérőjű","2014."]
[792,"Egyéb t.","Biblia",1,null,"1950-es kiadás","2014."]
[793,"Egyéb t.","Biblia és feszület tartó",1,null,"Fa, eredeti színében lakkozott, 32 cm X 44 cm X 10 cm","2014."]
[794,"Egyéb t.","Terítő",1,null,"Fehér selyem csipke szegéllyel Biblia alatt, 47 cm X 100 cm","2014."]
[795,"Egyéb t.","Feszület",1,null,"Öntöttvas, 34 cm magas","2014."]
[796,"Egyéb t.","Kereszt felirattal",1,null,"Oltárkép helyett, 1Jn. 4,8.1,7.felirattal és XP-val nikecellből, 165 cm X 87 cm","2014."]
[797,"Egyéb t.","Énekszámtábla",1,null,"Fa feketére festve, 27,5 cm X 44 cm","2014."]
[798,"Egyéb t.","Szószék",1,null,"Téglából épített, 122 cm X 76 cm","2014."]
[799,"Egyéb t.","Szőnyeg",1,null,"Sötétkék alapszínű, 300 cm X 140 cm","2014."]
[800,"Egyéb t.","Térdeplő",1,null,"Bordó kárpittal, 208 cm X 17 cm X 23 cm","2014."]
[801,"Egyéb t.","Hosszabbító",1,null,"Fehér, 700 cm","2014."]
[802,"Egyéb t.","Szék",1,null,"Gurulós, piros műbőr borítású kántornak","2014."]
[803,"Egyéb t.","Szintetizátor állvány",1,null,"Fém cső, feketére festve","2014."]
[804,"Egyéb t.","Szőnyeg",1,null,"Sötétkék alapszínű, 292 cm X 197 cm","2014."]
[805,"Egyéb t.","Futószőnyeg",1,null,"Világos alapszínű, 95 cm X 600 cm","2014."]
[806,"Egyéb t.","Énekeskönyv",2,null,"1982-es kiadás","2014."]
[807,"Egyéb t.","Énekeskönyv",1,null,"1991-es kiadás","2014."]
[808,"Egyéb t.","Énekeskönyv",1,null,"1993-as kiadás","2014."]
[809,"Egyéb t.","Tányér",1,null,"Fehér porcelán, 17 cm átmérőjű","2014."]
[810,"Egyéb t.","Pad",6,null,"Fa, világos barnára festett, 240 cm X 22 cm C 50 cm","2014."]
[811,"Egyéb t.","Pad",2,null,"Fa, világos barnára festett, 218 cm X 22 cm C 50 cm","2014."]
[812,"Egyéb t.","Pad",2,null,"Fa, világos barnára festett, 200 cm X 22 cm C 50 cm","2014."]
[813,"Egyéb t.","Pad",1,null,"Fa, világos barnára festett, 178 cm X 22 cm C 50 cm","2014."]
[814,"Egyéb t.","Pad",1,null,"Fa, világos barnára festett, 166,5 cm X 22 cm C 50 cm","2014."]
[815,"Egyéb t.","Szék",30,null,"Fa, támlás borítás nélküli","2014."]
[816,"Egyéb t.","Ülőpárna",18,null,"Különböző vászonnal borított, 35 cm X 35 cm X 2 cm","2014."]
[817,"Egyéb t.","Persely",1,null,"Fa, sötétre pácolt, faragott, 22 cm X 13,5 cm X 6,5 cm","2014."]
[818,"Egyéb t.","Csillár",2,null,"10 karú, gyertyát utánzó égőkkel, zöld alapszínű","2014."]
[819,"Egyéb t.","Lámpa",1,null,"Oltár megvilágítására 500 W-os","2014."]
[820,"Egyéb t.","Váza",2,null,"Üveg, 24 cm magas, 8 cm átmérőjű","2014."]
["Előtér"]
["Sor-szám","Besorolás","Megnevezés","Darab","Ár (darabonként)","Megjegyzés"]
[821,"Egyéb t.","Pad",1,null,"Fa, világos barnára festett, 240 cm X 22 cm C 50 cm","2014."]
[822,"Egyéb t.","Pad",1,null,"Fa, világos barnára festett, 218 cm X 22 cm C 50 cm","2014."]
[823,"Egyéb t.","Pad",1,null,"Fa, világos barnára festett, 178 cm X 22 cm C 50 cm","2014."]
[824,"Egyéb t.","Szintetizátor  ",1,null,"JUMBÓ 61 – R6-os, Rossz állapotban","2014."]
[825,"Egyéb t.","Futószőnyeg",1,null,"Bordó alapszínű, 87 cm X 200 cm","2014."]
[826,"Egyéb t.","Futószőnyeg",1,null,"Bordó alapszínű, 88 cm X 135 cm, rojttal","2014."]
[827,"Egyéb t.","Szőnyeg",1,null,"Régi, szakadt, világos barna alapszínű, 150 cm X 240 cm","2014."]
[828,"Egyéb t.","Lámpa",1,null,"Porcelán foglalatban, búra nélkül","2014."]
[829,"Egyéb t.","Szék",1,null,"Fa, sötét színű, támlás","2014."]
[830,"Egyéb t.","Asztal",1,null,"Fa, ovális szabdaltszélű, 110 cm X 88,5 cm X 82 cm","2014."]
[831,"Egyéb t.","Terítő",1,null,"Fehér vászon nyomott mintával, 127 cm X 120 cm","2014."]
[832,"Egyéb t.","Terítő",1,null,"Fehér csipke, ovális, 130 cm X 100 cm","2014."]
[833,"Egyéb t.","Váza",2,null,"Fehér porcelán, törött mindkettő, 27 cm magas, 10 cm átmérőjű","2014."]
[834,"Egyéb t.","Harmóniumszék",1,null,"Fa lap, fém láb, 27 cm X 31 cm, rossz menettel","2014."]
[835,"Egyéb t.","Söprű",1,null,"Cirok","2014."]
[836,"Egyéb t.","Szemeteslapát",1,null,"Műanyag","2014."]
[837,"Egyéb t.","Láda",1,null,"Fa, sötétre pácolt, 83 cm X 52 cm X 44 cm","2014."]
[838,"Egyéb t.","Virágtartó",1,null,"Fém háromlábas, 44 cm magas, 28 cm átmérőjű","2014."]
["Gondnoknál"]
["Sor-szám","Besorolás","Megnevezés","Darab","Ár (darabonként)","Megjegyzés"]
[839,"Egyéb t.","Oltárterítő",1,null,"Zöld, selyem kereszttel, szőlővel és kalásszal, 110 cm X 84 cm","2014."]
[840,"Egyéb t.","Szószékterítő",1,null,"Zöld selyem kereszttel, 32 cm X 54 cm","2014."]
[841,"Egyéb t.","Oltárterítő",1,null,"Lila selyem, kereszt koronával és töviskoszorú, 100 cm X 83 cm, megf. Fekete","2014."]
[842,"Egyéb t.","Szószékterítő",1,null,"Lila selyem, kereszttel, 36 cm X 59 cm, megfordítva fekete","2014."]
[843,"Egyéb t.","Oltárterítő",1,null,"Vörös bársony, kehely szőlővel és kalásszal, 189 cm X 65 cm","2014."]
[844,"Egyéb t.","Szószékterítő",1,null,"Vörös bársony, minta nélkül, 36,5 cm X 64 cm","2014."]
[845,"Egyéb t.","Oltárterítő",1,null,"Fehér csipkés vászon, 110 cm X 88 cm","2014."]
[846,"Egyéb t.","Szószékterítő",1,null,"Fehér csipkés vászon, 32 cm X 56 cm","2014."]
[847,"Egyéb t.","Terítő",1,null,"Fehér selyem csipkés szélű, 106 cm X 68 cm","2014."]
[848,"Egyéb t.","Terítő",1,null,"Fehér selyem csipkés szélű, 53 cm X 42 cm","2014."]
[849,"Egyéb t.","Oltárterítő",1,null,"Fehér selyem, minta nélkül, 180 cm X 70cm, 5 cm rojt","2014."]
[850,"Egyéb t.","Oltárterítő",1,null,"Fehér selyem, 187 cm X 81 cm","2014."]
[851,"Egyéb t.","Terítő",1,null,"Biblia alá, fehér vászon csipkével, 40 cm X 51 cm","2014."]
[852,"Egyéb t.","Szószékterítő",1,null,"Fehér vászon csipkés szélű, 46 cm X 73 cm","2014."]
["Potyond - templom"]
["Templom"]
["Sor-szám","Besorolás","Megnevezés","Darab","Ár (darabonként)","Megjegyzés"]
[853,"Ingatlan","Templom",1,6398000,"73/2-es helyrajzi számon, 94 m2 alapterületű, 1872-ben iskolának épült, 1966-ban átépített templommal.","2014."]
[null,"A templom felszerelését képezi a teljes villamos hálózat annak minden szerelvényével együtt, valamint a gáz hálózat annak minden szerelvényével együtt."]
["Templomtér"]
["Sor-szám","Besorolás","Megnevezés","Darab","Ár (darabonként)","Megjegyzés"]
[854,"Értékes t.","Harmónium ",1,150000,"Nincs megnevezés, 8 regiszteres, 95 cm X 52 cm X 106 cm","2014."]
[855,"Egyéb t.","Oltár",1,null,"Bútorlapból, sötétbarna, 130 cm X 61 cm X 94 cm","2014."]
[856,"Egyéb t.","Oltárlap terítő",1,null,"Fehér vászon, riselinezett, 155 cm X 87 cm","2014."]
[857,"Egyéb t.","Váza",2,null,"Üveg, 28 cm magas, 8 cm átmérőjű","2014."]
[858,"Egyéb t.","Gyertyatartó",2,null,"Réz, 26 cm magas","2014."]
[859,"Egyéb t.","Üveglap",2,null,"Gyertyatartók alá, 20 cm X 20 cm","2014."]
[860,"Egyéb t.","Feszület",1,null,"Fa, saját színében lakkozott, fém korpusz, fa talppal, 62,5 cm X 24 cm","2014."]
[861,"Egyéb t.","Kereszt ",1,null,"Oltárkép helyett, fa, saját színében pácolt, 54 cm X 93,5 cm","2014."]
[862,"Egyéb t.","Biblia",1,null,"1931-es kiadás","2014."]
[863,"Egyéb t.","Bibliatartó állvány",1,null,"Fa, eredeti színében lakkozott, 38,5 cm X 33,5 cm X 27 cm","2014."]
[864,"Egyéb t.","Terítő",1,null,"Biblia alatt, Fehér vászon, riselinezett, 47,5 cm X 44 cm","2014."]
[865,"Egyéb t.","Olajkályha",1,null,"Mekalor, 56 cm X 40 cm X 77 cm","2014."]
[866,"Egyéb t.","Kályhacső",2,null,"Egyenes lemezcső, fehérre zománcozva, 67 cm hosszú, 11 cm átmérőjű","2014."]
[867,"Egyéb t.","Kályhacső könyök",2,null,"Fehérre zománcozva, 11 cm átmérőjű","2014."]
[868,"Egyéb t.","Terítő",1,null,"Fehér csipke, 43 cm X 150 cm","2014."]
[869,"Egyéb t.","Terítő",1,null,"Kerek, 18 cm átmérőjű, bordó és zöld mintával, aranyozott széllel.","2014."]
[870,"Egyéb t.","Fogas",1,null,"Fa, sötétre pácolva, 4 akasztóval, 172 cm magas, 30 cm átmérőjű","2014."]
[871,"Egyéb t.","Ambó",1,null,"Fa, sötétre pácolva, 67,5 cm X 23,5 cm X 124 cm, dobogóval","2014."]
[872,"Egyéb t.","Énekeskönyv",1,null,"1982-es kiadás","2014."]
[873,"Egyéb t.","Énekszám tábla",1,null,"Fa, fehérre festett, 24,5 cm X 43,5 cm","2014."]
[874,"Egyéb t.","Énekszám",21,null,"Fa, fehér alapon fekete különböző szám, 5,8 cm X 7,6 cm","2014."]
[875,"Egyéb t.","Stokedli",1,null,"Fa kárpitozott, 37 cm X 37 cm X 48,5 cm","2014."]
[876,"Egyéb t.","Kép kerettel",1,null,"Püspök úr és a vezetőség (3 fő), 26,5 cm X 33 cm","2014."]
[877,"Egyéb t.","Kép kerettel",1,null,"Milleneumi díszoklevél, 43 cm X 32 cm","2014."]
[878,"Egyéb t.","Hőmérő",1,null,"20 cm X 4 cm ","2014."]
[879,"Egyéb t.","Jelkép",1,null,"Drótból hajtott, feketére festett, Kehely, 25,5 cm X 31 cm","2014."]
[880,"Egyéb t.","Jelkép",1,null,"Drótból hajtott, feketére festett, ostya, 9 cm átmérőjű","2014."]
[881,"Egyéb t.","Futószőnyeg",1,null,"Világos alapszínű, 102 cm X 222 cm","2014."]
[882,"Egyéb t.","Futószőnyeg",1,null,"Világos alapszínű, 102 cm X 396 cm","2014."]
[883,"Egyéb t.","Futószőnyeg",1,null,"Világos alapszínű, 100 cm X 150 cm, + rolytok","2014."]
[884,"Egyéb t.","Szék",1,null,"Fa, támlás, műbőrös","2014."]
[885,"Egyéb t.","Stokedli",1,null,"Fa, 32 cm X 32 cm X 45 cm","2014."]
[886,"Egyéb t.","Ülőpárna",40,null,"Zászon huzattal, 35 cm X 34 cm X 2 cm","2014."]
[887,"Egyéb t.","Pad",10,null,"Fém vázon deszka, 179ö cm X 78 cm X 102 cm","2014."]
[888,"Egyéb t.","Háttámla",2,null,"Fa, 160 cm hosszú, 65 cm magas","2014."]
[889,"Egyéb t.","Csillár",1,null,"Fém és porcelán, Kék, 5 égős","2014."]
[890,"Egyéb t.","Csillár",1,null,"Fém és porcelán, Kék, 4 égős","2014."]
[891,"Egyéb t.","Persely",1,null,"Lemezből hajtott, fehérre festett, 17,5 cm X 6 cm X 10 cm","2014."]
[892,"Egyéb t.","Függöny",3,null,"Fehér, 70 cm X 80 cm","2014."]
[893,"Egyéb t.","Váza",1,null,"Üveg aranyozott díszítéssel, 27,5 cm magas, 12,5 cm átmérőjű","2014."]
[894,"Egyéb t.","Feszület",1,null,"Alumínium, 32,5 cm X 15 cm","2014."]
["Torony"]
["Sor-szám","Besorolás","Megnevezés","Darab","Ár (darabonként)","Megjegyzés"]
[895,"Értékes t.","Harang",1,900000,"540 kg","2014."]
[896,"Értékes t.","Harang",1,600000,"410 kg","2014."]
[897,"Egyéb t.","Harangóra",2,null,"Heti kapcsolóóra","2014."]
[898,"Egyéb t.","Seprű",1,null,"Cirok","2014."]
[899,"Egyéb t.","Partvis",1,null,null,"2014."]
[900,"Egyéb t.","Szemeteslapát",1,null,"Műanyag","2014."]
["Gondnoknál"]
["Sor-szám","Besorolás","Megnevezés","Darab","Ár (darabonként)","Megjegyzés"]
[901,"Egyéb t.","Oltárterítő",1,null,"Fehér selyem, Kereszttel, 128 cm X 86 cm","2014."]
[902,"Egyéb t.","Szószékterítő",1,null,"Fehér selyem, kereszttel, 40 cm X 84 cm","2014."]
[903,"Egyéb t.","Oltárterítő",1,null,"Lila selyem, kereszttel, 125 cm X 85 cm","2014."]
[904,"Egyéb t.","Szószékterítő",1,null,"Lila selyem, kereszttel, 39 cm X 80 cm","2014."]
[905,"Egyéb t.","Oltárterítő",1,null,"Zöld selyem kereszttel és szőlő és kalásszal, 136 cm X 88 cm","2014."]
[906,"Egyéb t.","Szószékterítő",1,null,"Zöld selyem kereszttel, 38 cm X 85 cm","2014."]
[907,"Egyéb t.","Oltárterítő",1,null,"Vörös, bársony, galamb lángnyelvekkel, 81 cm X 73 cm","2014."]
[908,"Egyéb t.","Szószékterítő",1,null,"Vörös bársony, kereszttel, 36 cm X 72 cm","2014."]
[909,"Egyéb t.","Kehely",1,null,"Bádog talp, réz felsőrész, 22 cm magas, 8,5 cm átmérőjű","2014."]
[910,"Egyéb t.","Paténa",1,null,"Réz, 14,5 cm átmérőjű","2014."]
[911,"Egyéb t.","Kancsó",1,null,"Üveg, csiszolt, 18,5 cm magas","2014."]
[912,"Egyéb t.","Váza",1,null,"Üveg, 28 cm magas, 8 cm átmérőjű","2014."]
[913,"Egyéb t.","Törlőkendő",1,null,"Fehér vászon, 44cm X 42 cm","2014."]
[914,"Egyéb t.","Terítő",1,null,"Fehér vászon, 54 cm X 57 cm","2014."]
["Gyóró - imaház"]
["Gyülekezeti ház"]
["Sor-szám","Besorolás","Megnevezés","Darab","Ár (darabonként)","Megjegyzés"]
[915,"Ingatlan","Gyülekezeti ház",1,40113000,"278-as helyrajzi számon, 2258 m2 alapterületű, 1912-ben épült az épület.","2014."]
[null,"A gyülekezeti ház felszerelését képezi a teljes villamos hálózat annak minden szerelvényével együtt, valamint a víz hálózat minden szerelvényével együtt."]
["Nagyterem"]
["Sor-szám","Besorolás","Megnevezés","Darab","Ár (darabonként)","Megjegyzés"]
[916,"Értékes t.","Oltár",1,100000,"Régi kisfaludi oltár, fa, fehérre festve, kerítéssel és dobogóval","2014."]
[917,"Értékes t.","Harmónium ",1,150000,"Stowasser J., 9 regiszteres, Gyári szám: 21569","2014."]
[918,"Értékes t.","Szószék",1,50000,"Fa,  1mx0,71mx1,1 m","2015."]
[919,"Egyéb t.","Oltárkép",1,null,"Jézus a kereszten, restaurálásra szorul, 78,5 cm X 61 cm","2014."]
[920,"Egyéb t.","Feszület",1,null,"Ezüstözött réz, 33,5 cm X 15 cm","2014."]
[921,"Egyéb t.","Biblia",1,null,"1948-as kiadás","2014."]
[922,"Egyéb t.","Gyertyatartó",2,null,"Fém, 21 cm magas","2014."]
[923,"Egyéb t.","Váza",2,null,"Üveg, 18,5 cm magas, 8,5 cm átmérőjű","2014."]
[924,"Egyéb t.","Üveglap",2,null,"Gyertyatartók alá, 17 cm X 17 cm","2014."]
[925,"Egyéb t.","Oltárlap terítő",1,null,"Fehér vászon csipkés széllel, 135 cm X 52 cm","2014."]
[926,"Egyéb t.","Oltárterítő",1,null,"Fehér, 150 cm X 110 cm","2014."]
[927,"Egyéb t.","Oltárterítő",1,null,"Zöld bársony, kereszt szőlővel és kalásszal, 138 cm X 73,5 cm","2014."]
[928,"Egyéb t.","Szószékterítő",1,null,"Zöld bársony, kereszttel, 98 cm X 91 cm","2014."]
[929,"Egyéb t.","Oltárterítő",1,null,"Vörös bársony, Szentlélek galambja + 12 lángnyelv, 78 cm X 75 cm","2014."]
[930,"Egyéb t.","Szószékterítő",1,null,"Vörös bársony, kereszttel, 48 cm X 65 cm","2014."]
[931,"Egyéb t.","Térdeplő",1,null,"Vörös kárpittal, 60 cm X 17 cm X 17 cm","2014."]
[932,"Egyéb t.","Énekeskönyv",1,null,"1985-ös kiadás","2014."]
[933,"Egyéb t.","Terítő",1,null,"Fehér selyem, 220 cm X 150 cm","2014."]
[934,"Egyéb t.","Szék",2,null,"Fa, bordó kárpitozott, támlás","2014."]
[935,"Egyéb t.","Szék",1,null,"Fa, 32 cm X 32 cm X 55 cm, támla nélküli harmóniumnál","2014."]
[936,"Egyéb t.","Ülőpárna",1,null,"Színes anyagból, 36 cm X 37 cm","2014."]
[937,"Egyéb t.","Falikar",1,null,null,"2014."]
[938,"Egyéb t.","Igéslap",1,null,"Feketére festett karton, 29,5 cm X 12 cm, falra akasztható","2014."]
[939,"Egyéb t.","Kereszt ",1,null,"Fa, sötétre pácolva, 92,5 cm X 55 cm","2014."]
[940,"Egyéb t.","Persely",1,null,"Fém, 17 cm magas, 10 cm átmérőjű, füles","2014."]
[941,"Egyéb t.","Igéslap",1,null,"Karton, 35 cm X 18 cm, falra akasztható","2014."]
[942,"Egyéb t.","Iskolapad",4,null,"Régi típusú fa, 200 cm X 75 cm, támla nélküli","2014."]
[943,"Egyéb t.","Iskolapad",2,null,"Régi típusú fa, 200 cm X 79 cm, támlás","2014."]
[944,"Egyéb t.","Ülőpárna",6,null,"Színes anyaggal bevonva, 200 cm X 28,5 cm X 2 cm","2014."]
[945,"Egyéb t.","Feszület",1,null,"Fa kereszt, fém korpusz, 48 cm X 24 cm","2014."]
[946,"Egyéb t.","Csillár",2,null,"Öt karú, 2006-ban vásárolt","2014."]
[947,"Egyéb t.","Kép kerettel",1,null,"Krisztus, 35,5 cm X 27 cm","2014."]
[948,"Egyéb t.","Ruhaakasztó",1,null,"Fa, négy fogassal, 80 cm X 10,5 cm","2014."]
[949,"Egyéb t.","Igéslap",1,null,"Karton feketére festve, 36,5 cm X 14 cm, falra akasztható","2014."]
[950,"Egyéb t.","Igéslap",1,null,"Karton feketére festve, 29 cm X 12 cm, falra akasztható","2014."]
[951,"Egyéb t.","Kép",1,null,"Luther Márton, 26 cm X 20 cm","2014."]
[952,"Egyéb t.","Énekszám tábla",1,null,"Fa, 85x25 cm; 6 mezős","2015."]
[953,"Egyéb t.","Énekszámok",55,null,null,"2015."]
[954,"Egyéb t.","Kandalló",1,null,"Fém, szürke 101x55,5x37,5 cm","2015."]
[955,"Egyéb t.","Kályhacső",1,null,"50xØ15 cm","2015."]
[956,"Egyéb t.","Kályhacső",1,null,"75xØ15 cm","2015."]
[957,"Egyéb t.","Kályhacső",1,null,"30xØ15 cm","2015."]
[958,"Egyéb t.","Kályhacső könyök",1,null,"Ø15 cm","2015."]
[959,"Egyéb t.","Szék",4,null,"Támlás, narancssárga bútorszövettel","2015."]
[960,"Egyéb t.","Függöny",4,null,"Fehér, 2x2,35 m","2015."]
[961,"Egyéb t.","Könyv",1,null,"Böröcz Sándor: Egyházfő viharban és árnyékban 1. kötet (2012)","2015."]
[962,"Egyéb t.","Könyv",1,null,"Böröcz Sándor: Kiáltás a mélyből (2005)","2015."]
[963,"Egyéb t.","Könyv",1,null,"Evangélikus Korálkönyv (1994)","2015."]
["Kisterem"]
["Sor-szám","Besorolás","Megnevezés","Darab","Ár (darabonként)","Megjegyzés"]
[964,"Egyéb t.","Térdeplő",2,null,"„L” alakú vörös kárpittal, hosszú oldal 155 cm, rövid 60 cm","2014."]
[965,"Egyéb t.","Énekszámtábla",1,null,"Fa, feketére festve, 52 cm X 24 cm","2014."]
[966,"Egyéb t.","Asztal",1,null,"Fa, 71 cm X 100 cm X 82 cm","2014."]
[967,"Egyéb t.","Asztalterítő",1,null,"Fehér vászon átjukasztott hímzett mintával, 110 cm X 90 cm","2014."]
[968,"Egyéb t.","Pad",1,null,"Fa, 220 cm X 24,5 cm X 50 cm","2014."]
[969,"Egyéb t.","Iskolapad",5,null,"Fém lábakon fa lapokkal, 220 cm X 65 cm X 71 cm","2014."]
[970,"Egyéb t.","Iskolapad",1,null,"Fém lábakon fa lapokkal, 220 cm X 31 cm X 69 cm","2014."]
[971,"Egyéb t.","Ülőpárna",1,null,"200 cm X 28,5 cm X 2 cm, nincs huzata","2014."]
[972,"Egyéb t.","Iskolatábla",1,null,"Fa, feketére festett piros csikozással, 135 cm X 99,5 cm","2014."]
[973,"Egyéb t.","Szekrény",1,null,"Fa kétajtós, polcos, 61 cm X 131 cm X 177 cm, kér fém akasztóval","2014."]
[974,"Egyéb t.","Karácsonyfa égősor  ",1,null,"100 égős","2014."]
[975,"Egyéb t.","Karácsonyfa dísz",1,null,"Csúcsdísz, műanyag arany színű 29 cm-es","2014."]
[976,"Egyéb t.","Karácsonyfa dísz",null,null,"Arany színű boa több darabban összesen 650 cm hosszú","2014."]
[977,"Egyéb t.","Karácsonyfa dísz",2,null,"Ezüst színű boa, 100 cm hosszú","2014."]
[978,"Egyéb t.","Karácsonyfa dísz",2,null,"Kaarácsonyi masni fehér és arany színű","2014."]
[979,"Egyéb t.","Karácsonyfa dísz",8,null,"Ezüst színű, dobozkák és golyók összefűzve","2014."]
[980,"Egyéb t.","Karácsonyfa dísz",2,null,"Két kis haragn masnival, arany","2014."]
[981,"Egyéb t.","Karácsonyfa dísz",4,null,"Két kis haragn masnival, ezüst","2014."]
[982,"Egyéb t.","Karácsonyfa dísz",2,null,"Üveggömb, 6 cm átmérőjű","2014."]
[983,"Egyéb t.","Karácsonyfa dísz",2,null,"Műanyaggömb, 6 cm átmérőjű","2014."]
[984,"Egyéb t.","Karácsonyfa dísz",3,null,"Üveg szőlődísz, 7,5 cm magas","2014."]
[985,"Egyéb t.","Karácsonyfa dísz",3,null,"Műanyag alma dísz, 4 cm ","2014."]
[986,"Egyéb t.","Karácsonyfa dísz",2,null,"Üveggömb, 4 cm átmérőjű","2014."]
[987,"Egyéb t.","Karácsonyfa dísz",1,null,"Csengettyű, 2,5 cm","2014."]
[988,"Egyéb t.","Karácsonyfa dísz",2,null,"Üved gyü,őlcs dísz, 4,5 cm","2014."]
[989,"Egyéb t.","Karácsonyfa dísz",1,null,"Műanyaggömb, 4 cm átmérőjű","2014."]
[990,"Egyéb t.","Oktatótábla",1,null,"Szózat kotta szöveggel, karton, falra akasztható, 96,5 cm X 66 cm","2014."]
[991,"Egyéb t.","Úrvacsorai kancsó",1,null,"Fehér porcelán, fedővel, 19 cm magas","2014."]
[992,"Egyéb t.","Váza",1,null,"Üveg, 19,5 cm magas, 8 cm átmérőjű","2014."]
[993,"Egyéb t.","Ülőpárna",2,null,"Különböző színű anyaggal bevonva, 50 cm X 35 cm","2014."]
[994,"Egyéb t.","Függöny",8,null,"Fehér alapon narancs csíkos régi ablakokra, 80 cm X 82 cm, + rúd","2014."]
[995,"Egyéb t.","Asztal",1,null,"Fa, 77 cm X 101 cm X 79 cm","2014."]
[996,"Egyéb t.","Szék",1,null,"Fa, támlás","2014."]
[997,"Egyéb t.","Gáz hősugárzó",1,null,"CROLLS hordozható, 30 cm X 42 cm X 78 cm","2014."]
[998,"Egyéb t.","PB gázpalack",1,null,null,"2014."]
[999,"Egyéb t.","Oltárterítő",1,null,"Lila, 260 cm X 133 cm, hímzés nélküli","2014."]
[1000,"Egyéb t.","Csillár",1,null,"Öt karú, 2006-ban vásárolt","2014."]
[1001,"Egyéb t.","Falikar",1,null,null,"2014."]
[1002,"Egyéb t.","Ülőpárna",3,null,"Színes anyaggal bevonva, 200 cm X 28,5 cm X 2 cm","2014."]
[1003,"Egyéb t.","Ülőpárna",1,null,"Színes anyaggal bevonva, 40,5 cm X 28 X 2 cm","2014."]
[1004,"Egyéb t.","Szenesvödör",1,null,"Fém, 40 cm X 21 cm X 21,5 cm","2014."]
[1005,"Egyéb t.","Vödör",1,null,"Fém, 28 cm magas, 30 cm átmérőjű","2014."]
[1006,"Egyéb t.","Szeneslapát",1,null,"Fém, fa nyéllel","2014."]
[1007,"Egyéb t.","Szemeteslapát",1,null,"Fém","2014."]
[1008,"Egyéb t.","Lámpabúra",2,null,"Gömb tejüveg, 23 cm átmérőjű","2014."]
[1009,"Egyéb t.","Karácsonyfatalp",1,null,"Fa, kereszt alakú,  59 cm X 59 cm","2014."]
[1010,"Egyéb t.","Kosár",1,null,"Vesszőből font, 25 cm magas, 37 cm átmérőjű","2014."]
[1011,"Egyéb t.","Úrvacsora kehely",1,null,"Réz, 22xØ13/9,5 cm","2015."]
[1012,"Egyéb t.","Ostyatartó",1,null,"Réz, Ø14 cm","2015."]
[1013,"Egyéb t.","Kereszt",1,null,"Fa, világosra pácolva 90x60 cm","2015."]
[1014,"Egyéb t.","Partvis",1,null,null,"2015."]
[1015,"Egyéb t.","Elektr. hősugárzó",1,null,"53x47x20,5 cm","2015."]
["Előtér"]
["Sor-szám","Besorolás","Megnevezés","Darab","Ár (darabonként)","Megjegyzés"]
[1016,"Egyéb t.","Szekrény",1,null,"Fa kétajtós, polcos, 51 cm X 122,5 cm X 200 cm, zöldre festett","2014."]
[1017,"Egyéb t.","Csillár",1,null,"Műanyag félgömb, 35 cm átmérőjű","2014."]
[1018,"Egyéb t.","Szőnyeg",1,null,"Bordó, 1x1,7 m","2015."]
[1019,"Egyéb t.","Szőnyeg",1,null,"Szürke, 1,5x0,9 m","2015."]

{"sheet":"leltár2","index":13,"n_rows":98,"n_cols":28,"rows_kept":98,"cut":false,"hidden":false,"merged":[[1,13,1,15],[1,25,1,27],[72,5,72,7],[10,5,11,5],[31,5,32,5],[40,5,41,5],[50,5,51,5],[60,5,61,5],[1,17,1,19],[0,0,0,3],[1,0,1,3],[0,4,0,5],[0,6,0,7],[0,10,0,11]]}
["A Vadosfai Evangélikus Egyházközség leltára",null,null,null,"biztosítási érték (eFt)",null,"Ingatlan eredeti értéke (Ft)",null,"Felszerelés eredeti értéke (Ft)","Écs%","Tárgyévben értékváltozás",null,null,"Épület értéke","Telek értéke","Felszerelés értéke",null,"Épület értéke","Telek értéke","Felszerelés értéke",null,null,null,null,null,"Épület értéke","Telek értéke","Felszerelés értéke"]
[{"$f":"mnap('Terv-segédlet'!A1,range(\"A:Q\"))","v":"2016. február 28-án (évközi)"},null,null,null,"ingatlan","felszerelés","épület","telek",null,null,"+","-",null,"év végén értékcsökkenés/növelés után",null,null,null,"év végén értékcsökkenés/növelés után",null,null,null,null,null,null,null,"év végén értékcsökkenés/növelés után"]
["Vadosfa",null,null,109240,null,null,null,null,null,null,null,null,null,null,2015,"záró",null,null,2014,"záró",null,null,null,null,null,null,2014,"záró - minta"]
[null,"Templom","84-es helyrajzi számon, 1244 m2 területű, az épület 1912-ben épült templom körül 1912-ben épült beton alapon álló vas kerítés 1 kettős kapuval és 2 kiskapuval. Műemléki törzsszám: 11280.",null,248365,42438]
[null,null,"telek",null,null,null,null,{"$f":"1244*200","v":248800},null,0,null,0,"va-t",null,248800,null,"va-t",null,248800,null,"va-t",null,null,null,null,null,248800]
[null,null,"templom",null,null,null,{"$f":"250000000-H5","v":249751200},null,null,0,null,0,"va-é",249751200,null,null,"va-é",249751200,null,null,"va-é",null,null,null,null,249751200]
[null,"Pad",null,null,null,null,null,null,4000000,0,null,0,"va-f",null,null,4000000,"va-f",null,null,4000000,"va-f",null,null,null,null,null,null,4000000]
[null,"Szószékoltár oltárképpel","1912-ben készítették, az oltárképet 1889-ben kapta a gyülekezet (Ajkay)",null,null,null,null,null,1500000,0,null,0,"va-f",null,null,1500000,"va-f",null,null,1500000,"va-f",null,null,null,null,null,null,1500000]
[null,"Keresztelő medence","Homokkő, 1734-ben készült, 100 cm magas, 60 cm átmérőjű",null,null,null,null,null,200000,0,null,0,"va-f",null,null,200000,"va-f",null,null,200000,"va-f",null,null,null,null,null,null,200000]
[null,"Angster orgona","12 regiszteres, 1913-ban építették, orgona motorral (2000-től) ",null,null,null,null,null,30000000,0.14499999999999999,null,4350000,"va-f",null,null,25650000,"va-f",null,null,30000000,"va-f",null,null,null,null,null,null,30000000]
[null,"Nagy harang","átm 103 cm",580,null,8000,null,null,{"$f":"D11*D69","v":4640000},0.02,null,92800,"va-f",null,null,4547200,"va-f",null,null,4640000,"va-f",null,null,null,null,null,null,4640000]
[null,"Kis harang","átm. 87 cm ",355,null,null,null,null,{"$f":"D12*D69","v":2840000},0.02,null,56800,"va-f",null,null,2783200,"va-f",null,null,2840000,"va-f",null,null,null,null,null,null,2840000]
[null,"Parókia és -","16-os helyrajzi számon 3778 m2 területtel. A parókia 1970-ben épült, a káplán szoba 1886-ban. Az ingatlan körbe drót kerítéssel kerített, illetve az utca fronton beton alapon fém rácsos kerítés egy kettős kapuval és egy bejárati ajtóval.",null,25457,2553]
[null,null,"telek",null,null,null,null,{"$f":"3778*200","v":755600},null,0,null,0,"va-t",null,755600,null,"va-t",null,755600,null,"va-t",null,null,null,null,null,755600]
[null,null,"lelkészlakás",null,null,null,{"$f":"4000000-H14","v":3244400},null,null,0.02,null,64888,"va-é",3179512,null,null,"va-é",3244400,null,null,"va-é",null,null,null,null,3244400]
[null,"káplánszoba",null,null,5901,2042]
[null,null,"\"káplánszoba\"",null,null,null,1500000,null,null,0.02,null,30000,"va-é",1470000,null,null,"va-é",1500000,null,null,"va-é",null,null,null,null,1500000]
[null,null,"garázs",null,null,null,300000,null,null,0.02,null,6000,"va-é",294000,null,null,"va-é",300000,null,null,"va-é",null,null,null,null,300000]
[null,null,"tároló",null,null,null,300000,null,null,0.02,null,6000,"va-é",294000,null,null,"va-é",300000,null,null,"va-é",null,null,null,null,300000]
[null,"Szántó","039/3-as helyrajzi számú, 0,5395 ha területű 14,8 AK",null,null,null,null,281600,null,0,null,0,"va-t",null,281600,null,"va-t",null,281600,null,"va-t",null,null,null,null,null,281600]
[]
["Gyóró",null,null,21260]
[null,"Gyülekezeti ház + lakás","278-as helyrajzi számon, 2258 m2 alapterületű, 1912-ben épült az épület.",null,59507,2541]
[null,null,"telek",null,null,null,null,{"$f":"2258*200","v":451600},null,0,null,0,"gy-t",null,451600,null,"gy-t",null,451600,null,"gy-t",null,null,null,null,null,451600]
[null,null,"épület",null,null,null,{"$f":"9000000-H24","v":8548400},null,null,0.02,null,170968,"gy-é",8377432,null,null,"gy-é",8548400,null,null,"gy-é",null,null,null,null,8548400]
[]
["Kisfalud",null,null,15690]
[null,"Templom","41-es helyrajzi számon, 1618 m2 területű, 1997-ben épített templommal. Harangláb műemléki törzsszám: 3698.",null,35604,6015]
[null,null,"telek",null,null,null,null,{"$f":"1618*300","v":485400},null,0,null,0,"ki-t",null,485400,null,"ki-t",null,485400,null,"ki-t",null,null,null,null,null,485400]
[null,null,"templom",null,null,null,{"$f":"30000000-H29","v":29514600},null,null,0.02,null,590292,"ki-é",28924308,null,null,"ki-é",29514600,null,null,"ki-é",null,null,null,null,29514600]
[null,null,"harangláb",null,null,null,6000000,null,null,0,null,0,"ki-é",6000000,null,null,"ki-é",6000000,null,null,"ki-é",null,null,null,null,6000000]
[null,"Harang","átm. 73 cm. (vas)",185,null,2240,null,null,{"$f":"D32*D69","v":1480000},0.02,null,29600,"ki-f",null,null,1450400,"ki-f",null,null,1480000,"ki-f",null,null,null,null,null,null,1480000]
[null,"Harang","átm. 70 cm (bronz)",180,null,null,null,null,{"$f":"D33*D69","v":1440000},0.02,null,28800,"ki-f",null,null,1411200,"ki-f",null,null,1440000,"ki-f",null,null,null,null,null,null,1440000]
[null,"Szántó","0274-es helyrajzi számon, 0,3381 ha alapterületű 10,58 AK",null,null,null,null,211600,null,0,null,0,"ki-t",null,211600,null,"ki-t",null,211600,null,"ki-t",null,null,null,null,null,211600]
[null,"Szántó","010/1-es helyrajzi számon, 1,0402 ha alapterületű, 27,14 AK",null,null,null,null,543000,null,0,null,0,"ki-t",null,543000,null,"ki-t",null,543000,null,"ki-t",null,null,null,null,null,543000]
[]
["Magyarkeresztúr",null,null,18570]
[null,"Templom","49-es helyrajzi számon, 1166 m2 alapterületű, 1968-ban épült templommal, az épület körül beton alapon vas kerítés egy kettős kapuval.",null,21419,1830]
[null,null,"telek",null,null,null,null,{"$f":"1166*200","v":233200},null,0,null,0,"ma-t",null,233200,null,"ma-t",null,233200,null,"ma-t",null,null,null,null,null,233200]
[null,null,"templom",null,null,null,{"$f":"10000000-H39","v":9766800},null,null,0.02,null,195336,"ma-é",9571464,null,null,"ma-é",9766800,null,null,"ma-é",null,null,null,null,9766800]
[null,"Harang","átm. 68 cm",165,null,2600,null,null,{"$f":"D41*D69","v":1320000},0.02,null,26400,"ma-f",null,null,1293600,"ma-f",null,null,1320000,"ma-f",null,null,null,null,null,null,1320000]
[null,"Harang","átm. 60 cm",115,null,null,null,null,{"$f":"D42*D69","v":920000},0.02,null,18400,"ma-f",null,null,901600,"ma-f",null,null,920000,"ma-f",null,null,null,null,null,null,920000]
[null,"Iskola","168-as helyrajzi számon, 3780 m2 alapterületű, 1910-ben épült iskola és tanítólakással. Igen rossz állapotban.",null,20000]
[null,null,"telek",null,null,null,null,{"$f":"3725*200","v":745000},null,0,null,0,"ma-t",null,745000,null,"ma-t",null,745000,null,"ma-t",null,null,null,null,null,745000]
[null,null,"iskolaépület",null,null,null,{"$f":"10000000-H44","v":9255000},null,null,0.02,null,185100,"ma-é",9069900,null,null,"ma-é",9255000,null,null,"ma-é",null,null,null,null,9255000]
[]
["Mihályi",null,null,26380]
[null,"Templom","238/2-es helyrajzi számon, 1863-ban iskolának épült, 1989-ben alakítottál át templommá",null,41833,3574]
[null,null,"telek",null,null,null,null,{"$f":"477*300","v":143100},null,0,null,0,"mi-t",null,143100,null,"mi-t",null,143100,null,"mi-t",null,null,null,null,null,143100]
[null,null,"templom",null,null,null,{"$f":"30000000-H49","v":29856900},null,null,0.02,null,597138,"mi-é",29259762,null,null,"mi-é",29856900,null,null,"mi-é",null,null,null,null,29856900]
[null,"Harang","Bronz átm. 90 cm ",395,null,2800,null,null,{"$f":"D51*D69","v":3160000},0.02,null,63200,"mi-f",null,null,3096800,"mi-f",null,null,3160000,"mi-f",null,null,null,null,null,null,3160000]
[null,"Harang","Öntöttvas átm. 60 cm",106,null,null,null,null,{"$f":"D52*D69","v":848000},0.02,null,16960,"mi-f",null,null,831040,"mi-f",null,null,848000,"mi-f",null,null,null,null,null,null,848000]
[null,"Lakás","238/1-es helyrajzi számon, 2828 m2 területű, az épület 1883-ban épült, 2002-ben a Széchenyi-Terv keretein belül teljes körű felújítás történt. Az udvar részt drót kerítés veszi körül egy nagy és egy kis kapuval.",null,21080,2042]
[null,null,"telek",null,null,null,null,{"$f":"2828*300","v":848400},null,0,null,0,"mi-t",null,848400,null,"mi-t",null,848400,null,"mi-t",null,null,null,null,null,848400]
[null,null,"lakás",null,null,null,{"$f":"5000000-H54","v":4151600},null,null,0.02,null,83032,"mi-é",4068568,null,null,"mi-é",4151600,null,null,"mi-é",null,null,null,null,4151600]
[]
["Potyond",null,null,6110]
[null,"Templom","73/2-es helyrajzi számon, 80 m2 alapterületű, 1872-ben iskolának épült, 1966-ban átépített templommal.",null,9491,811]
[null,null,"telek",null,null,null,null,{"$f":"80*200","v":16000},null,0,null,0,"po-t",null,16000,null,"po-t",null,16000,null,"po-t",null,null,null,null,null,16000]
[null,null,"templom",null,null,null,{"$f":"6398000-H59","v":6382000},null,null,0.02,null,127640,"po-é",6254360,null,null,"po-é",6382000,null,null,"po-é",null,null,null,null,6382000]
[null,"Harang","540 kg átm. 80 cm",275,null,2200,null,null,{"$f":"D61*D69","v":2200000},0.02,null,44000,"po-f",null,null,2156000,"po-f",null,null,2200000,"po-f",null,null,null,null,null,null,2200000]
[null,"Harang","410 kg átm. 60 cm",115,null,null,null,null,{"$f":"D62*D69","v":920000},0.02,null,18400,"po-f",null,null,901600,"po-f",null,null,920000,"po-f",null,null,null,null,null,null,920000]
[]
["Zsebeháza",null,null,6080]
[null,"Templom","124/1-es helyrajzi számon, 127 m2 alapterülettel, 1951-ben épület templommal.",null,11455,978]
[null,null,"telek",null,null,null,null,{"$f":"127*200","v":25400},null,0,null,0,"zs-t",null,25400,null,"zs-t",null,25400,null,"zs-t",null,null,null,null,null,25400]
[null,null,"templom",null,null,null,{"$f":"8000000-H66","v":7974600},null,null,0.02,null,159492,"zs-é",7815108,null,null,"zs-é",7974600,null,null,"zs-é",null,null,null,null,7974600]
[]
[null,null,"harang pótlási értéke (Ft/kg)",8000,null,null,"*"]
[null,null,"bizosítási díj = biztosítási érték * ",2.7E-4]
[]
[null,null,"harangok értéke maradványérték és nem változik"]
[null,null,null,null,null,{"$f":"O3&\"  záró\"","v":"2015  záró"}]
[null,null,null,null,null,"épület","telek","felszerelés","összesen"]
[null,null,null,"Vadosfa",null,{"$f":"SUMIF($M:$M,\"va-é\",N:N)","v":254988712},{"$f":"SUMIF($M:$M,\"va-t\",O:O)","v":1286000},{"$f":"SUMIF($M:$M,\"va-f\",P:P)","v":38680400}]
[null,null,null,null,"+",{"$f":"SUMIF($M:$M,\"va-é\",$K:$K)","v":0},{"$f":"SUMIF($M:$M,\"va-t\",$K:$K)","v":0},{"$f":"SUMIF($M:$M,\"va-f\",$K:$K)","v":0}]
[null,null,null,null,"-",{"$f":"SUMIF($M:$M,\"va-é\",$L:$L)","v":106888},{"$f":"SUMIF($M:$M,\"va-t\",$L:$L)","v":0},{"$f":"SUMIF($M:$M,\"va-f\",$L:$L)","v":4499600},null,"k206-ba"]
[null,null,null,"Gyóró",null,{"$f":"SUMIF($M:$M,\"gy-é\",N:N)","v":8377432},{"$f":"SUMIF($M:$M,\"gy-t\",O:O)","v":451600},{"$f":"SUMIF($M:$M,\"gy-f\",P:P)","v":0}]
[null,null,null,null,"+",{"$f":"SUMIF($M:$M,\"gy-é\",$K:$K)","v":0},{"$f":"SUMIF($M:$M,\"gy-t\",$K:$K)","v":0},{"$f":"SUMIF($M:$M,\"gy-f\",$K:$K)","v":0}]
[null,null,null,null,"-",{"$f":"SUMIF($M:$M,\"gy-é\",$L:$L)","v":170968},{"$f":"SUMIF($M:$M,\"gy-t\",$L:$L)","v":0},{"$f":"SUMIF($M:$M,\"gy-f\",$L:$L)","v":0}]
[null,null,null,"Kisfalud",null,{"$f":"SUMIF($M:$M,\"ki-é\",N:N)","v":34924308},{"$f":"SUMIF($M:$M,\"ki-t\",O:O)","v":1240000},{"$f":"SUMIF($M:$M,\"ki-f\",P:P)","v":2861600}]
[null,null,null,null,"+",{"$f":"SUMIF($M:$M,\"ki-é\",$K:$K)","v":0},{"$f":"SUMIF($M:$M,\"ki-t\",$K:$K)","v":0},{"$f":"SUMIF($M:$M,\"ki-f\",$K:$K)","v":0}]
[null,null,null,null,"-",{"$f":"SUMIF($M:$M,\"ki-é\",$L:$L)","v":590292},{"$f":"SUMIF($M:$M,\"ki-t\",$L:$L)","v":0},{"$f":"SUMIF($M:$M,\"ki-f\",$L:$L)","v":58400}]
[null,null,null,"Magyarkeresztúr",null,{"$f":"SUMIF($M:$M,\"ma-é\",N:N)","v":18641364},{"$f":"SUMIF($M:$M,\"ma-t\",O:O)","v":978200},{"$f":"SUMIF($M:$M,\"ma-f\",P:P)","v":2195200}]
[null,null,null,null,"+",{"$f":"SUMIF($M:$M,\"ma-é\",$K:$K)","v":0},{"$f":"SUMIF($M:$M,\"ma-t\",$K:$K)","v":0},{"$f":"SUMIF($M:$M,\"ma-f\",$K:$K)","v":0}]
[null,null,null,null,"-",{"$f":"SUMIF($M:$M,\"ma-é\",$L:$L)","v":380436},{"$f":"SUMIF($M:$M,\"ma-t\",$L:$L)","v":0},{"$f":"SUMIF($M:$M,\"ma-f\",$L:$L)","v":44800}]
[null,null,null,"Mihályi",null,{"$f":"SUMIF($M:$M,\"mi-é\",N:N)","v":33328330},{"$f":"SUMIF($M:$M,\"mi-t\",O:O)","v":991500},{"$f":"SUMIF($M:$M,\"mi-f\",P:P)","v":3927840}]
[null,null,null,null,"+",{"$f":"SUMIF($M:$M,\"mi-é\",$K:$K)","v":0},{"$f":"SUMIF($M:$M,\"mi-t\",$K:$K)","v":0},{"$f":"SUMIF($M:$M,\"mi-f\",$K:$K)","v":0}]
[null,null,null,null,"-",{"$f":"SUMIF($M:$M,\"mi-é\",$L:$L)","v":680170},{"$f":"SUMIF($M:$M,\"mi-t\",$L:$L)","v":0},{"$f":"SUMIF($M:$M,\"mi-f\",$L:$L)","v":80160}]
[null,null,null,"Potyond",null,{"$f":"SUMIF($M:$M,\"po-é\",N:N)","v":6254360},{"$f":"SUMIF($M:$M,\"po-t\",O:O)","v":16000},{"$f":"SUMIF($M:$M,\"po-f\",P:P)","v":3057600}]
[null,null,null,null,"+",{"$f":"SUMIF($M:$M,\"po-é\",$K:$K)","v":0},{"$f":"SUMIF($M:$M,\"po-t\",$K:$K)","v":0},{"$f":"SUMIF($M:$M,\"po-f\",$K:$K)","v":0}]
[null,null,null,null,"-",{"$f":"SUMIF($M:$M,\"po-é\",$L:$L)","v":127640},{"$f":"SUMIF($M:$M,\"po-t\",$L:$L)","v":0},{"$f":"SUMIF($M:$M,\"po-f\",$L:$L)","v":62400}]
[null,null,null,"Zsebeháza",null,{"$f":"SUMIF($M:$M,\"zs-é\",N:N)","v":7815108},{"$f":"SUMIF($M:$M,\"zs-t\",O:O)","v":25400},{"$f":"SUMIF($M:$M,\"zs-f\",P:P)","v":0}]
[null,null,null,null,"+",{"$f":"SUMIF($M:$M,\"zs-é\",$K:$K)","v":0},{"$f":"SUMIF($M:$M,\"zs-t\",$K:$K)","v":0},{"$f":"SUMIF($M:$M,\"zs-f\",$K:$K)","v":0}]
[null,null,null,null,"-",{"$f":"SUMIF($M:$M,\"zs-é\",$L:$L)","v":159492},{"$f":"SUMIF($M:$M,\"zs-t\",$L:$L)","v":0},{"$f":"SUMIF($M:$M,\"zs-f\",$L:$L)","v":0}]
[null,null,null,null,null,{"$f":"F75+F78+F81+F84+F87+F90+F93","v":364329614},{"$f":"G75+G78+G81+G84+G87+G90+G93","v":4988700},50722640,{"$f":"SUM(F96:H96)","v":420040954}]
[null,null,null,null,"+",{"$f":"F76+F79+F82+F85+F88+F91+F94","v":0},0,0,{"$f":"SUM(F97:H97)","v":0}]
[null,null,null,null,"-",{"$f":"F77+F80+F83+F86+F89+F92+F95","v":2215886},0,4745360,6961246]

{"sheet":"tranzakciók","index":14,"n_rows":58,"n_cols":10,"rows_kept":58,"cut":false,"hidden":false,"merged":[]}
["Jelleg",null,{"$f":"MID($G$2,D1,F1)","v":"12"},1,2,{"$f":"E1-D1+1","v":2},"mező","hossz","talált","keresett érték"]
["Tranzakció típusa",null,{"$f":"\"(\" & MID($G$2,D2,F2) & \") \" & LOOKUP(MID($G$2,D2,F2),A33:A59,C33:C58)","v":"(0340) Tőke és kamat prolongálás (22)"},3,6,{"$f":"E2-D2+1","v":4},"120340  FZAB-9196       000000000001800HUF                                                                                                                                                                                                                                                                                        5950018633150781                                                                                                                                                                                                                                                                                                                                                                                                                                                      5950018633150781                                5950018633150781            000000000001800201602255950018633150781        HUF                               ",{"$f":"LEN(G2)","v":933},{"$f":"SEARCH(J2,G2)","v":325},"50"]
[null,null,{"$f":"MID($G$2,D3,F3)","v":"  "},7,8,{"$f":"E3-D3+1","v":2}]
["          azonosítója",null,{"$f":"MID($G$2,D4,F4)","v":"FZAB-9196"},9,17,9]
[null,null,{"$f":"MID($G$2,D5,F5)","v":"      "},18,23,6]
["Előjel",null,{"$f":"MID($G$2,D6,F6)","v":" "},24,24,1]
["Összeg",null,{"$f":"VALUE(MID($G$2,D7,F7))/100","v":18},25,39,15]
["Pénznem",null,{"$f":"MID($G$2,D8,F8)","v":"HUF"},40,42,3]
[null,null,"                                                                                                                                            ",43,182,140]
["Átutaló neve",null,"                                                                                                                                            ",183,322,140]
["          számlaszáma",{"$f":"khely(C11)","v":"B/Gy"},{"$f":"MID($G$2,D11,8) & \"-\" & MID($G$2,D11+8,8) & \"-\" & MID($G$2,D11+16,8)","v":"59500186-33150781-        "},323,346,24]
[null,null,"          ",347,356,10]
["Megjegyzés",null,"                                                                                                                                                                                                                                                                                        ",357,636,280]
["Kedvezményezett neve",null,"                                                                ",637,700,64]
[null,null,"                                                                            ",701,776,76]
["          számlaszáma",{"$f":"khely(C16)","v":"B/Gy"},{"$f":"MID($G$2,D16,8) & \"-\" & MID($G$2,D16+8,8) & \"-\" & MID($G$2,D16+16,8)","v":"59500186-33150781-        "},777,800,24]
[null,null,{"$f":"MID($G$2,D17,F17)","v":"          "},801,810,10]
[null,null,"      ",811,816,{"$f":"E18-D18+1","v":6}]
[null,null,"        ",817,824,8]
[null,{"$f":"khely(C20)","v":"B/Gy"},{"$f":"MID($G$2,D20,8) & \"-\" & MID($G$2,D20+8,8) & \"-\" & MID($G$2,D20+16,8)","v":"59500186-33150781-        "},825,848,24]
[null,null,"    ",849,852,4]
[null,null,"000000000001800",853,867,15]
["Dátum +",null,{"$f":"MID($G$2,D23,4) & \".\" & MID($G$2,D23+4,2) & \".\" & MID($G$2,D23+6,2)","v":"2016.02.25"},868,875,8]
[null,null,"5950018633150781        HUF                ",876,918,43]
["Dátum -",null,{"$f":"MID($G$2,D25,4) & \".\" & MID($G$2,D25+4,2) & \".\" & MID($G$2,D25+6,2)","v":"    .  .  "},919,927,9]
["*",null,{"$f":"MID($G$2,D26,F26)","v":"      "},928,933,6]
[]
[]
[]
[]
[]
["Tranzakciós kód",null,"Megnevezés"]
["0001",null,"Pénztári készpénz befizetés"]
["0050",null,"pénztári készpénz kifizetés"]
["0109",null,"Egyedi átutalási megbízás számláról"]
["0118",null,"Csoportos beszedési megbízás"]
["0125",null,"IG2 átutalási megbízás (EB - vállalk.)"]
["0131",null,"IG2 átutalási megbízás (rendszeres)"]
["0210",null,"Átutalás jóváírás"]
["0221"]
["0222",null,"IG2 átutalás fogadása számlára"]
["0263",null,"Csoportos beszedés fogadás (Ugiro non-klíring fogadás számlára)"]
["0310",null,"Részfelmondás lekötött számláról"]
["0313",null,"Betét csökkentés"]
["0324",null,"Lekötött betét felmondásos átvezetés"]
["0340",null,"Tőke és kamat prolongálás (22)"]
["0345",null,"Kamat és tőke átv. folyószámlára (44)"]
["0361",null,"Kamatelszámolás folyószámlán"]
["0705",null,"Késedelmi kamat pénzforg.jutalékra (0705)"]
["1009",null,"Postai utalványon érkezett jóváírás"]
["1052",null,"Jutalék terhelés"]
["1054",null,"Kivonat költség terhelés"]
["1111",null,"Átvezetés lek. számlára fszláról (EB) (1111)"]
["1142",null,"Átvezetés lekötött számlára"]
["1144",null,"Átvezetés ügyfelek pforg. szlai. között"]
["1146",null,"Átvezetés ügyfél számlái között"]
["1174",null,"Átvezetés ügyfelek pforg.szlai között"]
["1176",null,"Átvezetés ügyfél számlái között - EB (1176)"]

{"sheet":"össz","index":15,"n_rows":44,"n_cols":20,"rows_kept":44,"cut":false,"hidden":false,"merged":[]}
[]
["k073","M","k073","MÁS GYÜLEKEZETI HELYISÉGGYÓGYSZEREK KÖLTSÉGE / egyéb gyülekezeti ingatlan gáz és egyéb fűtőanyag költsége (tepmlom, gyülkezeti terem, üzlethelység, stb.)","1.","2016-01-04","PA 3307558","Gázdíj",null,null,null,12178,null,null,null,null,null,null,null,4]
["k166","M","k166","MÁS KÜLÖNFÉLE EGYÉB RÁFORDÍTÁSOK / pl. kerekítés","2.","2016-01-04","PA 3307558","Kerekítés",null,null,null,2,null,null,null,null,null,null,null,5]
["Vp016","V","p016","- LELKÉSZI NYUGDÍJJÁRULÉK / Zelenka Pál Szolidaritási Alapnak átutalt, lelkésztől levont nyugdíjjárulék összege",1,"2016-01-04","Rajkai Tak.Szöv.",".","F/V59500186-11094690","16/01/01-i Nyugdíj jár.. Mihácsi Lajos nyugdíjjár.",null,null,null,19683,"11        5950018611094690        HUFEgyéb szerv. pénzfor59500186 Csornai kirendeltsé2016010420160104          298748600          283710500Vadosfai Evangélikus Egyházk.                     Kossuth utca 13 9346 Vadosfa                                                                                                                                                                                                                                                                                                                                                                                                                                                                                                                                                                                                                                                                                                                                            ","120131  FYXR-9328      -000000001968300HUF                                                                                                                                            Vadosfai Evangélikus Egyházk.                                                                                                               595001861109469000000000          16/01/01-i Nyugdíj jár.. Mihácsi Lajos nyugdíjjár.                                                                                                                                                                                                                                      evangélikus nyugdíjosztály                                                                                                                  117070242050080100000000          NOTPRO        117070242050080100000000                           595001861109469000000000    00000000196830020160104       ","IG2 átutalási megbízás (rendszeres)","Vadosfai Evangélikus Egyházk. / 595001861109469000000000","evangélikus nyugdíjosztály / 117070242050080100000000",4]
["Vk159","V","k159","-FENNTARTÓI NYUGDÍJJÁRULÉK  (ZELENKA PÁL SZA) / Zelenka P. alapba megfizetett fenntartói járulék (gyülekezetet terhelő) összege",2,"2016-01-04","Rajkai Tak.Szöv.",".","F/V59500186-11094690","16/01/01-i Fenntartói Szol.Alap. Fenntartói Szol. Alap VADOSFA",null,null,null,19158,"11        5950018611094690        HUFEgyéb szerv. pénzfor59500186 Csornai kirendeltsé2016010420160104          298748600          283710500Vadosfai Evangélikus Egyházk.                     Kossuth utca 13 9346 Vadosfa                                                                                                                                                                                                                                                                                                                                                                                                                                                                                                                                                                                                                                                                                                                                            ","120131  FYXR-9329      -000000001915800HUF                                                                                                                                            Vadosfai Evangélikus Egyházk.                                                                                                               595001861109469000000000          16/01/01-i Fenntartói Szol.Alap. Fenntartói Szol. Alap VADOSFA                                                                                                                                                                                                                          Magyar Evangélikus Egyház                                                                                                                   117070242050080100000000          NOTPRO        117070242050080100000000                           595001861109469000000000    00000000191580020160104       ","IG2 átutalási megbízás (rendszeres)","Vadosfai Evangélikus Egyházk. / 595001861109469000000000","Magyar Evangélikus Egyház / 117070242050080100000000",5]
["Vk133","V","k133","- LELKÉSZEK ILLETMÉNYE EGYHÁZI SZOLGÁLATÉRT / lelkészi illetmény",3,"2016-01-04","Rajkai Tak.Szöv.",".","F/V59500186-11094690","16/01/01-i Mihácsi Lajos. lelkészi illetmény",null,null,null,111540,"11        5950018611094690        HUFEgyéb szerv. pénzfor59500186 Csornai kirendeltsé2016010420160104          298748600          283710500Vadosfai Evangélikus Egyházk.                     Kossuth utca 13 9346 Vadosfa                                                                                                                                                                                                                                                                                                                                                                                                                                                                                                                                                                                                                                                                                                                                            ","120131  FYXR-9330      -000000011154000HUF                                                                                                                                            Vadosfai Evangélikus Egyházk.                                                                                                               595001861109469000000000          16/01/01-i Mihácsi Lajos. lelkészi illetmény                                                                                                                                                                                                                                            Mihácsi Lajos                                                                                                                               120940020100456300100008          NOTPRO        120940020100456300100008                           595001861109469000000000    00000001115400020160104       ","IG2 átutalási megbízás (rendszeres)","Vadosfai Evangélikus Egyházk. / 595001861109469000000000","Mihácsi Lajos / 120940020100456300100008",6]
["Vk133","V","k133","- LELKÉSZEK ILLETMÉNYE EGYHÁZI SZOLGÁLATÉRT / lelkészi illetmény",null,"2016-01-04","Rajkai Tak.Szöv.",".","F/V59500186-11094690","          Mihácsi Lajos. lelkészi illetmény - ny.jár. átvez.",null,null,null,19683,null,null,null,null,null,7]
["Vp004","V","p004","- LELKÉSZI NYUGDÍJJÁRULÉK / lelkész által befizetett (bevételezett) lelkészi nyugdíjjárulék összege",null,"2016-01-04","Rajkai Tak.Szöv.",".","F/V59500186-11094690","          Mihácsi Lajos. lelkészi illetmény - ny.jár. átvez.",null,null,19683,null,null,null,null,null,null,8]
["Vk071","V","k071","LELKÉSZLAKÁSÉLELMISZEREK KÖLTSÉGE / lelkészlakás gáz és egyéb fűtőanyag költsége",4,"2016-01-05","Rajkai Tak.Szöv.",".","F/V59500186-11094690","A13799047    201512280001012879    UGYFELKOD=110730068",null,null,null,12417,"11        5950018611094690        HUFEgyéb szerv. pénzfor59500186 Csornai kirendeltsé2016010520160105          283710500          282468800Vadosfai Evangélikus Egyházk.                     Kossuth utca 13 9346 Vadosfa                                                                                                                                                                                                                                                                                                                                                                                                                                                                                                                                                                                                                                                                                                                                            ","120118  FYXV-1500      -000000001241700HUF                                                                                                                                                                                                                                                                                        5950018611094690                  A13799047    201512280001012879    UGYFELKOD=110730068                                                                                                                                                                                                                                  GDF SUEZ ENERGIA MAGYARORSZÁG ZR                                                                                                            1173500520451879                  0             1173500520451879                                   5950018611094690            00000000124170020160105       ","Csoportos beszedési megbízás"," / 5950018611094690","GDF SUEZ ENERGIA MAGYARORSZÁG ZR / 1173500520451879",9]
["k054","M","k054","DC) TOVÁBBÍTANDÓ EGYÉB TÁMOGATÁSOKDC) TOVÁBBÍTANDÓ EGYÉB TÁMOGATÁSOK, BEVÉTELEKDC) TOVÁBBÍTANDÓ EGYÉB TÁMOGATÁSOK, BEVÉTELEK / kötelező offertórium, Gusztáv Adolf segély, szupplikáció, továbbítandó egyéb adományok","3.","2016-01-10","BG 455961","Templomépítési offertórium",null,null,10610,null,null,null,null,null,null,null,null,6]
["Kk183","K","k183","CB) TOVÁBBÍTANDÓ EGYÉB TÁMOGATÁSOK, BEVÉTELEK ÁTADÁSAKÖZOKTATÁSI NORMATÍV TÁMOGATÁS VISSZATÉRÍTÉSE / kötelező offertórium, Gusztáv Adolf segély, szupplikáció, továbbítandó egyéb adományok",6,"2016-01-11","Rajkai Tak.Szöv.",".","F/K59500186-11096582","Vadosfa/Kisfalud templomépítési off.",null,null,null,5100,"11        5950018611096582        HUFEgyéb szerv. pénzfor59500186 Csornai kirendeltsé2016011120160111           13451700           12941700Vadosfai Evangélikus Egyházk.                     Kossuth utca 13 9346 Vadosfa                                                                                                                                                                                                                                                                                                                                                                                                                                                                                                                                                                                                                                                                                                                                            ","120125  FYXY-4988      -000000000510000HUF                                                                                                                                            Vadosfai Evangélikus Egyházk.                                                                                                               595001861109658200000000          Vadosfa/Kisfalud templomépítési off.                                                                                                                                                                                                                                                    Soproni Evangélikus Egyházmegye                                                                                                             117370832011710800000000          NOTPRO        117370832011710800000000                           595001861109658200000000    00000000051000020160111       ","IG2 átutalási megbízás (EB - vállalk.)","Vadosfai Evangélikus Egyházk. / 595001861109658200000000","Soproni Evangélikus Egyházmegye / 117370832011710800000000",11]
["Mkk183","Mk","k183","CB) TOVÁBBÍTANDÓ EGYÉB TÁMOGATÁSOK, BEVÉTELEK ÁTADÁSAKÖZOKTATÁSI NORMATÍV TÁMOGATÁS VISSZATÉRÍTÉSE / kötelező offertórium, Gusztáv Adolf segély, szupplikáció, továbbítandó egyéb adományok",5,"2016-01-11","Rajkai Tak.Szöv.",".","F/Mk59500186-11095952","építési offertórium Vadosfa/M+úr",null,null,null,11200,"11        5950018611095952        HUFEgyéb szerv. pénzfor59500186 Csornai kirendeltsé2016011120160111           17326600           16206600Vadosfai Evangélikus Egyházk.                     Kossuth utca 13 9346 Vadosfa                                                                                                                                                                                                                                                                                                                                                                                                                                                                                                                                                                                                                                                                                                                                            ","120125  FYXY-4942      -000000001120000HUF                                                                                                                                            Vadosfai Evangélikus Egyházk.                                                                                                               595001861109595200000000          építési offertórium Vadosfa/M+úr                                                                                                                                                                                                                                                        Soproni Evangélikus Egyházmegye                                                                                                             117370832011710800000000          NOTPRO        117370832011710800000000                           595001861109595200000000    00000000112000020160111       ","IG2 átutalási megbízás (EB - vállalk.)","Vadosfai Evangélikus Egyházk. / 595001861109595200000000","Soproni Evangélikus Egyházmegye / 117370832011710800000000",10]
["Zsk183","Zs","k183","CB) TOVÁBBÍTANDÓ EGYÉB TÁMOGATÁSOK, BEVÉTELEK ÁTADÁSAKÖZOKTATÁSI NORMATÍV TÁMOGATÁS VISSZATÉRÍTÉSE / kötelező offertórium, Gusztáv Adolf segély, szupplikáció, továbbítandó egyéb adományok",7,"2016-01-11","Rajkai Tak.Szöv.",".","F/Zs59500186-11096599","Vadosfa/Zsebeháza templomépítési offertórium",null,null,null,2400,"11        5950018611096599        HUFEgyéb szerv. pénzfor59500186 Csornai kirendeltsé2016011120160111           18855700           18615700Vadosfai Evangélikus Egyházk.                     Kossuth utca 13 9346 Vadosfa                                                                                                                                                                                                                                                                                                                                                                                                                                                                                                                                                                                                                                                                                                                                            ","120125  FYXY-4989      -000000000240000HUF                                                                                                                                            Vadosfai Evangélikus Egyházk.                                                                                                               595001861109659900000000          Vadosfa/Zsebeháza templomépítési offertórium                                                                                                                                                                                                                                            Soproni Evangélikus Egyházmegye                                                                                                             117370832011710800000000          NOTPRO        117370832011710800000000                           595001861109659900000000    00000000024000020160111       ","IG2 átutalási megbízás (EB - vállalk.)","Vadosfai Evangélikus Egyházk. / 595001861109659900000000","Soproni Evangélikus Egyházmegye / 117370832011710800000000",12]
["Mk049","M","k049","-EGYHÁZFENNTARTÓI JÁRULÉK-EGYHÁZFENNTARTÓI JÁRULÉK-EGYHÁZFENNTARTÓI JÁRULÉK / magánszemélyek által ezen a címen teljesítet befizetés",8,"2016-01-12","Rajkai Tak.Szöv.",".","F/M59500186-11095608","Egyházfenntartási hozzá-           járulás",null,null,18000,null,"11        5950018611095608        HUFEgyéb szerv. pénzfor59500186 Csornai kirendeltsé2016011220160112           35815700           36554700Vadosfai Evangélikus Egyházk.                     Kossuth utca 13 9346 Vadosfa                                                                                                                                                                                                                                                                                                                                                                                                                                                                                                                                                                                                                                                                                                                                            ","121174  FYYA-5639       000000001800000HUF                                                                                                                                            Bálint Kálmán                                                                                                                               5950022715282358                  Egyházfenntartási hozzá-           járulás                                                                                                                                                                                                                                                                                                                                                                                          5950018611095608                                5950018611095608            000000001800000201601125950022715282358                                          ","Átvezetés ügyfelek pforg.szlai között","Bálint Kálmán / 5950022715282358"," / 5950018611095608",13]
["Mk183","M","k183","CB) TOVÁBBÍTANDÓ EGYÉB TÁMOGATÁSOK, BEVÉTELEK ÁTADÁSAKÖZOKTATÁSI NORMATÍV TÁMOGATÁS VISSZATÉRÍTÉSE / kötelező offertórium, Gusztáv Adolf segély, szupplikáció, továbbítandó egyéb adományok",9,"2016-01-12","Rajkai Tak.Szöv.",".","F/M59500186-11095608","Templomépítési offertórium Vadosfa/Mihályi leányegyh.",null,null,null,10610,"11        5950018611095608        HUFEgyéb szerv. pénzfor59500186 Csornai kirendeltsé2016011220160112           35815700           36554700Vadosfai Evangélikus Egyházk.                     Kossuth utca 13 9346 Vadosfa                                                                                                                                                                                                                                                                                                                                                                                                                                                                                                                                                                                                                                                                                                                                            ","120125  FYYA-5621      -000000001061000HUF                                                                                                                                            Vadosfai Evangélikus Egyházk.                                                                                                               595001861109560800000000          Templomépítési offertórium Vadosfa/Mihályi leányegyh.                                                                                                                                                                                                                                   Soproni Evangélikus Egyházmegye                                                                                                             117370832011710800000000          NOTPRO        117370832011710800000000                           595001861109560800000000    00000000106100020160112       ","IG2 átutalási megbízás (EB - vállalk.)","Vadosfai Evangélikus Egyházk. / 595001861109560800000000","Soproni Evangélikus Egyházmegye / 117370832011710800000000",14]
["Pk057","P","k057","EGYÉB KAPOTT (JÁRÓ) KAMATOK ÉS KAMATJELLEGŰ BEVÉTELEK / bankszámla, egyéb éven belüli lekötések kamata",10,"2016-01-15","Rajkai Tak.Szöv.",".","B/P59500186-33161925","",null,null,58,null,"11        5950018633161925        HUFVállalk. fix kam. pe59500186 Csornai kirendeltsé2016011520160115            4212700            4218500Vadosfai Evangélikus Egyházk.                     Kossuth utca 13 9346 Vadosfa                                                                                                                                                                                                                                                                                                                                                                                                                                                                                                                                                                                                                                                                                                                                            ","120340  FYYE-9275       000000000005800HUF                                                                                                                                                                                                                                                                                        5950018633161925                                                                                                                                                                                                                                                                                                                                                                                                                                                      5950018633161925                                5950018633161925            000000000005800201601155950018633161925        HUF                               ","Tőke és kamat prolongálás (22)"," / 5950018633161925"," / 5950018633161925",15]
["Mk057","M","k057","EGYÉB KAPOTT (JÁRÓ) KAMATOK ÉS KAMATJELLEGŰ BEVÉTELEK / bankszámla, egyéb éven belüli lekötések kamata",11,"2016-01-16","Rajkai Tak.Szöv.",".","B/M59500186-33217772","",null,null,216,null,"11        5950018633217772        HUFVállalk. fix kam. pe59500186 Csornai kirendeltsé2016011620160116           15564300           15585900Vadosfai Evangélikus Egyházk.                     Kossuth utca 13 9346 Vadosfa                                                                                                                                                                                                                                                                                                                                                                                                                                                                                                                                                                                                                                                                                                                                            ","120340  FYYH-7521       000000000021600HUF                                                                                                                                                                                                                                                                                        5950018633217772                                                                                                                                                                                                                                                                                                                                                                                                                                                      5950018633217772                                5950018633217772            000000000021600201601165950018633217772        HUF                               ","Tőke és kamat prolongálás (22)"," / 5950018633217772"," / 5950018633217772",16]
["Vk057","V","k057","EGYÉB KAPOTT (JÁRÓ) KAMATOK ÉS KAMATJELLEGŰ BEVÉTELEK / bankszámla, egyéb éven belüli lekötések kamata",12,"2016-01-19","Rajkai Tak.Szöv.",".","B/V59500186-33072715","",null,null,2985,null,"11        5950018633072715        HUFVállalk. fix kam. pe59500186 Csornai kirendeltsé2016011920160119          215317900          215616400Vadosfai Evangélikus Egyházk.                     Kossuth utca 13 9346 Vadosfa                                                                                                                                                                                                                                                                                                                                                                                                                                                                                                                                                                                                                                                                                                                                            ","120340  FYYJ-3961       000000000298500HUF                                                                                                                                                                                                                                                                                        5950018633072715                                                                                                                                                                                                                                                                                                                                                                                                                                                      5950018633072715                                5950018633072715            000000000298500201601195950018633072715        HUF                               ","Tőke és kamat prolongálás (22)"," / 5950018633072715"," / 5950018633072715",17]
["Vp007","V","p007","- EGYHÁZKÖZSÉG MÁS RÉSZÉTŐL (TÁRS, LEÁNY) / azonos adószám alatt nyilvántartott anya- vagy leánygyülekezetektől, társgyülekezetektől átvett pénz",13,"2016-01-20","Rajkai Tak.Szöv.",".","F/V59500186-11094690","2015.évi e.h.f.átadás              zsebeháza",null,null,30000,null,"11        5950018611094690        HUFEgyéb szerv. pénzfor59500186 Csornai kirendeltsé2016012020160120          282468800          285468800Vadosfai Evangélikus Egyházk.                     Kossuth utca 13 9346 Vadosfa                                                                                                                                                                                                                                                                                                                                                                                                                                                                                                                                                                                                                                                                                                                                            ","121146  FYYK-7644       000000003000000HUF                                                                                                                                            Vadosfai Evangélikus Egyházk.                                                                                                               5950018611096599                  2015.évi e.h.f.átadás              zsebeháza                                                                                                                                                                                                                                                                                                                                                                                        5950018611094690                                5950018611094690            000000003000000201601205950018611096599                                          ","Átvezetés ügyfél számlái között","Vadosfai Evangélikus Egyházk. / 5950018611096599"," / 5950018611094690",18]
["Zsp019","Zs","p019","- EGYHÁZKÖZSÉG MÁS RÉSZÉNEK (TÁRS, LEÁNY) / azonos adószám alatt nyilvántartott anya- vagy leánygyülekezeteknek, társgyülekezetek átvett pénz",15,"2016-01-20","Rajkai Tak.Szöv.",".","F/Zs59500186-11096599","2015.évi e.h.f.átadás              zsebeháza",null,null,null,30000,"11        5950018611096599        HUFEgyéb szerv. pénzfor59500186 Csornai kirendeltsé2016012020160120           18615700           18615700Vadosfai Evangélikus Egyházk.                     Kossuth utca 13 9346 Vadosfa                                                                                                                                                                                                                                                                                                                                                                                                                                                                                                                                                                                                                                                                                                                                            ","121146  FYYK-7644      -000000003000000HUF                                                                                                                                                                                                                                                                                        5950018611096599                  2015.évi e.h.f.átadás              zsebeháza                                                                                                                                                                                                                                            Vadosfai Evangélikus Egyházk.                                                                                                               5950018611094690                                5950018611094690                                   5950018611096599            00000000300000020160120       ","Átvezetés ügyfél számlái között"," / 5950018611096599","Vadosfai Evangélikus Egyházk. / 5950018611094690",20]
[null,null,null,null,14,"2016-01-20","Rajkai Tak.Szöv.",".","F/Zs59500186-11096599","e.h.f.2015. évi",null,null,30000,null,"11        5950018611096599        HUFEgyéb szerv. pénzfor59500186 Csornai kirendeltsé2016012020160120           18615700           18615700Vadosfai Evangélikus Egyházk.                     Kossuth utca 13 9346 Vadosfa                                                                                                                                                                                                                                                                                                                                                                                                                                                                                                                                                                                                                                                                                                                                            ","120001  FYYK-7617       000000003000000HUF                                                                                                                                                                                                                                                                                        5950018611096599                  e.h.f.2015. évi                                                                                                                                                                                                                                                                                                                                                                                                                     5950018611096599                                5950018611096599            000000003000000201601205950018611096599        HUF                               ","Pénztári készpénz befizetés"," / 5950018611096599"," / 5950018611096599",19]
["Gyk057","Gy","k057","EGYÉB KAPOTT (JÁRÓ) KAMATOK ÉS KAMATJELLEGŰ BEVÉTELEK / bankszámla, egyéb éven belüli lekötések kamata",17,"2016-01-25","Rajkai Tak.Szöv.",".","B/Gy59500186-33150781","",null,null,16,null,"11        5950018633150781        HUFVállalk. fix kam. pe59500186 Csornai kirendeltsé2016012520160125           10346400           10348000Vadosfai Evangélikus Egyházk.                     Kossuth utca 13 9346 Vadosfa                                                                                                                                                                                                                                                                                                                                                                                                                                                                                                                                                                                                                                                                                                                                            ","120340  FYYM-7695       000000000001600HUF                                                                                                                                                                                                                                                                                        5950018633150781                                                                                                                                                                                                                                                                                                                                                                                                                                                      5950018633150781                                5950018633150781            000000000001600201601255950018633150781        HUF                               ","Tőke és kamat prolongálás (22)"," / 5950018633150781"," / 5950018633150781",22]
["k004","M","k004","INGATLAN BÉRBEADÁS ÁRBEVÉTELE / részleges ingatlan bérbeadás (lakás, egyéb ingatlan, földterület, stb.) (nem vállalkozási tevékenység)","4.","2016-01-25","BG 455962","Lakbér 2016.febr.hó",null,null,40000,null,null,null,null,null,null,null,null,7]
["Zsk057","Zs","k057","EGYÉB KAPOTT (JÁRÓ) KAMATOK ÉS KAMATJELLEGŰ BEVÉTELEK / bankszámla, egyéb éven belüli lekötések kamata",16,"2016-01-25","Rajkai Tak.Szöv.",".","B/Zs59500210-33116121","",null,null,553,null,"11        5950021033116121        HUFVállalk. fix kam. pe59500210 Szili Betétgyűjtő P2016012520160125           63365600           63420900Vadosfai Evangélikus Egyházk.                     Kossuth utca 13 9346 Vadosfa                                                                                                                                                                                                                                                                                                                                                                                                                                                                                                                                                                                                                                                                                                                                            ","120340  FYYM-7747       000000000055300HUF                                                                                                                                                                                                                                                                                        5950021033116121                                                                                                                                                                                                                                                                                                                                                                                                                                                      5950021033116121                                5950021033116121            000000000055300201601255950021033116121        HUF                               ","Tőke és kamat prolongálás (22)"," / 5950021033116121"," / 5950021033116121",21]
["Kk057","K","k057","EGYÉB KAPOTT (JÁRÓ) KAMATOK ÉS KAMATJELLEGŰ BEVÉTELEK / bankszámla, egyéb éven belüli lekötések kamata",18,"2016-01-28","Rajkai Tak.Szöv.",".","B/K59500186-33117249","",null,null,324,null,"11        5950018633117249        HUFVállalk. fix kam. pe59500186 Csornai kirendeltsé2016012820160128           36780900           36813300Vadosfai Evangélikus Egyházk.                     Kossuth utca 13 9346 Vadosfa                                                                                                                                                                                                                                                                                                                                                                                                                                                                                                                                                                                                                                                                                                                                            ","120340  FYYP-6527       000000000032400HUF                                                                                                                                                                                                                                                                                        5950018633117249                                                                                                                                                                                                                                                                                                                                                                                                                                                      5950018633117249                                5950018633117249            000000000032400201601285950018633117249        HUF                               ","Tőke és kamat prolongálás (22)"," / 5950018633117249"," / 5950018633117249",23]
["Kk121","K","k121","-PÉNZÜGYI, BEFEKTETÉSI SZOLGÁLTATÁS DÍJA (BANKKTG)TÁVFŰTÉS / bankjutalék, bankköltség, banki kezelési díjak",23,"2016-01-30","Rajkai Tak.Szöv.",".","F/K59500186-11096582","",null,null,null,50,"11        5950018611096582        HUFEgyéb szerv. pénzfor59500186 Csornai kirendeltsé2016013020160130           12941700           12936700Vadosfai Evangélikus Egyházk.                     Kossuth utca 13 9346 Vadosfa                                                                                                                                                                                                                                                                                                                                                                                                                                                                                                                                                                                                                                                                                                                                            ","121052  FYZC-1934      -000000000005000HUF                                                                                                                                                                                                                                                                                        5950018611096582                                                                                                                                                                                                                                                                                                                                                                                                                                                      5950018611096582                                5950018611096582        HUF                        5950018611096582            00000000000500020160130       ","Jutalék terhelés"," / 5950018611096582"," / 5950018611096582",28]
["Mk121","M","k121","-PÉNZÜGYI, BEFEKTETÉSI SZOLGÁLTATÁS DÍJA (BANKKTG)TÁVFŰTÉS / bankjutalék, bankköltség, banki kezelési díjak",21,"2016-01-30","Rajkai Tak.Szöv.",".","F/M59500186-11095608","",null,null,null,50,"11        5950018611095608        HUFEgyéb szerv. pénzfor59500186 Csornai kirendeltsé2016013020160130           36554700           36549700Vadosfai Evangélikus Egyházk.                     Kossuth utca 13 9346 Vadosfa                                                                                                                                                                                                                                                                                                                                                                                                                                                                                                                                                                                                                                                                                                                                            ","121052  FYZC-1930      -000000000005000HUF                                                                                                                                                                                                                                                                                        5950018611095608                                                                                                                                                                                                                                                                                                                                                                                                                                                      5950018611095608                                5950018611095608        HUF                        5950018611095608            00000000000500020160130       ","Jutalék terhelés"," / 5950018611095608"," / 5950018611095608",26]
["Mkk121","Mk","k121","-PÉNZÜGYI, BEFEKTETÉSI SZOLGÁLTATÁS DÍJA (BANKKTG)TÁVFŰTÉS / bankjutalék, bankköltség, banki kezelési díjak",22,"2016-01-30","Rajkai Tak.Szöv.",".","F/Mk59500186-11095952","",null,null,null,50,"11        5950018611095952        HUFEgyéb szerv. pénzfor59500186 Csornai kirendeltsé2016013020160130           16206600           16201600Vadosfai Evangélikus Egyházk.                     Kossuth utca 13 9346 Vadosfa                                                                                                                                                                                                                                                                                                                                                                                                                                                                                                                                                                                                                                                                                                                                            ","121052  FYZC-1931      -000000000005000HUF                                                                                                                                                                                                                                                                                        5950018611095952                                                                                                                                                                                                                                                                                                                                                                                                                                                      5950018611095952                                5950018611095952        HUF                        5950018611095952            00000000000500020160130       ","Jutalék terhelés"," / 5950018611095952"," / 5950018611095952",27]
["Vk121","V","k121","-PÉNZÜGYI, BEFEKTETÉSI SZOLGÁLTATÁS DÍJA (BANKKTG)TÁVFŰTÉS / bankjutalék, bankköltség, banki kezelési díjak",19,"2016-01-30","Rajkai Tak.Szöv.",".","F/V59500186-11094690","",null,null,null,516,"11        5950018611094690        HUFEgyéb szerv. pénzfor59500186 Csornai kirendeltsé2016013020160130          285468800          285412200Vadosfai Evangélikus Egyházk.                     Kossuth utca 13 9346 Vadosfa                                                                                                                                                                                                                                                                                                                                                                                                                                                                                                                                                                                                                                                                                                                                            ","121052  FYZC-1891      -000000000051600HUF                                                                                                                                                                                                                                                                                        5950018611094690                                                                                                                                                                                                                                                                                                                                                                                                                                                      5950018611094690                                5950018611094690        HUF                        5950018611094690            00000000005160020160130       ","Jutalék terhelés"," / 5950018611094690"," / 5950018611094690",24]
["Vk121","V","k121","-PÉNZÜGYI, BEFEKTETÉSI SZOLGÁLTATÁS DÍJA (BANKKTG)TÁVFŰTÉS / bankjutalék, bankköltség, banki kezelési díjak",20,"2016-01-30","Rajkai Tak.Szöv.",".","F/V59500186-11094690","",null,null,null,50,"11        5950018611094690        HUFEgyéb szerv. pénzfor59500186 Csornai kirendeltsé2016013020160130          285468800          285412200Vadosfai Evangélikus Egyházk.                     Kossuth utca 13 9346 Vadosfa                                                                                                                                                                                                                                                                                                                                                                                                                                                                                                                                                                                                                                                                                                                                            ","121054  FYZE-3649      -000000000005000HUF                                                                                                                                                                                                                                                                                        5950018611094690                                                                                                                                                                                                                                                                                                                                                                                                                                                      5950018611094690                                5950018611094690        HUF                        5950018611094690            00000000000500020160130       ","Kivonat költség terhelés"," / 5950018611094690"," / 5950018611094690",25]
["Zsk121","Zs","k121","-PÉNZÜGYI, BEFEKTETÉSI SZOLGÁLTATÁS DÍJA (BANKKTG)TÁVFŰTÉS / bankjutalék, bankköltség, banki kezelési díjak",24,"2016-01-30","Rajkai Tak.Szöv.",".","F/Zs59500186-11096599","",null,null,null,50,"11        5950018611096599        HUFEgyéb szerv. pénzfor59500186 Csornai kirendeltsé2016013020160130           18615700           18610700Vadosfai Evangélikus Egyházk.                     Kossuth utca 13 9346 Vadosfa                                                                                                                                                                                                                                                                                                                                                                                                                                                                                                                                                                                                                                                                                                                                            ","121052  FYZC-1936      -000000000005000HUF                                                                                                                                                                                                                                                                                        5950018611096599                                                                                                                                                                                                                                                                                                                                                                                                                                                      5950018611096599                                5950018611096599        HUF                        5950018611096599            00000000000500020160130       ","Jutalék terhelés"," / 5950018611096599"," / 5950018611096599",29]
["Vk159","V","k159","-FENNTARTÓI NYUGDÍJJÁRULÉK  (ZELENKA PÁL SZA) / Zelenka P. alapba megfizetett fenntartói járulék (gyülekezetet terhelő) összege",25,"2016-02-01","Rajkai Tak.Szöv.",".","F/V59500186-11094690","16/02/01-i Fenntartói Szol.Alap. Fenntartói Szol. Alap VADOSFA",null,null,null,19158,"11        5950018611094690        HUFEgyéb szerv. pénzfor59500186 Csornai kirendeltsé2016020120160201          285412200          270374100Vadosfai Evangélikus Egyházk.                     Kossuth utca 13 9346 Vadosfa                                                                                                                                                                                                                                                                                                                                                                                                                                                                                                                                                                                                                                                                                                                                            ","120131  FYZF-9155      -000000001915800HUF                                                                                                                                            Vadosfai Evangélikus Egyházk.                                                                                                               595001861109469000000000          16/02/01-i Fenntartói Szol.Alap. Fenntartói Szol. Alap VADOSFA                                                                                                                                                                                                                          Magyar Evangélikus Egyház                                                                                                                   117070242050080100000000          NOTPRO        117070242050080100000000                           595001861109469000000000    00000000191580020160201       ","IG2 átutalási megbízás (rendszeres)","Vadosfai Evangélikus Egyházk. / 595001861109469000000000","Magyar Evangélikus Egyház / 117070242050080100000000",30]
["Vk133","V","k133","- LELKÉSZEK ILLETMÉNYE EGYHÁZI SZOLGÁLATÉRT / lelkészi illetmény",26,"2016-02-01","Rajkai Tak.Szöv.",".","F/V59500186-11094690","16/02/01-i Mihácsi Lajos. lelkészi illetmény",null,null,null,111540,"11        5950018611094690        HUFEgyéb szerv. pénzfor59500186 Csornai kirendeltsé2016020120160201          285412200          270374100Vadosfai Evangélikus Egyházk.                     Kossuth utca 13 9346 Vadosfa                                                                                                                                                                                                                                                                                                                                                                                                                                                                                                                                                                                                                                                                                                                                            ","120131  FYZF-9164      -000000011154000HUF                                                                                                                                            Vadosfai Evangélikus Egyházk.                                                                                                               595001861109469000000000          16/02/01-i Mihácsi Lajos. lelkészi illetmény                                                                                                                                                                                                                                            Mihácsi Lajos                                                                                                                               120940020100456300100008          NOTPRO        120940020100456300100008                           595001861109469000000000    00000001115400020160201       ","IG2 átutalási megbízás (rendszeres)","Vadosfai Evangélikus Egyházk. / 595001861109469000000000","Mihácsi Lajos / 120940020100456300100008",31]
["Vp016","V","p016","- LELKÉSZI NYUGDÍJJÁRULÉK / Zelenka Pál Szolidaritási Alapnak átutalt, lelkésztől levont nyugdíjjárulék összege",27,"2016-02-01","Rajkai Tak.Szöv.",".","F/V59500186-11094690","16/02/01-i Nyugdíj jár.. Mihácsi Lajos nyugdíjjár.",null,null,null,19683,"11        5950018611094690        HUFEgyéb szerv. pénzfor59500186 Csornai kirendeltsé2016020120160201          285412200          270374100Vadosfai Evangélikus Egyházk.                     Kossuth utca 13 9346 Vadosfa                                                                                                                                                                                                                                                                                                                                                                                                                                                                                                                                                                                                                                                                                                                                            ","120131  FYZF-9172      -000000001968300HUF                                                                                                                                            Vadosfai Evangélikus Egyházk.                                                                                                               595001861109469000000000          16/02/01-i Nyugdíj jár.. Mihácsi Lajos nyugdíjjár.                                                                                                                                                                                                                                      evangélikus nyugdíjosztály                                                                                                                  117070242050080100000000          NOTPRO        117070242050080100000000                           595001861109469000000000    00000000196830020160201       ","IG2 átutalási megbízás (rendszeres)","Vadosfai Evangélikus Egyházk. / 595001861109469000000000","evangélikus nyugdíjosztály / 117070242050080100000000",32]
["Vk133","V","k133","- LELKÉSZEK ILLETMÉNYE EGYHÁZI SZOLGÁLATÉRT / lelkészi illetmény",null,"2016-02-01","Rajkai Tak.Szöv.","lelkészi ill. bttósítása (ny.jár.)","F/V59500186-11094690",null,null,null,null,19683,null,null,null,null,null,34]
["Vp004","V","p004","- LELKÉSZI NYUGDÍJJÁRULÉK / lelkész által befizetett (bevételezett) lelkészi nyugdíjjárulék összege",null,"2016-02-01","Rajkai Tak.Szöv.","lelkészi ill. ny. jár. Levonása","F/V59500186-11094690",null,null,null,19683,null,null,null,null,null,null,35]
[null,null,null,null,28,"2016-02-01","Rajkai Tak.Szöv.",".","F/V59500186-11094690","A13799047    201601290001037512    110730068",null,null,"x12417",null,"11        5950018611094690        HUFEgyéb szerv. pénzfor59500186 Csornai kirendeltsé2016020120160201          285412200          270374100Vadosfai Evangélikus Egyházk.                     Kossuth utca 13 9346 Vadosfa                                                                                                                                                                                                                                                                                                                                                                                                                                                                                                                                                                                                                                                                                                                                            ","120263  FYZG-0000       000000001241700HUF                                                                                                                                            ENKSZ ÉSZAK-DÉL REGIONÁLIS FÖLDG                                                                                                            1173500520451879                  A13799047    201601290001037512    110730068                                                                                                                                                                                                                                                                                                                                                                                        5950018611094690                  0             5950018611094690        HUF 000000001241700201602011173500520451879                                          ","Csoportos beszedés fogadás (Ugiro non-klíring fogadás számlára)","ENKSZ ÉSZAK-DÉL REGIONÁLIS FÖLDG / 1173500520451879"," / 5950018611094690",33]
["k073","M","k073","MÁS GYÜLEKEZETI HELYISÉGGYÓGYSZEREK KÖLTSÉGE / egyéb gyülekezeti ingatlan gáz és egyéb fűtőanyag költsége (tepmlom, gyülkezeti terem, üzlethelység, stb.)","5.","2016-02-02","PA 3307559","Gázdíj",null,null,null,12177,null,null,null,null,null,null,null,8]
["k166","M","k166","MÁS KÜLÖNFÉLE EGYÉB RÁFORDÍTÁSOK / pl. kerekítés","6.","2016-02-02","PA 3307559","Kerekítés",null,null,null,-2,null,null,null,null,null,null,null,9]
[null,null,null,null,29,"2016-02-03","Rajkai Tak.Szöv.",".","F/V59500186-11094690","A11401429    201602021002000712    100846616",null,null,"x1489",null,"11        5950018611094690        HUFEgyéb szerv. pénzfor59500186 Csornai kirendeltsé2016020320160203          270374100          270374100Vadosfai Evangélikus Egyházk.                     Kossuth utca 13 9346 Vadosfa                                                                                                                                                                                                                                                                                                                                                                                                                                                                                                                                                                                                                                                                                                                                            ","120263  FYZI-5997       000000000148900HUF                                                                                                                                            PANNON-VIZ ZRT. GYOR                                                                                                                        1173700720702876                  A11401429    201602021002000712    100846616                                                                                                                                                                                                                                                                                                                                                                                        5950018611094690                  0             5950018611094690        HUF 000000000148900201602031173700720702876                                          ","Csoportos beszedés fogadás (Ugiro non-klíring fogadás számlára)","PANNON-VIZ ZRT. GYOR / 1173700720702876"," / 5950018611094690",36]
["Vk071","V","k071","LELKÉSZLAKÁSÉLELMISZEREK KÖLTSÉGE / lelkészlakás gáz és egyéb fűtőanyag költsége",30,"2016-02-05","Rajkai Tak.Szöv.",".","F/V59500186-11094690","A13799047    201601290001037512    UGYFELKOD=110730068",null,null,null,12417,"11        5950018611094690        HUFEgyéb szerv. pénzfor59500186 Csornai kirendeltsé2016020520160205          270374100          269132400Vadosfai Evangélikus Egyházk.                     Kossuth utca 13 9346 Vadosfa                                                                                                                                                                                                                                                                                                                                                                                                                                                                                                                                                                                                                                                                                                                                            ","120118  FYZL-9750      -000000001241700HUF                                                                                                                                                                                                                                                                                        5950018611094690                  A13799047    201601290001037512    UGYFELKOD=110730068                                                                                                                                                                                                                                  ENKSZ ÉSZAK-DÉL REGIONÁLIS FÖLDG                                                                                                            1173500520451879                  0             1173500520451879                                   5950018611094690            00000000124170020160205       ","Csoportos beszedési megbízás"," / 5950018611094690","ENKSZ ÉSZAK-DÉL REGIONÁLIS FÖLDG / 1173500520451879",37]
["Mk049","M","k049","-EGYHÁZFENNTARTÓI JÁRULÉK-EGYHÁZFENNTARTÓI JÁRULÉK-EGYHÁZFENNTARTÓI JÁRULÉK / magánszemélyek által ezen a címen teljesítet befizetés",32,"2016-02-08","Rajkai Tak.Szöv.",".","F/M59500186-11095608","Egyházadó Csiszár Károlyné Mihályi",null,null,6000,null,"11        5950018611095608        HUFEgyéb szerv. pénzfor59500186 Csornai kirendeltsé2016020820160208           36549700           37949700Vadosfai Evangélikus Egyházk.                     Kossuth utca 13 9346 Vadosfa                                                                                                                                                                                                                                                                                                                                                                                                                                                                                                                                                                                                                                                                                                                                            ","120222  FYZN-8254       000000000600000HUF                                                                                                                                            Csiszár Károlyné                                                                                                                            589000261001449900000000          Egyházadó Csiszár Károlyné Mihályi                                                                                                                                                                                                                                                      Mihályi Evangélikus Egyház                                                                                                                  595001861109560800000000          NOTPRO        595001861109560800000000    00000000060000020160208589000261001449900000000                                  ","IG2 átutalás fogadása számlára","Csiszár Károlyné / 589000261001449900000000","Mihályi Evangélikus Egyház / 595001861109560800000000",39]
["Mk049","M","k049","-EGYHÁZFENNTARTÓI JÁRULÉK-EGYHÁZFENNTARTÓI JÁRULÉK-EGYHÁZFENNTARTÓI JÁRULÉK / magánszemélyek által ezen a címen teljesítet befizetés",33,"2016-02-08","Rajkai Tak.Szöv.",".","F/M59500186-11095608","Egyházadó Böcskörné Csiszár Anita Mihályi Korona u.20.",null,null,8000,null,"11        5950018611095608        HUFEgyéb szerv. pénzfor59500186 Csornai kirendeltsé2016020820160208           36549700           37949700Vadosfai Evangélikus Egyházk.                     Kossuth utca 13 9346 Vadosfa                                                                                                                                                                                                                                                                                                                                                                                                                                                                                                                                                                                                                                                                                                                                            ","120222  FYZN-8292       000000000800000HUF                                                                                                                                            Csiszár Károlyné                                                                                                                            589000261001449900000000          Egyházadó Böcskörné Csiszár Anita Mihályi Korona u.20.                                                                                                                                                                                                                                  Mihályi Evangélikus Egyház                                                                                                                  595001861109560800000000          NOTPRO        595001861109560800000000    00000000080000020160208589000261001449900000000                                  ","IG2 átutalás fogadása számlára","Csiszár Károlyné / 589000261001449900000000","Mihályi Evangélikus Egyház / 595001861109560800000000",40]
["Vk159","V","k159","-FENNTARTÓI NYUGDÍJJÁRULÉK  (ZELENKA PÁL SZA) / Zelenka P. alapba megfizetett fenntartói járulék (gyülekezetet terhelő) összege",31,"2016-02-08","Rajkai Tak.Szöv.",".","F/V59500186-11094690","Fenntartói szoc.alap.különb fenntartói szoc al.VADOSFA",null,null,null,1917,"11        5950018611094690        HUFEgyéb szerv. pénzfor59500186 Csornai kirendeltsé2016020820160208          269132400          268940700Vadosfai Evangélikus Egyházk.                     Kossuth utca 13 9346 Vadosfa                                                                                                                                                                                                                                                                                                                                                                                                                                                                                                                                                                                                                                                                                                                                            ","120126  FYZN-6708      -000000000191700HUF                                                                                                                                            Vadosfai Evangélikus Egyházk.                                                                                                               595001861109469000000000          Fenntartói szoc.alap.különb fenntartói szoc al.VADOSFA                                                                                                                                                                                                                                  evangélikus nyugdíjosztály                                                                                                                  117070242050080100000000          NOTPRO        117070242050080100000000                           595001861109469000000000    00000000019170020160208       ",null,"Vadosfai Evangélikus Egyházk. / 595001861109469000000000","evangélikus nyugdíjosztály / 117070242050080100000000",38]

{"sheet":"info","index":16,"n_rows":20,"n_cols":3,"rows_kept":20,"cut":false,"hidden":false,"merged":[]}
["bank"]
[]
[]
[]
["Segítség a használathoz"]
[]
[null,null,"Az A7-s cellára (az \"évkezdés\" szövegre) kattintva lehet indítani a funkciót.\nAz új munkafüzetet a jelenlegihez képest eggyel nagyobb évszámmal menti el. A mérlegben levő aktuális záróértékeket átfordítja nyitóértékké, a munkalapokon levő kp.-s ill. banki forgalmat törli. "]
["besorolás","ctrl + y","ha a gyülekezeti munkalapok valamelyikén vagy a \"bank\" munkalapon áll, a billentyűkombináció megnyomására a \"KvZsz\" munkalapon a bevétel/kiadás megfelelő sorára áll, amely szöveget a billentyűkombináció újabb megnyomására visszaírja."]
[null,null,"ha a \"bank\" munkalapon áll, a billentyűkombináció megnyomására a \"mérleg1\" munkalapon az első számlaszámra áll. Az aktuális cella kijelölése módosítható, amely tartalmát a billentyűkombináció újabb megnyomására visszaírja."]
["következő bizonylatszám ","ctrl + b","ha a gyülekezeti munkalapokon áll, a billentyűkombináció megnyomására - ha üres a mező - az előző bizonylat (bevétel/kiadás) eggyel megnövelt sorszámát írja be."]
[]
["új betét felvétele","ctrl + u","Ha a \"bank\" munkalapon az I oszlop aktív - amely tartalmazza a betét azonosítóját B/x[x]nnnnnnnn-nnnnnnnn formában -, a billentyűkombináció megnyomására a \"mérleg1\" munkalapon a legutolsó betét utáni sorba beírja az új betét számát és a szükséges képleteket, ha még nincs olyan azonosítójú betét."]
[]
["bizonylatsorszám ellenőrzése",null,"Ha a \"bizonylatok\" munkalapra lépünk, automatikusan végignézi a bizonylatsorszámok folyamatosságát,"]
[]
["banki forgalom feldolgozása","ctrf + f","1. Ennek a munkafüzetnek nyitva kell lennie!\n2. A Tak.Szöv. Netbankjáról adatokat kérünk le: információkérés/számlakivonat/ - exportálás txt.\n3. Az exportált fájlt megnyitjuk EXCEL fájlként, majd mentjük \"másként\", .xlsm  formátumban (makróbarát EXCEL munkafüzet) és valamelyik celláját kijelöljük.\n4. Megnyitjuk a \"Gazdálkodás...\" munkafüzetet, majd az előbb exportált munkafüzetlapot aktiváljuk.\n5. A Ctrl+f megnyomására a munkafájl (aktív füzetlap) feldolgozásra kerül! Feldolgozás után aut.-n bezáródik az exportált adatokat tartalmazó munkafüzet."]
["tranzakció részletek","ctrl + q","Ha a \"bank\" munkalapon van, megmutatja a tranzakció részleteit.\nEgyébként visszaáll a \"bank\" munkalapra."]
["adatok átemelése",null,"A \"KvZsz\" lapon az átemel gombra kattintva átmásolja az egységes formulában a 3.1.2 és a 3.1.3 fülre az aktuális adatokat."]
[]
["értékcsökkenés",null,"A \"leltár2\" munkalapon az induló értéket csökkenti az ÉCS kulccsal, ill. növeli vagy csökkenti az évközi értékváltozással (csak kézzel indítható az ÉCS szubrutinnal)"]